{"text_format":"1","workbook":"xlsx","n_sheets":6,"sheets":["Tabella ripartizione","DOMESTICO","DOMESTICO_NR","COMMERCIALE","Tariffe","Fasce"],"not_rendered":{"charts":0,"images":0,"macros":1,"external_links":1,"defined_names":2,"comments":0,"pivot_tables":0},"unopened":[],"bounds":{"document_bytes":16777216,"sheet_cells":100000,"rows_first":2000,"rows_last":500,"rows_between":2000,"halvings":0,"cell_chars":16384,"cell_head_chars":4096},"cells_cut":0,"cells_raw":0,"read":"whole","date_system":"1900"}

{"sheet":"Tabella ripartizione","index":0,"n_rows":114,"n_cols":21,"rows_kept":114,"cut":false,"hidden":false,"merged":[[1,9,1,10],[4,9,4,10],[8,2,8,3],[9,2,9,3]]}
[]
[null,null,null,null,null,null,null,null,null,"RIEPILOGO",null,"Tot Unità","Tot €"]
[null,"Data inizio periodo consumo",null,null,null,null,null,null,null,"Totali Unità Domestica RESIDENTE",null,{"$f":"COUNTA(C14:C113)","v":0},{"$f":"SUM(G14:G113)","v":0}]
[null,"Data fine periodo consumo",null,null,null,null,null,null,null,"Totali Unità Domestica NON residente",null,{"$f":"COUNTA(K14:K43)","v":0},{"$f":"SUM(N14:N43)","v":0}]
[null,"Giorni di consumo",{"$f":"IF(C3=0,0,+C4-C3+1)","v":0},null,null,null,null,null,null,"Totali Unità COMMERCIALE",null,{"$f":"COUNTA(R14:R43)","v":0},{"$f":"SUM(U14:U43)","v":0}]
[null,"Fognatura",1,"(0 = esente, 1=assoggettato)",null,null,null,null,null,null,null,"TOTALE",{"$f":"SUM(M3:M5)","v":0}]
[null,"Depurazione",1,"(0 = esente, 1=assoggettato)"]
[]
[null,"Totale bolletta",null,null,"Totale quota diretta","Totale delta","Totale ripartizione"]
[null,"delta da ripartire",{"$f":"+C9-E10","v":0},null,{"$f":"SUM(E14:E113)+SUM(L14:L43)+SUM(S14:S43)","v":0},{"$f":"SUM(F14:F113)+SUM(M14:M43)+SUM(T14:T43)","v":0},{"$f":"SUM(G14:G113)+SUM(N14:N43)+SUM(U14:U43)","v":0}]
[]
[]
[null,"Tabella consumi\nRESIDENTI","Consumo","Residenti","Quota diretta","Riparto delta","Totale ripartito",null,null,"Tabella consumi\nNON RESIDENTI","Consumo","Quota diretta","Riparto delta","Totale ripartito",null,null,"Tabella consumi\nCOMMERCIALE","Consumo","Quota diretta","Riparto delta","Totale ripartito"]
[1,"Unità domestica residente #1",null,null,{"$f":"SUMIF(DOMESTICO!A:A,B14,DOMESTICO!G:G)","v":0},{"$f":"+IF($C$10=0,0,ROUND(E14/$E$10*$C$10,2))","v":0},{"$f":"SUM(E14:F14)","v":0},null,1,"Unità domestica non residente #1",null,{"$f":"SUMIF(DOMESTICO_NR!A:A,J14,DOMESTICO_NR!G:G)","v":0},{"$f":"+IF($C$10=0,0,ROUNDDOWN(L14/$E$10*$C$10,2))","v":0},{"$f":"SUM(L14:M14)","v":0},null,1,"Unità commerciale #1",null,{"$f":"SUMIF(COMMERCIALE!A:A,Q14,COMMERCIALE!G:G)","v":0},{"$f":"+IF($C$10=0,0,ROUNDDOWN(S14/$E$10*$C$10,2))","v":0},{"$f":"SUM(S14:T14)","v":0}]
[{"$f":"+A14+1","v":2},"Unità domestica residente #2",null,null,{"$f":"SUMIF(DOMESTICO!A:A,B15,DOMESTICO!G:G)","v":0},{"$f":"+IF($C$10=0,0,ROUND(E15/$E$10*$C$10,2))","v":0},{"$f":"SUM(E15:F15)","v":0},null,{"$f":"+I14+1","v":2},"Unità domestica non residente #2",null,{"$f":"SUMIF(DOMESTICO_NR!A:A,J15,DOMESTICO_NR!G:G)","v":0},{"$f":"+IF($C$10=0,0,ROUNDDOWN(L15/$E$10*$C$10,2))","v":0},{"$f":"SUM(L15:M15)","v":0},null,{"$f":"+P14+1","v":2},"Unità commerciale #2",null,{"$f":"SUMIF(COMMERCIALE!A:A,Q15,COMMERCIALE!G:G)","v":0},{"$f":"+IF($C$10=0,0,ROUNDDOWN(S15/$E$10*$C$10,2))","v":0},{"$f":"SUM(S15:T15)","v":0}]
[{"$f":"+A15+1","v":3},"Unità domestica residente #3",null,null,{"$f":"SUMIF(DOMESTICO!A:A,B16,DOMESTICO!G:G)","v":0},0,0,null,3,"Unità domestica non residente #3",null,{"$f":"SUMIF(DOMESTICO_NR!A:A,J16,DOMESTICO_NR!G:G)","v":0},0,0,null,3,"Unità commerciale #3",null,{"$f":"SUMIF(COMMERCIALE!A:A,Q16,COMMERCIALE!G:G)","v":0},0,0]
[4,"Unità domestica residente #4",null,null,{"$f":"SUMIF(DOMESTICO!A:A,B17,DOMESTICO!G:G)","v":0},0,0,null,4,"Unità domestica non residente #4",null,{"$f":"SUMIF(DOMESTICO_NR!A:A,J17,DOMESTICO_NR!G:G)","v":0},0,0,null,4,"Unità commerciale #4",null,{"$f":"SUMIF(COMMERCIALE!A:A,Q17,COMMERCIALE!G:G)","v":0},0,0]
[5,"Unità domestica residente #5",null,null,{"$f":"SUMIF(DOMESTICO!A:A,B18,DOMESTICO!G:G)","v":0},0,0,null,5,"Unità domestica non residente #5",null,{"$f":"SUMIF(DOMESTICO_NR!A:A,J18,DOMESTICO_NR!G:G)","v":0},0,0,null,5,"Unità commerciale #5",null,{"$f":"SUMIF(COMMERCIALE!A:A,Q18,COMMERCIALE!G:G)","v":0},0,0]
[6,"Unità domestica residente #6",null,null,{"$f":"SUMIF(DOMESTICO!A:A,B19,DOMESTICO!G:G)","v":0},0,0,null,6,"Unità domestica non residente #6",null,{"$f":"SUMIF(DOMESTICO_NR!A:A,J19,DOMESTICO_NR!G:G)","v":0},0,0,null,6,"Unità commerciale #6",null,{"$f":"SUMIF(COMMERCIALE!A:A,Q19,COMMERCIALE!G:G)","v":0},0,0]
[7,"Unità domestica residente #7",null,null,{"$f":"SUMIF(DOMESTICO!A:A,B20,DOMESTICO!G:G)","v":0},0,0,null,7,"Unità domestica non residente #7",null,{"$f":"SUMIF(DOMESTICO_NR!A:A,J20,DOMESTICO_NR!G:G)","v":0},0,0,null,7,"Unità commerciale #7",null,{"$f":"SUMIF(COMMERCIALE!A:A,Q20,COMMERCIALE!G:G)","v":0},0,0]
[8,"Unità domestica residente #8",null,null,{"$f":"SUMIF(DOMESTICO!A:A,B21,DOMESTICO!G:G)","v":0},0,0,null,8,"Unità domestica non residente #8",null,{"$f":"SUMIF(DOMESTICO_NR!A:A,J21,DOMESTICO_NR!G:G)","v":0},0,0,null,8,"Unità commerciale #8",null,{"$f":"SUMIF(COMMERCIALE!A:A,Q21,COMMERCIALE!G:G)","v":0},0,0]
[9,"Unità domestica residente #9",null,null,{"$f":"SUMIF(DOMESTICO!A:A,B22,DOMESTICO!G:G)","v":0},0,0,null,9,"Unità domestica non residente #9",null,{"$f":"SUMIF(DOMESTICO_NR!A:A,J22,DOMESTICO_NR!G:G)","v":0},0,0,null,9,"Unità commerciale #9",null,{"$f":"SUMIF(COMMERCIALE!A:A,Q22,COMMERCIALE!G:G)","v":0},0,0]
[10,"Unità domestica residente #10",null,null,{"$f":"SUMIF(DOMESTICO!A:A,B23,DOMESTICO!G:G)","v":0},0,0,null,10,"Unità domestica non residente #10",null,{"$f":"SUMIF(DOMESTICO_NR!A:A,J23,DOMESTICO_NR!G:G)","v":0},0,0,null,10,"Unità commerciale #10",null,{"$f":"SUMIF(COMMERCIALE!A:A,Q23,COMMERCIALE!G:G)","v":0},0,0]
[11,"Unità domestica residente #11",null,null,{"$f":"SUMIF(DOMESTICO!A:A,B24,DOMESTICO!G:G)","v":0},0,0,null,11,"Unità domestica non residente #11",null,{"$f":"SUMIF(DOMESTICO_NR!A:A,J24,DOMESTICO_NR!G:G)","v":0},0,0,null,11,"Unità commerciale #11",null,{"$f":"SUMIF(COMMERCIALE!A:A,Q24,COMMERCIALE!G:G)","v":0},0,0]
[12,"Unità domestica residente #12",null,null,{"$f":"SUMIF(DOMESTICO!A:A,B25,DOMESTICO!G:G)","v":0},0,0,null,12,"Unità domestica non residente #12",null,{"$f":"SUMIF(DOMESTICO_NR!A:A,J25,DOMESTICO_NR!G:G)","v":0},0,0,null,12,"Unità commerciale #12",null,{"$f":"SUMIF(COMMERCIALE!A:A,Q25,COMMERCIALE!G:G)","v":0},0,0]
[13,"Unità domestica residente #13",null,null,{"$f":"SUMIF(DOMESTICO!A:A,B26,DOMESTICO!G:G)","v":0},0,0,null,13,"Unità domestica non residente #13",null,{"$f":"SUMIF(DOMESTICO_NR!A:A,J26,DOMESTICO_NR!G:G)","v":0},0,0,null,13,"Unità commerciale #13",null,{"$f":"SUMIF(COMMERCIALE!A:A,Q26,COMMERCIALE!G:G)","v":0},0,0]
[14,"Unità domestica residente #14",null,null,{"$f":"SUMIF(DOMESTICO!A:A,B27,DOMESTICO!G:G)","v":0},0,0,null,14,"Unità domestica non residente #14",null,{"$f":"SUMIF(DOMESTICO_NR!A:A,J27,DOMESTICO_NR!G:G)","v":0},0,0,null,14,"Unità commerciale #14",null,{"$f":"SUMIF(COMMERCIALE!A:A,Q27,COMMERCIALE!G:G)","v":0},0,0]
[15,"Unità domestica residente #15",null,null,{"$f":"SUMIF(DOMESTICO!A:A,B28,DOMESTICO!G:G)","v":0},0,0,null,15,"Unità domestica non residente #15",null,{"$f":"SUMIF(DOMESTICO_NR!A:A,J28,DOMESTICO_NR!G:G)","v":0},0,0,null,15,"Unità commerciale #15",null,{"$f":"SUMIF(COMMERCIALE!A:A,Q28,COMMERCIALE!G:G)","v":0},0,0]
[16,"Unità domestica residente #16",null,null,{"$f":"SUMIF(DOMESTICO!A:A,B29,DOMESTICO!G:G)","v":0},0,0,null,16,"Unità domestica non residente #16",null,{"$f":"SUMIF(DOMESTICO_NR!A:A,J29,DOMESTICO_NR!G:G)","v":0},0,0,null,16,"Unità commerciale #16",null,{"$f":"SUMIF(COMMERCIALE!A:A,Q29,COMMERCIALE!G:G)","v":0},0,0]
[17,"Unità domestica residente #17",null,null,{"$f":"SUMIF(DOMESTICO!A:A,B30,DOMESTICO!G:G)","v":0},0,0,null,17,"Unità domestica non residente #17",null,{"$f":"SUMIF(DOMESTICO_NR!A:A,J30,DOMESTICO_NR!G:G)","v":0},0,{"$f":"SUM(L30:M30)","v":0},null,17,"Unità commerciale #17",null,{"$f":"SUMIF(COMMERCIALE!A:A,Q30,COMMERCIALE!G:G)","v":0},0,0]
[18,"Unità domestica residente #18",null,null,{"$f":"SUMIF(DOMESTICO!A:A,B31,DOMESTICO!G:G)","v":0},0,0,null,18,"Unità domestica non residente #18",null,{"$f":"SUMIF(DOMESTICO_NR!A:A,J31,DOMESTICO_NR!G:G)","v":0},0,0,null,18,"Unità commerciale #18",null,{"$f":"SUMIF(COMMERCIALE!A:A,Q31,COMMERCIALE!G:G)","v":0},0,{"$f":"SUM(S31:T31)","v":0}]
[19,"Unità domestica residente #19",null,null,{"$f":"SUMIF(DOMESTICO!A:A,B32,DOMESTICO!G:G)","v":0},0,0,null,19,"Unità domestica non residente #19",null,{"$f":"SUMIF(DOMESTICO_NR!A:A,J32,DOMESTICO_NR!G:G)","v":0},0,0,null,19,"Unità commerciale #19",null,{"$f":"SUMIF(COMMERCIALE!A:A,Q32,COMMERCIALE!G:G)","v":0},0,0]
[20,"Unità domestica residente #20",null,null,{"$f":"SUMIF(DOMESTICO!A:A,B33,DOMESTICO!G:G)","v":0},0,0,null,20,"Unità domestica non residente #20",null,{"$f":"SUMIF(DOMESTICO_NR!A:A,J33,DOMESTICO_NR!G:G)","v":0},0,0,null,20,"Unità commerciale #20",null,{"$f":"SUMIF(COMMERCIALE!A:A,Q33,COMMERCIALE!G:G)","v":0},0,0]
[21,"Unità domestica residente #21",null,null,{"$f":"SUMIF(DOMESTICO!A:A,B34,DOMESTICO!G:G)","v":0},0,0,null,21,"Unità domestica non residente #21",null,{"$f":"SUMIF(DOMESTICO_NR!A:A,J34,DOMESTICO_NR!G:G)","v":0},0,0,null,21,"Unità commerciale #21",null,{"$f":"SUMIF(COMMERCIALE!A:A,Q34,COMMERCIALE!G:G)","v":0},0,0]
[22,"Unità domestica residente #22",null,null,{"$f":"SUMIF(DOMESTICO!A:A,B35,DOMESTICO!G:G)","v":0},0,0,null,22,"Unità domestica non residente #22",null,{"$f":"SUMIF(DOMESTICO_NR!A:A,J35,DOMESTICO_NR!G:G)","v":0},0,0,null,22,"Unità commerciale #22",null,{"$f":"SUMIF(COMMERCIALE!A:A,Q35,COMMERCIALE!G:G)","v":0},0,0]
[23,"Unità domestica residente #23",null,null,{"$f":"SUMIF(DOMESTICO!A:A,B36,DOMESTICO!G:G)","v":0},0,0,null,23,"Unità domestica non residente #23",null,{"$f":"SUMIF(DOMESTICO_NR!A:A,J36,DOMESTICO_NR!G:G)","v":0},0,0,null,23,"Unità commerciale #23",null,{"$f":"SUMIF(COMMERCIALE!A:A,Q36,COMMERCIALE!G:G)","v":0},0,0]
[24,"Unità domestica residente #24",null,null,{"$f":"SUMIF(DOMESTICO!A:A,B37,DOMESTICO!G:G)","v":0},0,0,null,24,"Unità domestica non residente #24",null,{"$f":"SUMIF(DOMESTICO_NR!A:A,J37,DOMESTICO_NR!G:G)","v":0},0,0,null,24,"Unità commerciale #24",null,{"$f":"SUMIF(COMMERCIALE!A:A,Q37,COMMERCIALE!G:G)","v":0},0,0]
[25,"Unità domestica residente #25",null,null,{"$f":"SUMIF(DOMESTICO!A:A,B38,DOMESTICO!G:G)","v":0},0,0,null,25,"Unità domestica non residente #25",null,{"$f":"SUMIF(DOMESTICO_NR!A:A,J38,DOMESTICO_NR!G:G)","v":0},0,0,null,25,"Unità commerciale #25",null,{"$f":"SUMIF(COMMERCIALE!A:A,Q38,COMMERCIALE!G:G)","v":0},0,0]
[26,"Unità domestica residente #26",null,null,{"$f":"SUMIF(DOMESTICO!A:A,B39,DOMESTICO!G:G)","v":0},0,0,null,26,"Unità domestica non residente #26",null,{"$f":"SUMIF(DOMESTICO_NR!A:A,J39,DOMESTICO_NR!G:G)","v":0},0,{"$f":"SUM(L39:M39)","v":0},null,26,"Unità commerciale #26",null,{"$f":"SUMIF(COMMERCIALE!A:A,Q39,COMMERCIALE!G:G)","v":0},0,0]
[27,"Unità domestica residente #27",null,null,{"$f":"SUMIF(DOMESTICO!A:A,B40,DOMESTICO!G:G)","v":0},0,0,null,27,"Unità domestica non residente #27",null,{"$f":"SUMIF(DOMESTICO_NR!A:A,J40,DOMESTICO_NR!G:G)","v":0},0,{"$f":"SUM(L40:M40)","v":0},null,27,"Unità commerciale #27",null,{"$f":"SUMIF(COMMERCIALE!A:A,Q40,COMMERCIALE!G:G)","v":0},0,{"$f":"SUM(S40:T40)","v":0}]
[28,"Unità domestica residente #28",null,null,{"$f":"SUMIF(DOMESTICO!A:A,B41,DOMESTICO!G:G)","v":0},0,0,null,28,"Unità domestica non residente #28",null,{"$f":"SUMIF(DOMESTICO_NR!A:A,J41,DOMESTICO_NR!G:G)","v":0},0,{"$f":"SUM(L41:M41)","v":0},null,28,"Unità commerciale #28",null,{"$f":"SUMIF(COMMERCIALE!A:A,Q41,COMMERCIALE!G:G)","v":0},0,0]
[29,"Unità domestica residente #29",null,null,{"$f":"SUMIF(DOMESTICO!A:A,B42,DOMESTICO!G:G)","v":0},0,0,null,29,"Unità domestica non residente #29",null,{"$f":"SUMIF(DOMESTICO_NR!A:A,J42,DOMESTICO_NR!G:G)","v":0},0,{"$f":"SUM(L42:M42)","v":0},null,29,"Unità commerciale #29",null,{"$f":"SUMIF(COMMERCIALE!A:A,Q42,COMMERCIALE!G:G)","v":0},0,0]
[30,"Unità domestica residente #30",null,null,{"$f":"SUMIF(DOMESTICO!A:A,B43,DOMESTICO!G:G)","v":0},0,0,null,30,"Unità domestica non residente #30",null,{"$f":"SUMIF(DOMESTICO_NR!A:A,J43,DOMESTICO_NR!G:G)","v":0},0,{"$f":"SUM(L43:M43)","v":0},null,30,"Unità commerciale #30",null,{"$f":"SUMIF(COMMERCIALE!A:A,Q43,COMMERCIALE!G:G)","v":0},0,0]
[31,"Unità domestica residente #31",null,null,{"$f":"SUMIF(DOMESTICO!A:A,B44,DOMESTICO!G:G)","v":0},0,0,null,null,null,null,null,"TOTALE",{"$f":"SUM(N14:N43)","v":0},null,null,null,null,null,"TOTALE",{"$f":"SUM(U14:U43)","v":0}]
[32,"Unità domestica residente #32",null,null,{"$f":"SUMIF(DOMESTICO!A:A,B45,DOMESTICO!G:G)","v":0},0,0]
[33,"Unità domestica residente #33",null,null,{"$f":"SUMIF(DOMESTICO!A:A,B46,DOMESTICO!G:G)","v":0},0,{"$f":"SUM(E46:F46)","v":0}]
[34,"Unità domestica residente #34",null,null,{"$f":"SUMIF(DOMESTICO!A:A,B47,DOMESTICO!G:G)","v":0},0,0]
[35,"Unità domestica residente #35",null,null,{"$f":"SUMIF(DOMESTICO!A:A,B48,DOMESTICO!G:G)","v":0},0,0]
[36,"Unità domestica residente #36",null,null,{"$f":"SUMIF(DOMESTICO!A:A,B49,DOMESTICO!G:G)","v":0},0,0]
[37,"Unità domestica residente #37",null,null,{"$f":"SUMIF(DOMESTICO!A:A,B50,DOMESTICO!G:G)","v":0},0,0]
[38,"Unità domestica residente #38",null,null,{"$f":"SUMIF(DOMESTICO!A:A,B51,DOMESTICO!G:G)","v":0},0,0]
[39,"Unità domestica residente #39",null,null,{"$f":"SUMIF(DOMESTICO!A:A,B52,DOMESTICO!G:G)","v":0},0,0]
[40,"Unità domestica residente #40",null,null,{"$f":"SUMIF(DOMESTICO!A:A,B53,DOMESTICO!G:G)","v":0},0,0]
[41,"Unità domestica residente #41",null,null,{"$f":"SUMIF(DOMESTICO!A:A,B54,DOMESTICO!G:G)","v":0},0,0]
[42,"Unità domestica residente #42",null,null,{"$f":"SUMIF(DOMESTICO!A:A,B55,DOMESTICO!G:G)","v":0},0,0]
[43,"Unità domestica residente #43",null,null,{"$f":"SUMIF(DOMESTICO!A:A,B56,DOMESTICO!G:G)","v":0},0,0]
[44,"Unità domestica residente #44",null,null,{"$f":"SUMIF(DOMESTICO!A:A,B57,DOMESTICO!G:G)","v":0},0,0]
[45,"Unità domestica residente #45",null,null,{"$f":"SUMIF(DOMESTICO!A:A,B58,DOMESTICO!G:G)","v":0},0,0]
[46,"Unità domestica residente #46",null,null,{"$f":"SUMIF(DOMESTICO!A:A,B59,DOMESTICO!G:G)","v":0},0,0]
[47,"Unità domestica residente #47",null,null,{"$f":"SUMIF(DOMESTICO!A:A,B60,DOMESTICO!G:G)","v":0},0,0]
[48,"Unità domestica residente #48",null,null,{"$f":"SUMIF(DOMESTICO!A:A,B61,DOMESTICO!G:G)","v":0},0,0]
[49,"Unità domestica residente #49",null,null,{"$f":"SUMIF(DOMESTICO!A:A,B62,DOMESTICO!G:G)","v":0},0,0]
[50,"Unità domestica residente #50",null,null,{"$f":"SUMIF(DOMESTICO!A:A,B63,DOMESTICO!G:G)","v":0},0,0]
[51,"Unità domestica residente #51",null,null,{"$f":"SUMIF(DOMESTICO!A:A,B64,DOMESTICO!G:G)","v":0},0,0]
[52,"Unità domestica residente #52",null,null,{"$f":"SUMIF(DOMESTICO!A:A,B65,DOMESTICO!G:G)","v":0},0,0]
[53,"Unità domestica residente #53",null,null,{"$f":"SUMIF(DOMESTICO!A:A,B66,DOMESTICO!G:G)","v":0},0,0]
[54,"Unità domestica residente #54",null,null,{"$f":"SUMIF(DOMESTICO!A:A,B67,DOMESTICO!G:G)","v":0},0,0]
[55,"Unità domestica residente #55",null,null,{"$f":"SUMIF(DOMESTICO!A:A,B68,DOMESTICO!G:G)","v":0},0,0]
[56,"Unità domestica residente #56",null,null,{"$f":"SUMIF(DOMESTICO!A:A,B69,DOMESTICO!G:G)","v":0},0,0]
[57,"Unità domestica residente #57",null,null,{"$f":"SUMIF(DOMESTICO!A:A,B70,DOMESTICO!G:G)","v":0},0,0]
[58,"Unità domestica residente #58",null,null,{"$f":"SUMIF(DOMESTICO!A:A,B71,DOMESTICO!G:G)","v":0},0,0]
[59,"Unità domestica residente #59",null,null,{"$f":"SUMIF(DOMESTICO!A:A,B72,DOMESTICO!G:G)","v":0},0,0]
[60,"Unità domestica residente #60",null,null,{"$f":"SUMIF(DOMESTICO!A:A,B73,DOMESTICO!G:G)","v":0},0,0]
[61,"Unità domestica residente #61",null,null,{"$f":"SUMIF(DOMESTICO!A:A,B74,DOMESTICO!G:G)","v":0},0,0]
[62,"Unità domestica residente #62",null,null,{"$f":"SUMIF(DOMESTICO!A:A,B75,DOMESTICO!G:G)","v":0},0,0]
[63,"Unità domestica residente #63",null,null,{"$f":"SUMIF(DOMESTICO!A:A,B76,DOMESTICO!G:G)","v":0},0,0]
[64,"Unità domestica residente #64",null,null,{"$f":"SUMIF(DOMESTICO!A:A,B77,DOMESTICO!G:G)","v":0},0,0]
[65,"Unità domestica residente #65",null,null,{"$f":"SUMIF(DOMESTICO!A:A,B78,DOMESTICO!G:G)","v":0},0,0]
[66,"Unità domestica residente #66",null,null,{"$f":"SUMIF(DOMESTICO!A:A,B79,DOMESTICO!G:G)","v":0},{"$f":"+IF($C$10=0,0,ROUND(E79/$E$10*$C$10,2))","v":0},0]
[{"$f":"+A79+1","v":67},"Unità domestica residente #67",null,null,{"$f":"SUMIF(DOMESTICO!A:A,B80,DOMESTICO!G:G)","v":0},0,0]
[68,"Unità domestica residente #68",null,null,{"$f":"SUMIF(DOMESTICO!A:A,B81,DOMESTICO!G:G)","v":0},0,0]
[69,"Unità domestica residente #69",null,null,{"$f":"SUMIF(DOMESTICO!A:A,B82,DOMESTICO!G:G)","v":0},0,0]
[70,"Unità domestica residente #70",null,null,{"$f":"SUMIF(DOMESTICO!A:A,B83,DOMESTICO!G:G)","v":0},0,0]
[71,"Unità domestica residente #71",null,null,{"$f":"SUMIF(DOMESTICO!A:A,B84,DOMESTICO!G:G)","v":0},0,0]
[72,"Unità domestica residente #72",null,null,{"$f":"SUMIF(DOMESTICO!A:A,B85,DOMESTICO!G:G)","v":0},0,0]
[73,"Unità domestica residente #73",null,null,{"$f":"SUMIF(DOMESTICO!A:A,B86,DOMESTICO!G:G)","v":0},0,0]
[74,"Unità domestica residente #74",null,null,{"$f":"SUMIF(DOMESTICO!A:A,B87,DOMESTICO!G:G)","v":0},0,0]
[75,"Unità domestica residente #75",null,null,{"$f":"SUMIF(DOMESTICO!A:A,B88,DOMESTICO!G:G)","v":0},0,0]
[76,"Unità domestica residente #76",null,null,{"$f":"SUMIF(DOMESTICO!A:A,B89,DOMESTICO!G:G)","v":0},0,0]
[77,"Unità domestica residente #77",null,null,{"$f":"SUMIF(DOMESTICO!A:A,B90,DOMESTICO!G:G)","v":0},0,0]
[78,"Unità domestica residente #78",null,null,{"$f":"SUMIF(DOMESTICO!A:A,B91,DOMESTICO!G:G)","v":0},0,0]
[79,"Unità domestica residente #79",null,null,{"$f":"SUMIF(DOMESTICO!A:A,B92,DOMESTICO!G:G)","v":0},0,0]
[80,"Unità domestica residente #80",null,null,{"$f":"SUMIF(DOMESTICO!A:A,B93,DOMESTICO!G:G)","v":0},0,0]
[81,"Unità domestica residente #81",null,null,{"$f":"SUMIF(DOMESTICO!A:A,B94,DOMESTICO!G:G)","v":0},0,0]
[82,"Unità domestica residente #82",null,null,{"$f":"SUMIF(DOMESTICO!A:A,B95,DOMESTICO!G:G)","v":0},0,{"$f":"SUM(E95:F95)","v":0}]
[83,"Unità domestica residente #83",null,null,{"$f":"SUMIF(DOMESTICO!A:A,B96,DOMESTICO!G:G)","v":0},0,0]
[84,"Unità domestica residente #84",null,null,{"$f":"SUMIF(DOMESTICO!A:A,B97,DOMESTICO!G:G)","v":0},0,0]
[85,"Unità domestica residente #85",null,null,{"$f":"SUMIF(DOMESTICO!A:A,B98,DOMESTICO!G:G)","v":0},0,0]
[86,"Unità domestica residente #86",null,null,{"$f":"SUMIF(DOMESTICO!A:A,B99,DOMESTICO!G:G)","v":0},0,0]
[87,"Unità domestica residente #87",null,null,{"$f":"SUMIF(DOMESTICO!A:A,B100,DOMESTICO!G:G)","v":0},0,0]
[88,"Unità domestica residente #88",null,null,{"$f":"SUMIF(DOMESTICO!A:A,B101,DOMESTICO!G:G)","v":0},0,0]
[89,"Unità domestica residente #89",null,null,{"$f":"SUMIF(DOMESTICO!A:A,B102,DOMESTICO!G:G)","v":0},0,0]
[90,"Unità domestica residente #90",null,null,{"$f":"SUMIF(DOMESTICO!A:A,B103,DOMESTICO!G:G)","v":0},0,0]
[91,"Unità domestica residente #91",null,null,{"$f":"SUMIF(DOMESTICO!A:A,B104,DOMESTICO!G:G)","v":0},0,0]
[92,"Unità domestica residente #92",null,null,{"$f":"SUMIF(DOMESTICO!A:A,B105,DOMESTICO!G:G)","v":0},0,0]
[93,"Unità domestica residente #93",null,null,{"$f":"SUMIF(DOMESTICO!A:A,B106,DOMESTICO!G:G)","v":0},0,0]
[94,"Unità domestica residente #94",null,null,{"$f":"SUMIF(DOMESTICO!A:A,B107,DOMESTICO!G:G)","v":0},0,0]
[95,"Unità domestica residente #95",null,null,{"$f":"SUMIF(DOMESTICO!A:A,B108,DOMESTICO!G:G)","v":0},0,0]
[96,"Unità domestica residente #96",null,null,{"$f":"SUMIF(DOMESTICO!A:A,B109,DOMESTICO!G:G)","v":0},0,0]
[97,"Unità domestica residente #97",null,null,{"$f":"SUMIF(DOMESTICO!A:A,B110,DOMESTICO!G:G)","v":0},0,0]
[98,"Unità domestica residente #98",null,null,{"$f":"SUMIF(DOMESTICO!A:A,B111,DOMESTICO!G:G)","v":0},0,0]
[99,"Unità domestica residente #99",null,null,{"$f":"SUMIF(DOMESTICO!A:A,B112,DOMESTICO!G:G)","v":0},0,0]
[100,"Unità domestica residente #100",null,null,{"$f":"SUMIF(DOMESTICO!A:A,B113,DOMESTICO!G:G)","v":0},0,0]
[null,null,null,null,null,"TOTALE",{"$f":"SUM(G14:G113)","v":0}]

{"sheet":"DOMESTICO","index":1,"n_rows":2498,"n_cols":17,"rows_kept":2498,"cut":false,"hidden":true,"merged":[[1,0,1,5],[10,0,10,15],[11,0,22,0],[11,1,11,2],[11,3,11,4],[11,6,11,8],[11,9,11,11],[11,12,11,14]]}
[1,null,null,null,null,null,"Impoto"]
["Unità domestica residente #1",null,null,null,null,null,{"$f":"+P23","v":0}]
["Data inizio periodo consumo",null,null,null,null,{"$f":"+'Tabella ripartizione'!$C$3","v":"00:00:00"}]
["Data fine periodo consumo",null,null,null,null,{"$f":"+'Tabella ripartizione'!$C$4","v":"00:00:00"}]
["Giorni di consumo",null,null,null,null,{"$f":"+F4-F3+1","v":1}]
["Fognatura",null,null,null,null,{"$f":"+'Tabella ripartizione'!$C$6","v":1},"(0 = esente, 1=assoggettato)"]
["Depurazione",null,null,null,null,{"$f":"+'Tabella ripartizione'!$C$7","v":1},"(0 = esente, 1=assoggettato)"]
["Consumo misurato",null,null,null,null,{"$f":"SUMIF('Tabella ripartizione'!$B:$B,A2,'Tabella ripartizione'!$C:$C)","v":0},null,null,{"$f":"+Tariffe!A3","v":0.29307795019999999},{"$f":"+Tariffe!B12","v":0.1348429656}]
["Numero di componenti nucleo familiare",null,null,null,null,{"$f":"SUMIF('Tabella ripartizione'!$B:$B,A2,'Tabella ripartizione'!$D:$D)","v":0},null,null,{"$f":"+I8*F14","v":0},{"$f":"+J8*E14","v":0}]
[]
["Tariffe TICSI 2022"]
["Domestico Residente","Fasce anno (m3)",null,"Fasce pro-die (m3)",null,"mc riarticolati","Importi servizio",null,null,"Importi Quota fissa",null,null,"Importi perequazione"]
[null,"da","a","da","a",{"$f":"+F18+F17+F16+F15+F14","v":0},"Acqua","Fogna","Depurazione","Acqua","Fogna","Depurazione","Acqua","Fogna","Depurazione","Totali"]
[null,0,{"$f":"IF(F8=0,0,VLOOKUP(F9,Fasce!A:B,2,FALSE))","v":0},0,{"$f":"+ROUND(C14/365*F5,0)","v":0},{"$f":"+IF(F8>=E14,E14,F8)","v":0},{"$f":"+Tariffe!$A$3*F14","v":0},{"$f":"+Tariffe!$B$3*F14*$F$6","v":0},{"$f":"+Tariffe!$C$3*F14*$F$7","v":0},null,null,null,null,null,null,{"$f":"+ROUND((G14+H14+I14),2)","v":0}]
[null,{"$f":"+C14+1","v":1},{"$f":"IF(F8=0,0,VLOOKUP(F9,Fasce!A:C,3,FALSE))","v":0},{"$f":"+E14","v":0},{"$f":"+ROUND(C15/365*F5,0)","v":0},{"$f":"+IF(F8>=E15,E15-E14,IF(F8>=E14,F8-E14,IF(F8<E14,0)))","v":0},{"$f":"+Tariffe!$A$4*F15","v":0},{"$f":"+Tariffe!$B$3*F15*$F$6","v":0},{"$f":"+Tariffe!$C$3*F15*$F$7","v":0},null,null,null,null,null,null,{"$f":"+ROUND((G15+H15+I15),2)","v":0}]
[null,{"$f":"+C15+1","v":1},{"$f":"IF(F8=0,0,VLOOKUP(F9,Fasce!A:D,4,FALSE))","v":0},{"$f":"+E15","v":0},{"$f":"+ROUND(C16/365*F5,0)","v":0},{"$f":"+IF(F8>=E16,E16-E15,IF(F8>=E15,F8-E15,IF(F8<E15,0)))","v":0},{"$f":"+Tariffe!$A$5*F16","v":0},{"$f":"+Tariffe!$B$3*F16*$F$6","v":0},{"$f":"+Tariffe!$C$3*F16*$F$7","v":0},null,null,null,null,null,null,0]
[null,{"$f":"+C16+1","v":1},{"$f":"IF(F8=0,0,VLOOKUP(F9,Fasce!A:E,5,FALSE))","v":0},{"$f":"+E16","v":0},{"$f":"+ROUND(C17/365*F5,0)","v":0},{"$f":"+IF(F8>=E17,E17-E16,IF(F8>=E16,F8-E16,IF(F8<E16,0)))","v":0},{"$f":"+Tariffe!$A$6*F17","v":0},{"$f":"+Tariffe!$B$3*F17*$F$6","v":0},{"$f":"+Tariffe!$C$3*F17*$F$7","v":0},null,null,null,null,null,null,0]
[null,{"$f":"+C17+1","v":1},999999,{"$f":"+E17","v":0},999999,{"$f":"+IF(F8>=E18,E18-E17,IF(F8>=E17,F8-E17,IF(F8<E17,0,F8-E17)))","v":0},{"$f":"+Tariffe!$A$7*F18","v":0},{"$f":"+Tariffe!$B$3*F18*$F$6","v":0},{"$f":"+Tariffe!$C$3*F18*$F$7","v":0},null,null,null,null,null,null,0]
[null,null,null,null,null,null,null,null,null,{"$f":"+IF(A1>'Tabella ripartizione'!$L$3,0,Tariffe!$E$3*F5/365)","v":0},{"$f":"+IF(A1>'Tabella ripartizione'!$L$3,0,Tariffe!$F$3*F5/365*F6)","v":0},{"$f":"+IF(A1>'Tabella ripartizione'!$L$3,0,Tariffe!$G$3*F5/365*F7)","v":0},null,null,null,{"$f":"+ROUND(J19+K19+L19,2)","v":0}]
[null,null,null,null,null,null,null,null,null,null,null,null,{"$f":"+(Tariffe!$I$3+Tariffe!$J$3+Tariffe!$K$3+Tariffe!$L$3+Tariffe!$M$3)*F8","v":0},{"$f":"+(Tariffe!$I$3+Tariffe!$J$3+Tariffe!$K$3+Tariffe!$L$3+Tariffe!$M$3)*F8*F6","v":0},{"$f":"+(Tariffe!$I$3+Tariffe!$J$3+Tariffe!$K$3+Tariffe!$L$3+Tariffe!$M$3)*F8*F7","v":0},{"$f":"+ROUND(M20+N20+O20,2)","v":0}]
[null,null,null,null,null,null,null,null,null,null,null,null,null,null,null,{"$f":"SUM(P14:P20)","v":0},"Imponibile"]
[null,null,null,null,null,null,null,null,null,null,null,null,null,null,null,{"$f":"+ROUND(P21*0.1,2)","v":0},"IVA (10%)"]
[null,null,null,null,null,null,null,null,null,null,null,null,null,null,null,{"$f":"+P22+P21","v":0},"Totale corrispettivi"]
[]
[]
[{"$f":"+A1+1","v":2},null,null,null,null,null,"Impoto"]
[{"$f":"CONCATENATE(\"Unità domestica residente #\",A26)","v":"Unità domestica residente #2"},null,null,null,null,null,{"$f":"+P48","v":0}]
["Data inizio periodo consumo",null,null,null,null,{"$f":"+'Tabella ripartizione'!$C$3","v":"00:00:00"}]
["Data fine periodo consumo",null,null,null,null,{"$f":"+'Tabella ripartizione'!$C$4","v":"00:00:00"}]
["Giorni di consumo",null,null,null,null,{"$f":"+F29-F28+1","v":1}]
["Fognatura",null,null,null,null,{"$f":"+'Tabella ripartizione'!$C$6","v":1},"(0 = esente, 1=assoggettato)"]
["Depurazione",null,null,null,null,{"$f":"+'Tabella ripartizione'!$C$7","v":1},"(0 = esente, 1=assoggettato)"]
["Consumo misurato",null,null,null,null,{"$f":"SUMIF('Tabella ripartizione'!$B:$B,A27,'Tabella ripartizione'!$C:$C)","v":0}]
["Numero di componenti nucleo familiare",null,null,null,null,{"$f":"SUMIF('Tabella ripartizione'!$B:$B,A27,'Tabella ripartizione'!$D:$D)","v":0}]
[]
["Tariffe TICSI 2022"]
["Domestico Residente","Fasce anno (m3)",null,"Fasce pro-die (m3)",null,"mc riarticolati","Importi servizio",null,null,"Importi Quota fissa",null,null,"Importi perequazione"]
[null,"da","a","da","a",{"$f":"+F43+F42+F41+F40+F39","v":0},"Acqua","Fogna","Depurazione","Acqua","Fogna","Depurazione","Acqua","Fogna","Depurazione","Totali"]
[null,0,{"$f":"IF(F33=0,0,VLOOKUP(F34,Fasce!A:B,2,FALSE))","v":0},0,{"$f":"+ROUND(C39/365*F30,0)","v":0},{"$f":"+IF(F33>=E39,E39,F33)","v":0},{"$f":"+Tariffe!$A$3*F39","v":0},{"$f":"+Tariffe!$B$3*F39*$F$6","v":0},{"$f":"+Tariffe!$C$3*F39*$F$7","v":0},null,null,null,null,null,null,{"$f":"+ROUND((G39+H39+I39),2)","v":0}]
[null,{"$f":"+C39+1","v":1},{"$f":"IF(F33=0,0,VLOOKUP(F34,Fasce!A:C,3,FALSE))","v":0},{"$f":"+E39","v":0},{"$f":"+ROUND(C40/365*F30,0)","v":0},{"$f":"+IF(F33>=E40,E40-E39,IF(F33>=E39,F33-E39,IF(F33<E39,0)))","v":0},{"$f":"+Tariffe!$A$4*F40","v":0},{"$f":"+Tariffe!$B$3*F40*$F$6","v":0},{"$f":"+Tariffe!$C$3*F40*$F$7","v":0},null,null,null,null,null,null,{"$f":"+ROUND((G40+H40+I40),2)","v":0}]
[null,{"$f":"+C40+1","v":1},{"$f":"IF(F33=0,0,VLOOKUP(F34,Fasce!A:D,4,FALSE))","v":0},{"$f":"+E40","v":0},{"$f":"+ROUND(C41/365*F30,0)","v":0},{"$f":"+IF(F33>=E41,E41-E40,IF(F33>=E40,F33-E40,IF(F33<E40,0)))","v":0},{"$f":"+Tariffe!$A$5*F41","v":0},{"$f":"+Tariffe!$B$3*F41*$F$6","v":0},{"$f":"+Tariffe!$C$3*F41*$F$7","v":0},null,null,null,null,null,null,0]
[null,{"$f":"+C41+1","v":1},{"$f":"IF(F33=0,0,VLOOKUP(F34,Fasce!A:E,5,FALSE))","v":0},{"$f":"+E41","v":0},{"$f":"+ROUND(C42/365*F30,0)","v":0},{"$f":"+IF(F33>=E42,E42-E41,IF(F33>=E41,F33-E41,IF(F33<E41,0)))","v":0},{"$f":"+Tariffe!$A$6*F42","v":0},{"$f":"+Tariffe!$B$3*F42*$F$6","v":0},{"$f":"+Tariffe!$C$3*F42*$F$7","v":0},null,null,null,null,null,null,0]
[null,{"$f":"+C42+1","v":1},999999,{"$f":"+E42","v":0},999999,{"$f":"+IF(F33>=E43,E43-E42,IF(F33>=E42,F33-E42,IF(F33<E42,0,F33-E42)))","v":0},{"$f":"+Tariffe!$A$7*F43","v":0},{"$f":"+Tariffe!$B$3*F43*$F$6","v":0},{"$f":"+Tariffe!$C$3*F43*$F$7","v":0},null,null,null,null,null,null,0]
[null,null,null,null,null,null,null,null,null,{"$f":"+IF(A26>'Tabella ripartizione'!$L$3,0,Tariffe!$E$3*F30/365)","v":0},{"$f":"+IF(A26>'Tabella ripartizione'!$L$3,0,Tariffe!$F$3*F30/365*F31)","v":0},{"$f":"+IF(A26>'Tabella ripartizione'!$L$3,0,Tariffe!$G$3*F30/365*F32)","v":0},null,null,null,{"$f":"+ROUND(J44+K44+L44,2)","v":0}]
[null,null,null,null,null,null,null,null,null,null,null,null,{"$f":"+(Tariffe!$I$3+Tariffe!$J$3+Tariffe!$K$3+Tariffe!$L$3+Tariffe!$M$3)*F33","v":0},{"$f":"+(Tariffe!$I$3+Tariffe!$J$3+Tariffe!$K$3+Tariffe!$L$3+Tariffe!$M$3)*F33*F31","v":0},{"$f":"+(Tariffe!$I$3+Tariffe!$J$3+Tariffe!$K$3+Tariffe!$L$3+Tariffe!$M$3)*F33*F32","v":0},{"$f":"+ROUND(M45+N45+O45,2)","v":0}]
[null,null,null,null,null,null,null,null,null,null,null,null,null,null,null,{"$f":"SUM(P39:P45)","v":0},"Imponibile"]
[null,null,null,null,null,null,null,null,null,null,null,null,null,null,null,{"$f":"+ROUND(P46*0.1,2)","v":0},"IVA (10%)"]
[null,null,null,null,null,null,null,null,null,null,null,null,null,null,null,{"$f":"+P47+P46","v":0},"Totale corrispettivi"]
[]
[]
[{"$f":"+A26+1","v":3},null,null,null,null,null,"Impoto"]
[{"$f":"CONCATENATE(\"Unità domestica residente #\",A51)","v":"Unità domestica residente #3"},null,null,null,null,null,{"$f":"+P73","v":0}]
["Data inizio periodo consumo",null,null,null,null,{"$f":"+'Tabella ripartizione'!$C$3","v":"00:00:00"}]
["Data fine periodo consumo",null,null,null,null,{"$f":"+'Tabella ripartizione'!$C$4","v":"00:00:00"}]
["Giorni di consumo",null,null,null,null,{"$f":"+F54-F53+1","v":1}]
["Fognatura",null,null,null,null,{"$f":"+'Tabella ripartizione'!$C$6","v":1},"(0 = esente, 1=assoggettato)"]
["Depurazione",null,null,null,null,{"$f":"+'Tabella ripartizione'!$C$7","v":1},"(0 = esente, 1=assoggettato)"]
["Consumo misurato",null,null,null,null,{"$f":"SUMIF('Tabella ripartizione'!$B:$B,A52,'Tabella ripartizione'!$C:$C)","v":0}]
["Numero di componenti nucleo familiare",null,null,null,null,{"$f":"SUMIF('Tabella ripartizione'!$B:$B,A52,'Tabella ripartizione'!$D:$D)","v":0}]
[]
["Tariffe TICSI 2022"]
["Domestico Residente","Fasce anno (m3)",null,"Fasce pro-die (m3)",null,"mc riarticolati","Importi servizio",null,null,"Importi Quota fissa",null,null,"Importi perequazione"]
[null,"da","a","da","a",{"$f":"+F68+F67+F66+F65+F64","v":0},"Acqua","Fogna","Depurazione","Acqua","Fogna","Depurazione","Acqua","Fogna","Depurazione","Totali"]
[null,0,{"$f":"IF(F58=0,0,VLOOKUP(F59,Fasce!A:B,2,FALSE))","v":0},0,{"$f":"+ROUND(C64/365*F55,0)","v":0},{"$f":"+IF(F58>=E64,E64,F58)","v":0},{"$f":"+Tariffe!$A$3*F64","v":0},{"$f":"+Tariffe!$B$3*F64*$F$6","v":0},{"$f":"+Tariffe!$C$3*F64*$F$7","v":0},null,null,null,null,null,null,{"$f":"+ROUND((G64+H64+I64),2)","v":0}]
[null,{"$f":"+C64+1","v":1},{"$f":"IF(F58=0,0,VLOOKUP(F59,Fasce!A:C,3,FALSE))","v":0},{"$f":"+E64","v":0},{"$f":"+ROUND(C65/365*F55,0)","v":0},{"$f":"+IF(F58>=E65,E65-E64,IF(F58>=E64,F58-E64,IF(F58<E64,0)))","v":0},{"$f":"+Tariffe!$A$4*F65","v":0},{"$f":"+Tariffe!$B$3*F65*$F$6","v":0},{"$f":"+Tariffe!$C$3*F65*$F$7","v":0},null,null,null,null,null,null,0]
[null,1,{"$f":"IF(F58=0,0,VLOOKUP(F59,Fasce!A:D,4,FALSE))","v":0},0,{"$f":"+ROUND(C66/365*F55,0)","v":0},{"$f":"+IF(F58>=E66,E66-E65,IF(F58>=E65,F58-E65,IF(F58<E65,0)))","v":0},{"$f":"+Tariffe!$A$5*F66","v":0},{"$f":"+Tariffe!$B$3*F66*$F$6","v":0},{"$f":"+Tariffe!$C$3*F66*$F$7","v":0},null,null,null,null,null,null,0]
[null,1,{"$f":"IF(F58=0,0,VLOOKUP(F59,Fasce!A:E,5,FALSE))","v":0},0,{"$f":"+ROUND(C67/365*F55,0)","v":0},{"$f":"+IF(F58>=E67,E67-E66,IF(F58>=E66,F58-E66,IF(F58<E66,0)))","v":0},{"$f":"+Tariffe!$A$6*F67","v":0},{"$f":"+Tariffe!$B$3*F67*$F$6","v":0},{"$f":"+Tariffe!$C$3*F67*$F$7","v":0},null,null,null,null,null,null,0]
[null,1,999999,0,999999,{"$f":"+IF(F58>=E68,E68-E67,IF(F58>=E67,F58-E67,IF(F58<E67,0,F58-E67)))","v":0},{"$f":"+Tariffe!$A$7*F68","v":0},{"$f":"+Tariffe!$B$3*F68*$F$6","v":0},{"$f":"+Tariffe!$C$3*F68*$F$7","v":0},null,null,null,null,null,null,0]
[null,null,null,null,null,null,null,null,null,{"$f":"+IF(A51>'Tabella ripartizione'!$L$3,0,Tariffe!$E$3*F55/365)","v":0},{"$f":"+IF(A51>'Tabella ripartizione'!$L$3,0,Tariffe!$F$3*F55/365*F56)","v":0},{"$f":"+IF(A51>'Tabella ripartizione'!$L$3,0,Tariffe!$G$3*F55/365*F57)","v":0},null,null,null,{"$f":"+ROUND(J69+K69+L69,2)","v":0}]
[null,null,null,null,null,null,null,null,null,null,null,null,{"$f":"+(Tariffe!$I$3+Tariffe!$J$3+Tariffe!$K$3+Tariffe!$L$3+Tariffe!$M$3)*F58","v":0},{"$f":"+(Tariffe!$I$3+Tariffe!$J$3+Tariffe!$K$3+Tariffe!$L$3+Tariffe!$M$3)*F58*F56","v":0},{"$f":"+(Tariffe!$I$3+Tariffe!$J$3+Tariffe!$K$3+Tariffe!$L$3+Tariffe!$M$3)*F58*F57","v":0},{"$f":"+ROUND(M70+N70+O70,2)","v":0}]
[null,null,null,null,null,null,null,null,null,null,null,null,null,null,null,{"$f":"SUM(P64:P70)","v":0},"Imponibile"]
[null,null,null,null,null,null,null,null,null,null,null,null,null,null,null,{"$f":"+ROUND(P71*0.1,2)","v":0},"IVA (10%)"]
[null,null,null,null,null,null,null,null,null,null,null,null,null,null,null,{"$f":"+P72+P71","v":0},"Totale corrispettivi"]
[]
[]
[{"$f":"+A51+1","v":4},null,null,null,null,null,"Impoto"]
[{"$f":"CONCATENATE(\"Unità domestica residente #\",A76)","v":"Unità domestica residente #4"},null,null,null,null,null,{"$f":"+P98","v":0}]
["Data inizio periodo consumo",null,null,null,null,{"$f":"+'Tabella ripartizione'!$C$3","v":"00:00:00"}]
["Data fine periodo consumo",null,null,null,null,{"$f":"+'Tabella ripartizione'!$C$4","v":"00:00:00"}]
["Giorni di consumo",null,null,null,null,{"$f":"+F79-F78+1","v":1}]
["Fognatura",null,null,null,null,{"$f":"+'Tabella ripartizione'!$C$6","v":1},"(0 = esente, 1=assoggettato)"]
["Depurazione",null,null,null,null,{"$f":"+'Tabella ripartizione'!$C$7","v":1},"(0 = esente, 1=assoggettato)"]
["Consumo misurato",null,null,null,null,{"$f":"SUMIF('Tabella ripartizione'!$B:$B,A77,'Tabella ripartizione'!$C:$C)","v":0}]
["Numero di componenti nucleo familiare",null,null,null,null,{"$f":"SUMIF('Tabella ripartizione'!$B:$B,A77,'Tabella ripartizione'!$D:$D)","v":0}]
[]
["Tariffe TICSI 2022"]
["Domestico Residente","Fasce anno (m3)",null,"Fasce pro-die (m3)",null,"mc riarticolati","Importi servizio",null,null,"Importi Quota fissa",null,null,"Importi perequazione"]
[null,"da","a","da","a",{"$f":"+F93+F92+F91+F90+F89","v":0},"Acqua","Fogna","Depurazione","Acqua","Fogna","Depurazione","Acqua","Fogna","Depurazione","Totali"]
[null,0,{"$f":"IF(F83=0,0,VLOOKUP(F84,Fasce!A:B,2,FALSE))","v":0},0,{"$f":"+ROUND(C89/365*F80,0)","v":0},{"$f":"+IF(F83>=E89,E89,F83)","v":0},{"$f":"+Tariffe!$A$3*F89","v":0},{"$f":"+Tariffe!$B$3*F89*$F$6","v":0},{"$f":"+Tariffe!$C$3*F89*$F$7","v":0},null,null,null,null,null,null,{"$f":"+ROUND((G89+H89+I89),2)","v":0}]
[null,{"$f":"+C89+1","v":1},{"$f":"IF(F83=0,0,VLOOKUP(F84,Fasce!A:C,3,FALSE))","v":0},{"$f":"+E89","v":0},{"$f":"+ROUND(C90/365*F80,0)","v":0},{"$f":"+IF(F83>=E90,E90-E89,IF(F83>=E89,F83-E89,IF(F83<E89,0)))","v":0},{"$f":"+Tariffe!$A$4*F90","v":0},{"$f":"+Tariffe!$B$3*F90*$F$6","v":0},{"$f":"+Tariffe!$C$3*F90*$F$7","v":0},null,null,null,null,null,null,0]
[null,1,{"$f":"IF(F83=0,0,VLOOKUP(F84,Fasce!A:D,4,FALSE))","v":0},0,{"$f":"+ROUND(C91/365*F80,0)","v":0},{"$f":"+IF(F83>=E91,E91-E90,IF(F83>=E90,F83-E90,IF(F83<E90,0)))","v":0},{"$f":"+Tariffe!$A$5*F91","v":0},{"$f":"+Tariffe!$B$3*F91*$F$6","v":0},{"$f":"+Tariffe!$C$3*F91*$F$7","v":0},null,null,null,null,null,null,0]
[null,1,{"$f":"IF(F83=0,0,VLOOKUP(F84,Fasce!A:E,5,FALSE))","v":0},0,{"$f":"+ROUND(C92/365*F80,0)","v":0},{"$f":"+IF(F83>=E92,E92-E91,IF(F83>=E91,F83-E91,IF(F83<E91,0)))","v":0},{"$f":"+Tariffe!$A$6*F92","v":0},{"$f":"+Tariffe!$B$3*F92*$F$6","v":0},{"$f":"+Tariffe!$C$3*F92*$F$7","v":0},null,null,null,null,null,null,0]
[null,1,999999,0,999999,{"$f":"+IF(F83>=E93,E93-E92,IF(F83>=E92,F83-E92,IF(F83<E92,0,F83-E92)))","v":0},{"$f":"+Tariffe!$A$7*F93","v":0},{"$f":"+Tariffe!$B$3*F93*$F$6","v":0},{"$f":"+Tariffe!$C$3*F93*$F$7","v":0},null,null,null,null,null,null,0]
[null,null,null,null,null,null,null,null,null,{"$f":"+IF(A76>'Tabella ripartizione'!$L$3,0,Tariffe!$E$3*F80/365)","v":0},{"$f":"+IF(A76>'Tabella ripartizione'!$L$3,0,Tariffe!$F$3*F80/365*F81)","v":0},{"$f":"+IF(A76>'Tabella ripartizione'!$L$3,0,Tariffe!$G$3*F80/365*F82)","v":0},null,null,null,{"$f":"+ROUND(J94+K94+L94,2)","v":0}]
[null,null,null,null,null,null,null,null,null,null,null,null,{"$f":"+(Tariffe!$I$3+Tariffe!$J$3+Tariffe!$K$3+Tariffe!$L$3+Tariffe!$M$3)*F83","v":0},{"$f":"+(Tariffe!$I$3+Tariffe!$J$3+Tariffe!$K$3+Tariffe!$L$3+Tariffe!$M$3)*F83*F81","v":0},{"$f":"+(Tariffe!$I$3+Tariffe!$J$3+Tariffe!$K$3+Tariffe!$L$3+Tariffe!$M$3)*F83*F82","v":0},{"$f":"+ROUND(M95+N95+O95,2)","v":0}]
[null,null,null,null,null,null,null,null,null,null,null,null,null,null,null,{"$f":"SUM(P89:P95)","v":0},"Imponibile"]
[null,null,null,null,null,null,null,null,null,null,null,null,null,null,null,{"$f":"+ROUND(P96*0.1,2)","v":0},"IVA (10%)"]
[null,null,null,null,null,null,null,null,null,null,null,null,null,null,null,{"$f":"+P97+P96","v":0},"Totale corrispettivi"]
[]
[]
[{"$f":"+A76+1","v":5},null,null,null,null,null,"Impoto"]
[{"$f":"CONCATENATE(\"Unità domestica residente #\",A101)","v":"Unità domestica residente #5"},null,null,null,null,null,{"$f":"+P123","v":0}]
["Data inizio periodo consumo",null,null,null,null,{"$f":"+'Tabella ripartizione'!$C$3","v":"00:00:00"}]
["Data fine periodo consumo",null,null,null,null,{"$f":"+'Tabella ripartizione'!$C$4","v":"00:00:00"}]
["Giorni di consumo",null,null,null,null,{"$f":"+F104-F103+1","v":1}]
["Fognatura",null,null,null,null,{"$f":"+'Tabella ripartizione'!$C$6","v":1},"(0 = esente, 1=assoggettato)"]
["Depurazione",null,null,null,null,{"$f":"+'Tabella ripartizione'!$C$7","v":1},"(0 = esente, 1=assoggettato)"]
["Consumo misurato",null,null,null,null,{"$f":"SUMIF('Tabella ripartizione'!$B:$B,A102,'Tabella ripartizione'!$C:$C)","v":0}]
["Numero di componenti nucleo familiare",null,null,null,null,{"$f":"SUMIF('Tabella ripartizione'!$B:$B,A102,'Tabella ripartizione'!$D:$D)","v":0}]
[]
["Tariffe TICSI 2022"]
["Domestico Residente","Fasce anno (m3)",null,"Fasce pro-die (m3)",null,"mc riarticolati","Importi servizio",null,null,"Importi Quota fissa",null,null,"Importi perequazione"]
[null,"da","a","da","a",{"$f":"+F118+F117+F116+F115+F114","v":0},"Acqua","Fogna","Depurazione","Acqua","Fogna","Depurazione","Acqua","Fogna","Depurazione","Totali"]
[null,0,{"$f":"IF(F108=0,0,VLOOKUP(F109,Fasce!A:B,2,FALSE))","v":0},0,{"$f":"+ROUND(C114/365*F105,0)","v":0},{"$f":"+IF(F108>=E114,E114,F108)","v":0},{"$f":"+Tariffe!$A$3*F114","v":0},{"$f":"+Tariffe!$B$3*F114*$F$6","v":0},{"$f":"+Tariffe!$C$3*F114*$F$7","v":0},null,null,null,null,null,null,{"$f":"+ROUND((G114+H114+I114),2)","v":0}]
[null,{"$f":"+C114+1","v":1},{"$f":"IF(F108=0,0,VLOOKUP(F109,Fasce!A:C,3,FALSE))","v":0},{"$f":"+E114","v":0},{"$f":"+ROUND(C115/365*F105,0)","v":0},{"$f":"+IF(F108>=E115,E115-E114,IF(F108>=E114,F108-E114,IF(F108<E114,0)))","v":0},{"$f":"+Tariffe!$A$4*F115","v":0},{"$f":"+Tariffe!$B$3*F115*$F$6","v":0},{"$f":"+Tariffe!$C$3*F115*$F$7","v":0},null,null,null,null,null,null,0]
[null,1,{"$f":"IF(F108=0,0,VLOOKUP(F109,Fasce!A:D,4,FALSE))","v":0},0,{"$f":"+ROUND(C116/365*F105,0)","v":0},{"$f":"+IF(F108>=E116,E116-E115,IF(F108>=E115,F108-E115,IF(F108<E115,0)))","v":0},{"$f":"+Tariffe!$A$5*F116","v":0},{"$f":"+Tariffe!$B$3*F116*$F$6","v":0},{"$f":"+Tariffe!$C$3*F116*$F$7","v":0},null,null,null,null,null,null,0]
[null,1,{"$f":"IF(F108=0,0,VLOOKUP(F109,Fasce!A:E,5,FALSE))","v":0},0,{"$f":"+ROUND(C117/365*F105,0)","v":0},{"$f":"+IF(F108>=E117,E117-E116,IF(F108>=E116,F108-E116,IF(F108<E116,0)))","v":0},{"$f":"+Tariffe!$A$6*F117","v":0},{"$f":"+Tariffe!$B$3*F117*$F$6","v":0},{"$f":"+Tariffe!$C$3*F117*$F$7","v":0},null,null,null,null,null,null,0]
[null,1,999999,0,999999,{"$f":"+IF(F108>=E118,E118-E117,IF(F108>=E117,F108-E117,IF(F108<E117,0,F108-E117)))","v":0},{"$f":"+Tariffe!$A$7*F118","v":0},{"$f":"+Tariffe!$B$3*F118*$F$6","v":0},{"$f":"+Tariffe!$C$3*F118*$F$7","v":0},null,null,null,null,null,null,0]
[null,null,null,null,null,null,null,null,null,{"$f":"+IF(A101>'Tabella ripartizione'!$L$3,0,Tariffe!$E$3*F105/365)","v":0},{"$f":"+IF(A101>'Tabella ripartizione'!$L$3,0,Tariffe!$F$3*F105/365*F106)","v":0},{"$f":"+IF(A101>'Tabella ripartizione'!$L$3,0,Tariffe!$G$3*F105/365*F107)","v":0},null,null,null,{"$f":"+ROUND(J119+K119+L119,2)","v":0}]
[null,null,null,null,null,null,null,null,null,null,null,null,{"$f":"+(Tariffe!$I$3+Tariffe!$J$3+Tariffe!$K$3+Tariffe!$L$3+Tariffe!$M$3)*F108","v":0},{"$f":"+(Tariffe!$I$3+Tariffe!$J$3+Tariffe!$K$3+Tariffe!$L$3+Tariffe!$M$3)*F108*F106","v":0},{"$f":"+(Tariffe!$I$3+Tariffe!$J$3+Tariffe!$K$3+Tariffe!$L$3+Tariffe!$M$3)*F108*F107","v":0},{"$f":"+ROUND(M120+N120+O120,2)","v":0}]
[null,null,null,null,null,null,null,null,null,null,null,null,null,null,null,{"$f":"SUM(P114:P120)","v":0},"Imponibile"]
[null,null,null,null,null,null,null,null,null,null,null,null,null,null,null,{"$f":"+ROUND(P121*0.1,2)","v":0},"IVA (10%)"]
[null,null,null,null,null,null,null,null,null,null,null,null,null,null,null,{"$f":"+P122+P121","v":0},"Totale corrispettivi"]
[]
[]
[{"$f":"+A101+1","v":6},null,null,null,null,null,"Impoto"]
[{"$f":"CONCATENATE(\"Unità domestica residente #\",A126)","v":"Unità domestica residente #6"},null,null,null,null,null,{"$f":"+P148","v":0}]
["Data inizio periodo consumo",null,null,null,null,{"$f":"+'Tabella ripartizione'!$C$3","v":"00:00:00"}]
["Data fine periodo consumo",null,null,null,null,{"$f":"+'Tabella ripartizione'!$C$4","v":"00:00:00"}]
["Giorni di consumo",null,null,null,null,{"$f":"+F129-F128+1","v":1}]
["Fognatura",null,null,null,null,{"$f":"+'Tabella ripartizione'!$C$6","v":1},"(0 = esente, 1=assoggettato)"]
["Depurazione",null,null,null,null,{"$f":"+'Tabella ripartizione'!$C$7","v":1},"(0 = esente, 1=assoggettato)"]
["Consumo misurato",null,null,null,null,{"$f":"SUMIF('Tabella ripartizione'!$B:$B,A127,'Tabella ripartizione'!$C:$C)","v":0}]
["Numero di componenti nucleo familiare",null,null,null,null,{"$f":"SUMIF('Tabella ripartizione'!$B:$B,A127,'Tabella ripartizione'!$D:$D)","v":0}]
[]
["Tariffe TICSI 2022"]
["Domestico Residente","Fasce anno (m3)",null,"Fasce pro-die (m3)",null,"mc riarticolati","Importi servizio",null,null,"Importi Quota fissa",null,null,"Importi perequazione"]
[null,"da","a","da","a",{"$f":"+F143+F142+F141+F140+F139","v":0},"Acqua","Fogna","Depurazione","Acqua","Fogna","Depurazione","Acqua","Fogna","Depurazione","Totali"]
[null,0,{"$f":"IF(F133=0,0,VLOOKUP(F134,Fasce!A:B,2,FALSE))","v":0},0,{"$f":"+ROUND(C139/365*F130,0)","v":0},{"$f":"+IF(F133>=E139,E139,F133)","v":0},{"$f":"+Tariffe!$A$3*F139","v":0},{"$f":"+Tariffe!$B$3*F139*$F$6","v":0},{"$f":"+Tariffe!$C$3*F139*$F$7","v":0},null,null,null,null,null,null,{"$f":"+ROUND((G139+H139+I139),2)","v":0}]
[null,{"$f":"+C139+1","v":1},{"$f":"IF(F133=0,0,VLOOKUP(F134,Fasce!A:C,3,FALSE))","v":0},{"$f":"+E139","v":0},{"$f":"+ROUND(C140/365*F130,0)","v":0},{"$f":"+IF(F133>=E140,E140-E139,IF(F133>=E139,F133-E139,IF(F133<E139,0)))","v":0},{"$f":"+Tariffe!$A$4*F140","v":0},{"$f":"+Tariffe!$B$3*F140*$F$6","v":0},{"$f":"+Tariffe!$C$3*F140*$F$7","v":0},null,null,null,null,null,null,0]
[null,1,{"$f":"IF(F133=0,0,VLOOKUP(F134,Fasce!A:D,4,FALSE))","v":0},0,{"$f":"+ROUND(C141/365*F130,0)","v":0},{"$f":"+IF(F133>=E141,E141-E140,IF(F133>=E140,F133-E140,IF(F133<E140,0)))","v":0},{"$f":"+Tariffe!$A$5*F141","v":0},{"$f":"+Tariffe!$B$3*F141*$F$6","v":0},{"$f":"+Tariffe!$C$3*F141*$F$7","v":0},null,null,null,null,null,null,0]
[null,1,{"$f":"IF(F133=0,0,VLOOKUP(F134,Fasce!A:E,5,FALSE))","v":0},0,{"$f":"+ROUND(C142/365*F130,0)","v":0},{"$f":"+IF(F133>=E142,E142-E141,IF(F133>=E141,F133-E141,IF(F133<E141,0)))","v":0},{"$f":"+Tariffe!$A$6*F142","v":0},{"$f":"+Tariffe!$B$3*F142*$F$6","v":0},{"$f":"+Tariffe!$C$3*F142*$F$7","v":0},null,null,null,null,null,null,0]
[null,1,999999,0,999999,{"$f":"+IF(F133>=E143,E143-E142,IF(F133>=E142,F133-E142,IF(F133<E142,0,F133-E142)))","v":0},{"$f":"+Tariffe!$A$7*F143","v":0},{"$f":"+Tariffe!$B$3*F143*$F$6","v":0},{"$f":"+Tariffe!$C$3*F143*$F$7","v":0},null,null,null,null,null,null,0]
[null,null,null,null,null,null,null,null,null,{"$f":"+IF(A126>'Tabella ripartizione'!$L$3,0,Tariffe!$E$3*F130/365)","v":0},{"$f":"+IF(A126>'Tabella ripartizione'!$L$3,0,Tariffe!$F$3*F130/365*F131)","v":0},{"$f":"+IF(A126>'Tabella ripartizione'!$L$3,0,Tariffe!$G$3*F130/365*F132)","v":0},null,null,null,{"$f":"+ROUND(J144+K144+L144,2)","v":0}]
[null,null,null,null,null,null,null,null,null,null,null,null,{"$f":"+(Tariffe!$I$3+Tariffe!$J$3+Tariffe!$K$3+Tariffe!$L$3+Tariffe!$M$3)*F133","v":0},{"$f":"+(Tariffe!$I$3+Tariffe!$J$3+Tariffe!$K$3+Tariffe!$L$3+Tariffe!$M$3)*F133*F131","v":0},{"$f":"+(Tariffe!$I$3+Tariffe!$J$3+Tariffe!$K$3+Tariffe!$L$3+Tariffe!$M$3)*F133*F132","v":0},{"$f":"+ROUND(M145+N145+O145,2)","v":0}]
[null,null,null,null,null,null,null,null,null,null,null,null,null,null,null,{"$f":"SUM(P139:P145)","v":0},"Imponibile"]
[null,null,null,null,null,null,null,null,null,null,null,null,null,null,null,{"$f":"+ROUND(P146*0.1,2)","v":0},"IVA (10%)"]
[null,null,null,null,null,null,null,null,null,null,null,null,null,null,null,{"$f":"+P147+P146","v":0},"Totale corrispettivi"]
[]
[]
[{"$f":"+A126+1","v":7},null,null,null,null,null,"Impoto"]
[{"$f":"CONCATENATE(\"Unità domestica residente #\",A151)","v":"Unità domestica residente #7"},null,null,null,null,null,{"$f":"+P173","v":0}]
["Data inizio periodo consumo",null,null,null,null,{"$f":"+'Tabella ripartizione'!$C$3","v":"00:00:00"}]
["Data fine periodo consumo",null,null,null,null,{"$f":"+'Tabella ripartizione'!$C$4","v":"00:00:00"}]
["Giorni di consumo",null,null,null,null,{"$f":"+F154-F153+1","v":1}]
["Fognatura",null,null,null,null,{"$f":"+'Tabella ripartizione'!$C$6","v":1},"(0 = esente, 1=assoggettato)"]
["Depurazione",null,null,null,null,{"$f":"+'Tabella ripartizione'!$C$7","v":1},"(0 = esente, 1=assoggettato)"]
["Consumo misurato",null,null,null,null,{"$f":"SUMIF('Tabella ripartizione'!$B:$B,A152,'Tabella ripartizione'!$C:$C)","v":0}]
["Numero di componenti nucleo familiare",null,null,null,null,{"$f":"SUMIF('Tabella ripartizione'!$B:$B,A152,'Tabella ripartizione'!$D:$D)","v":0}]
[]
["Tariffe TICSI 2022"]
["Domestico Residente","Fasce anno (m3)",null,"Fasce pro-die (m3)",null,"mc riarticolati","Importi servizio",null,null,"Importi Quota fissa",null,null,"Importi perequazione"]
[null,"da","a","da","a",{"$f":"+F168+F167+F166+F165+F164","v":0},"Acqua","Fogna","Depurazione","Acqua","Fogna","Depurazione","Acqua","Fogna","Depurazione","Totali"]
[null,0,{"$f":"IF(F158=0,0,VLOOKUP(F159,Fasce!A:B,2,FALSE))","v":0},0,{"$f":"+ROUND(C164/365*F155,0)","v":0},{"$f":"+IF(F158>=E164,E164,F158)","v":0},{"$f":"+Tariffe!$A$3*F164","v":0},{"$f":"+Tariffe!$B$3*F164*$F$6","v":0},{"$f":"+Tariffe!$C$3*F164*$F$7","v":0},null,null,null,null,null,null,{"$f":"+ROUND((G164+H164+I164),2)","v":0}]
[null,{"$f":"+C164+1","v":1},{"$f":"IF(F158=0,0,VLOOKUP(F159,Fasce!A:C,3,FALSE))","v":0},{"$f":"+E164","v":0},{"$f":"+ROUND(C165/365*F155,0)","v":0},{"$f":"+IF(F158>=E165,E165-E164,IF(F158>=E164,F158-E164,IF(F158<E164,0)))","v":0},{"$f":"+Tariffe!$A$4*F165","v":0},{"$f":"+Tariffe!$B$3*F165*$F$6","v":0},{"$f":"+Tariffe!$C$3*F165*$F$7","v":0},null,null,null,null,null,null,0]
[null,1,{"$f":"IF(F158=0,0,VLOOKUP(F159,Fasce!A:D,4,FALSE))","v":0},0,{"$f":"+ROUND(C166/365*F155,0)","v":0},{"$f":"+IF(F158>=E166,E166-E165,IF(F158>=E165,F158-E165,IF(F158<E165,0)))","v":0},{"$f":"+Tariffe!$A$5*F166","v":0},{"$f":"+Tariffe!$B$3*F166*$F$6","v":0},{"$f":"+Tariffe!$C$3*F166*$F$7","v":0},null,null,null,null,null,null,0]
[null,1,{"$f":"IF(F158=0,0,VLOOKUP(F159,Fasce!A:E,5,FALSE))","v":0},0,{"$f":"+ROUND(C167/365*F155,0)","v":0},{"$f":"+IF(F158>=E167,E167-E166,IF(F158>=E166,F158-E166,IF(F158<E166,0)))","v":0},{"$f":"+Tariffe!$A$6*F167","v":0},{"$f":"+Tariffe!$B$3*F167*$F$6","v":0},{"$f":"+Tariffe!$C$3*F167*$F$7","v":0},null,null,null,null,null,null,0]
[null,1,999999,0,999999,{"$f":"+IF(F158>=E168,E168-E167,IF(F158>=E167,F158-E167,IF(F158<E167,0,F158-E167)))","v":0},{"$f":"+Tariffe!$A$7*F168","v":0},{"$f":"+Tariffe!$B$3*F168*$F$6","v":0},{"$f":"+Tariffe!$C$3*F168*$F$7","v":0},null,null,null,null,null,null,0]
[null,null,null,null,null,null,null,null,null,{"$f":"+IF(A151>'Tabella ripartizione'!$L$3,0,Tariffe!$E$3*F155/365)","v":0},{"$f":"+IF(A151>'Tabella ripartizione'!$L$3,0,Tariffe!$F$3*F155/365*F156)","v":0},{"$f":"+IF(A151>'Tabella ripartizione'!$L$3,0,Tariffe!$G$3*F155/365*F157)","v":0},null,null,null,{"$f":"+ROUND(J169+K169+L169,2)","v":0}]
[null,null,null,null,null,null,null,null,null,null,null,null,{"$f":"+(Tariffe!$I$3+Tariffe!$J$3+Tariffe!$K$3+Tariffe!$L$3+Tariffe!$M$3)*F158","v":0},{"$f":"+(Tariffe!$I$3+Tariffe!$J$3+Tariffe!$K$3+Tariffe!$L$3+Tariffe!$M$3)*F158*F156","v":0},{"$f":"+(Tariffe!$I$3+Tariffe!$J$3+Tariffe!$K$3+Tariffe!$L$3+Tariffe!$M$3)*F158*F157","v":0},{"$f":"+ROUND(M170+N170+O170,2)","v":0}]
[null,null,null,null,null,null,null,null,null,null,null,null,null,null,null,{"$f":"SUM(P164:P170)","v":0},"Imponibile"]
[null,null,null,null,null,null,null,null,null,null,null,null,null,null,null,{"$f":"+ROUND(P171*0.1,2)","v":0},"IVA (10%)"]
[null,null,null,null,null,null,null,null,null,null,null,null,null,null,null,{"$f":"+P172+P171","v":0},"Totale corrispettivi"]
[]
[]
[{"$f":"+A151+1","v":8},null,null,null,null,null,"Impoto"]
[{"$f":"CONCATENATE(\"Unità domestica residente #\",A176)","v":"Unità domestica residente #8"},null,null,null,null,null,{"$f":"+P198","v":0}]
["Data inizio periodo consumo",null,null,null,null,{"$f":"+'Tabella ripartizione'!$C$3","v":"00:00:00"}]
["Data fine periodo consumo",null,null,null,null,{"$f":"+'Tabella ripartizione'!$C$4","v":"00:00:00"}]
["Giorni di consumo",null,null,null,null,{"$f":"+F179-F178+1","v":1}]
["Fognatura",null,null,null,null,{"$f":"+'Tabella ripartizione'!$C$6","v":1},"(0 = esente, 1=assoggettato)"]
["Depurazione",null,null,null,null,{"$f":"+'Tabella ripartizione'!$C$7","v":1},"(0 = esente, 1=assoggettato)"]
["Consumo misurato",null,null,null,null,{"$f":"SUMIF('Tabella ripartizione'!$B:$B,A177,'Tabella ripartizione'!$C:$C)","v":0}]
["Numero di componenti nucleo familiare",null,null,null,null,{"$f":"SUMIF('Tabella ripartizione'!$B:$B,A177,'Tabella ripartizione'!$D:$D)","v":0}]
[]
["Tariffe TICSI 2022"]
["Domestico Residente","Fasce anno (m3)",null,"Fasce pro-die (m3)",null,"mc riarticolati","Importi servizio",null,null,"Importi Quota fissa",null,null,"Importi perequazione"]
[null,"da","a","da","a",{"$f":"+F193+F192+F191+F190+F189","v":0},"Acqua","Fogna","Depurazione","Acqua","Fogna","Depurazione","Acqua","Fogna","Depurazione","Totali"]
[null,0,{"$f":"IF(F183=0,0,VLOOKUP(F184,Fasce!A:B,2,FALSE))","v":0},0,{"$f":"+ROUND(C189/365*F180,0)","v":0},{"$f":"+IF(F183>=E189,E189,F183)","v":0},{"$f":"+Tariffe!$A$3*F189","v":0},{"$f":"+Tariffe!$B$3*F189*$F$6","v":0},{"$f":"+Tariffe!$C$3*F189*$F$7","v":0},null,null,null,null,null,null,{"$f":"+ROUND((G189+H189+I189),2)","v":0}]
[null,{"$f":"+C189+1","v":1},{"$f":"IF(F183=0,0,VLOOKUP(F184,Fasce!A:C,3,FALSE))","v":0},{"$f":"+E189","v":0},{"$f":"+ROUND(C190/365*F180,0)","v":0},{"$f":"+IF(F183>=E190,E190-E189,IF(F183>=E189,F183-E189,IF(F183<E189,0)))","v":0},{"$f":"+Tariffe!$A$4*F190","v":0},{"$f":"+Tariffe!$B$3*F190*$F$6","v":0},{"$f":"+Tariffe!$C$3*F190*$F$7","v":0},null,null,null,null,null,null,0]
[null,1,{"$f":"IF(F183=0,0,VLOOKUP(F184,Fasce!A:D,4,FALSE))","v":0},0,{"$f":"+ROUND(C191/365*F180,0)","v":0},{"$f":"+IF(F183>=E191,E191-E190,IF(F183>=E190,F183-E190,IF(F183<E190,0)))","v":0},{"$f":"+Tariffe!$A$5*F191","v":0},{"$f":"+Tariffe!$B$3*F191*$F$6","v":0},{"$f":"+Tariffe!$C$3*F191*$F$7","v":0},null,null,null,null,null,null,0]
[null,1,{"$f":"IF(F183=0,0,VLOOKUP(F184,Fasce!A:E,5,FALSE))","v":0},0,{"$f":"+ROUND(C192/365*F180,0)","v":0},{"$f":"+IF(F183>=E192,E192-E191,IF(F183>=E191,F183-E191,IF(F183<E191,0)))","v":0},{"$f":"+Tariffe!$A$6*F192","v":0},{"$f":"+Tariffe!$B$3*F192*$F$6","v":0},{"$f":"+Tariffe!$C$3*F192*$F$7","v":0},null,null,null,null,null,null,0]
[null,1,999999,0,999999,{"$f":"+IF(F183>=E193,E193-E192,IF(F183>=E192,F183-E192,IF(F183<E192,0,F183-E192)))","v":0},{"$f":"+Tariffe!$A$7*F193","v":0},{"$f":"+Tariffe!$B$3*F193*$F$6","v":0},{"$f":"+Tariffe!$C$3*F193*$F$7","v":0},null,null,null,null,null,null,0]
[null,null,null,null,null,null,null,null,null,{"$f":"+IF(A176>'Tabella ripartizione'!$L$3,0,Tariffe!$E$3*F180/365)","v":0},{"$f":"+IF(A176>'Tabella ripartizione'!$L$3,0,Tariffe!$F$3*F180/365*F181)","v":0},{"$f":"+IF(A176>'Tabella ripartizione'!$L$3,0,Tariffe!$G$3*F180/365*F182)","v":0},null,null,null,{"$f":"+ROUND(J194+K194+L194,2)","v":0}]
[null,null,null,null,null,null,null,null,null,null,null,null,{"$f":"+(Tariffe!$I$3+Tariffe!$J$3+Tariffe!$K$3+Tariffe!$L$3+Tariffe!$M$3)*F183","v":0},{"$f":"+(Tariffe!$I$3+Tariffe!$J$3+Tariffe!$K$3+Tariffe!$L$3+Tariffe!$M$3)*F183*F181","v":0},{"$f":"+(Tariffe!$I$3+Tariffe!$J$3+Tariffe!$K$3+Tariffe!$L$3+Tariffe!$M$3)*F183*F182","v":0},{"$f":"+ROUND(M195+N195+O195,2)","v":0}]
[null,null,null,null,null,null,null,null,null,null,null,null,null,null,null,{"$f":"SUM(P189:P195)","v":0},"Imponibile"]
[null,null,null,null,null,null,null,null,null,null,null,null,null,null,null,{"$f":"+ROUND(P196*0.1,2)","v":0},"IVA (10%)"]
[null,null,null,null,null,null,null,null,null,null,null,null,null,null,null,{"$f":"+P197+P196","v":0},"Totale corrispettivi"]
[]
[]
[{"$f":"+A176+1","v":9},null,null,null,null,null,"Impoto"]
[{"$f":"CONCATENATE(\"Unità domestica residente #\",A201)","v":"Unità domestica residente #9"},null,null,null,null,null,{"$f":"+P223","v":0}]
["Data inizio periodo consumo",null,null,null,null,{"$f":"+'Tabella ripartizione'!$C$3","v":"00:00:00"}]
["Data fine periodo consumo",null,null,null,null,{"$f":"+'Tabella ripartizione'!$C$4","v":"00:00:00"}]
["Giorni di consumo",null,null,null,null,{"$f":"+F204-F203+1","v":1}]
["Fognatura",null,null,null,null,{"$f":"+'Tabella ripartizione'!$C$6","v":1},"(0 = esente, 1=assoggettato)"]
["Depurazione",null,null,null,null,{"$f":"+'Tabella ripartizione'!$C$7","v":1},"(0 = esente, 1=assoggettato)"]
["Consumo misurato",null,null,null,null,{"$f":"SUMIF('Tabella ripartizione'!$B:$B,A202,'Tabella ripartizione'!$C:$C)","v":0}]
["Numero di componenti nucleo familiare",null,null,null,null,{"$f":"SUMIF('Tabella ripartizione'!$B:$B,A202,'Tabella ripartizione'!$D:$D)","v":0}]
[]
["Tariffe TICSI 2022"]
["Domestico Residente","Fasce anno (m3)",null,"Fasce pro-die (m3)",null,"mc riarticolati","Importi servizio",null,null,"Importi Quota fissa",null,null,"Importi perequazione"]
[null,"da","a","da","a",{"$f":"+F218+F217+F216+F215+F214","v":0},"Acqua","Fogna","Depurazione","Acqua","Fogna","Depurazione","Acqua","Fogna","Depurazione","Totali"]
[null,0,{"$f":"IF(F208=0,0,VLOOKUP(F209,Fasce!A:B,2,FALSE))","v":0},0,{"$f":"+ROUND(C214/365*F205,0)","v":0},{"$f":"+IF(F208>=E214,E214,F208)","v":0},{"$f":"+Tariffe!$A$3*F214","v":0},{"$f":"+Tariffe!$B$3*F214*$F$6","v":0},{"$f":"+Tariffe!$C$3*F214*$F$7","v":0},null,null,null,null,null,null,{"$f":"+ROUND((G214+H214+I214),2)","v":0}]
[null,{"$f":"+C214+1","v":1},{"$f":"IF(F208=0,0,VLOOKUP(F209,Fasce!A:C,3,FALSE))","v":0},{"$f":"+E214","v":0},{"$f":"+ROUND(C215/365*F205,0)","v":0},{"$f":"+IF(F208>=E215,E215-E214,IF(F208>=E214,F208-E214,IF(F208<E214,0)))","v":0},{"$f":"+Tariffe!$A$4*F215","v":0},{"$f":"+Tariffe!$B$3*F215*$F$6","v":0},{"$f":"+Tariffe!$C$3*F215*$F$7","v":0},null,null,null,null,null,null,0]
[null,1,{"$f":"IF(F208=0,0,VLOOKUP(F209,Fasce!A:D,4,FALSE))","v":0},0,{"$f":"+ROUND(C216/365*F205,0)","v":0},{"$f":"+IF(F208>=E216,E216-E215,IF(F208>=E215,F208-E215,IF(F208<E215,0)))","v":0},{"$f":"+Tariffe!$A$5*F216","v":0},{"$f":"+Tariffe!$B$3*F216*$F$6","v":0},{"$f":"+Tariffe!$C$3*F216*$F$7","v":0},null,null,null,null,null,null,0]
[null,1,{"$f":"IF(F208=0,0,VLOOKUP(F209,Fasce!A:E,5,FALSE))","v":0},0,{"$f":"+ROUND(C217/365*F205,0)","v":0},{"$f":"+IF(F208>=E217,E217-E216,IF(F208>=E216,F208-E216,IF(F208<E216,0)))","v":0},{"$f":"+Tariffe!$A$6*F217","v":0},{"$f":"+Tariffe!$B$3*F217*$F$6","v":0},{"$f":"+Tariffe!$C$3*F217*$F$7","v":0},null,null,null,null,null,null,0]
[null,1,999999,0,999999,{"$f":"+IF(F208>=E218,E218-E217,IF(F208>=E217,F208-E217,IF(F208<E217,0,F208-E217)))","v":0},{"$f":"+Tariffe!$A$7*F218","v":0},{"$f":"+Tariffe!$B$3*F218*$F$6","v":0},{"$f":"+Tariffe!$C$3*F218*$F$7","v":0},null,null,null,null,null,null,0]
[null,null,null,null,null,null,null,null,null,{"$f":"+IF(A201>'Tabella ripartizione'!$L$3,0,Tariffe!$E$3*F205/365)","v":0},{"$f":"+IF(A201>'Tabella ripartizione'!$L$3,0,Tariffe!$F$3*F205/365*F206)","v":0},{"$f":"+IF(A201>'Tabella ripartizione'!$L$3,0,Tariffe!$G$3*F205/365*F207)","v":0},null,null,null,{"$f":"+ROUND(J219+K219+L219,2)","v":0}]
[null,null,null,null,null,null,null,null,null,null,null,null,{"$f":"+(Tariffe!$I$3+Tariffe!$J$3+Tariffe!$K$3+Tariffe!$L$3+Tariffe!$M$3)*F208","v":0},{"$f":"+(Tariffe!$I$3+Tariffe!$J$3+Tariffe!$K$3+Tariffe!$L$3+Tariffe!$M$3)*F208*F206","v":0},{"$f":"+(Tariffe!$I$3+Tariffe!$J$3+Tariffe!$K$3+Tariffe!$L$3+Tariffe!$M$3)*F208*F207","v":0},{"$f":"+ROUND(M220+N220+O220,2)","v":0}]
[null,null,null,null,null,null,null,null,null,null,null,null,null,null,null,{"$f":"SUM(P214:P220)","v":0},"Imponibile"]
[null,null,null,null,null,null,null,null,null,null,null,null,null,null,null,{"$f":"+ROUND(P221*0.1,2)","v":0},"IVA (10%)"]
[null,null,null,null,null,null,null,null,null,null,null,null,null,null,null,{"$f":"+P222+P221","v":0},"Totale corrispettivi"]
[]
[]
[{"$f":"+A201+1","v":10},null,null,null,null,null,"Impoto"]
[{"$f":"CONCATENATE(\"Unità domestica residente #\",A226)","v":"Unità domestica residente #10"},null,null,null,null,null,{"$f":"+P248","v":0}]
["Data inizio periodo consumo",null,null,null,null,{"$f":"+'Tabella ripartizione'!$C$3","v":"00:00:00"}]
["Data fine periodo consumo",null,null,null,null,{"$f":"+'Tabella ripartizione'!$C$4","v":"00:00:00"}]
["Giorni di consumo",null,null,null,null,{"$f":"+F229-F228+1","v":1}]
["Fognatura",null,null,null,null,{"$f":"+'Tabella ripartizione'!$C$6","v":1},"(0 = esente, 1=assoggettato)"]
["Depurazione",null,null,null,null,{"$f":"+'Tabella ripartizione'!$C$7","v":1},"(0 = esente, 1=assoggettato)"]
["Consumo misurato",null,null,null,null,{"$f":"SUMIF('Tabella ripartizione'!$B:$B,A227,'Tabella ripartizione'!$C:$C)","v":0}]
["Numero di componenti nucleo familiare",null,null,null,null,{"$f":"SUMIF('Tabella ripartizione'!$B:$B,A227,'Tabella ripartizione'!$D:$D)","v":0}]
[]
["Tariffe TICSI 2022"]
["Domestico Residente","Fasce anno (m3)",null,"Fasce pro-die (m3)",null,"mc riarticolati","Importi servizio",null,null,"Importi Quota fissa",null,null,"Importi perequazione"]
[null,"da","a","da","a",{"$f":"+F243+F242+F241+F240+F239","v":0},"Acqua","Fogna","Depurazione","Acqua","Fogna","Depurazione","Acqua","Fogna","Depurazione","Totali"]
[null,0,{"$f":"IF(F233=0,0,VLOOKUP(F234,Fasce!A:B,2,FALSE))","v":0},0,{"$f":"+ROUND(C239/365*F230,0)","v":0},{"$f":"+IF(F233>=E239,E239,F233)","v":0},{"$f":"+Tariffe!$A$3*F239","v":0},{"$f":"+Tariffe!$B$3*F239*$F$6","v":0},{"$f":"+Tariffe!$C$3*F239*$F$7","v":0},null,null,null,null,null,null,{"$f":"+ROUND((G239+H239+I239),2)","v":0}]
[null,{"$f":"+C239+1","v":1},{"$f":"IF(F233=0,0,VLOOKUP(F234,Fasce!A:C,3,FALSE))","v":0},{"$f":"+E239","v":0},{"$f":"+ROUND(C240/365*F230,0)","v":0},{"$f":"+IF(F233>=E240,E240-E239,IF(F233>=E239,F233-E239,IF(F233<E239,0)))","v":0},{"$f":"+Tariffe!$A$4*F240","v":0},{"$f":"+Tariffe!$B$3*F240*$F$6","v":0},{"$f":"+Tariffe!$C$3*F240*$F$7","v":0},null,null,null,null,null,null,0]
[null,1,{"$f":"IF(F233=0,0,VLOOKUP(F234,Fasce!A:D,4,FALSE))","v":0},0,{"$f":"+ROUND(C241/365*F230,0)","v":0},{"$f":"+IF(F233>=E241,E241-E240,IF(F233>=E240,F233-E240,IF(F233<E240,0)))","v":0},{"$f":"+Tariffe!$A$5*F241","v":0},{"$f":"+Tariffe!$B$3*F241*$F$6","v":0},{"$f":"+Tariffe!$C$3*F241*$F$7","v":0},null,null,null,null,null,null,0]
[null,1,{"$f":"IF(F233=0,0,VLOOKUP(F234,Fasce!A:E,5,FALSE))","v":0},0,{"$f":"+ROUND(C242/365*F230,0)","v":0},{"$f":"+IF(F233>=E242,E242-E241,IF(F233>=E241,F233-E241,IF(F233<E241,0)))","v":0},{"$f":"+Tariffe!$A$6*F242","v":0},{"$f":"+Tariffe!$B$3*F242*$F$6","v":0},{"$f":"+Tariffe!$C$3*F242*$F$7","v":0},null,null,null,null,null,null,0]
[null,1,999999,0,999999,{"$f":"+IF(F233>=E243,E243-E242,IF(F233>=E242,F233-E242,IF(F233<E242,0,F233-E242)))","v":0},{"$f":"+Tariffe!$A$7*F243","v":0},{"$f":"+Tariffe!$B$3*F243*$F$6","v":0},{"$f":"+Tariffe!$C$3*F243*$F$7","v":0},null,null,null,null,null,null,0]
[null,null,null,null,null,null,null,null,null,{"$f":"+IF(A226>'Tabella ripartizione'!$L$3,0,Tariffe!$E$3*F230/365)","v":0},{"$f":"+IF(A226>'Tabella ripartizione'!$L$3,0,Tariffe!$F$3*F230/365*F231)","v":0},{"$f":"+IF(A226>'Tabella ripartizione'!$L$3,0,Tariffe!$G$3*F230/365*F232)","v":0},null,null,null,{"$f":"+ROUND(J244+K244+L244,2)","v":0}]
[null,null,null,null,null,null,null,null,null,null,null,null,{"$f":"+(Tariffe!$I$3+Tariffe!$J$3+Tariffe!$K$3+Tariffe!$L$3+Tariffe!$M$3)*F233","v":0},{"$f":"+(Tariffe!$I$3+Tariffe!$J$3+Tariffe!$K$3+Tariffe!$L$3+Tariffe!$M$3)*F233*F231","v":0},{"$f":"+(Tariffe!$I$3+Tariffe!$J$3+Tariffe!$K$3+Tariffe!$L$3+Tariffe!$M$3)*F233*F232","v":0},{"$f":"+ROUND(M245+N245+O245,2)","v":0}]
[null,null,null,null,null,null,null,null,null,null,null,null,null,null,null,{"$f":"SUM(P239:P245)","v":0},"Imponibile"]
[null,null,null,null,null,null,null,null,null,null,null,null,null,null,null,{"$f":"+ROUND(P246*0.1,2)","v":0},"IVA (10%)"]
[null,null,null,null,null,null,null,null,null,null,null,null,null,null,null,{"$f":"+P247+P246","v":0},"Totale corrispettivi"]
[]
[]
[{"$f":"+A226+1","v":11},null,null,null,null,null,"Impoto"]
[{"$f":"CONCATENATE(\"Unità domestica residente #\",A251)","v":"Unità domestica residente #11"},null,null,null,null,null,{"$f":"+P273","v":0}]
["Data inizio periodo consumo",null,null,null,null,{"$f":"+'Tabella ripartizione'!$C$3","v":"00:00:00"}]
["Data fine periodo consumo",null,null,null,null,{"$f":"+'Tabella ripartizione'!$C$4","v":"00:00:00"}]
["Giorni di consumo",null,null,null,null,{"$f":"+F254-F253+1","v":1}]
["Fognatura",null,null,null,null,{"$f":"+'Tabella ripartizione'!$C$6","v":1},"(0 = esente, 1=assoggettato)"]
["Depurazione",null,null,null,null,{"$f":"+'Tabella ripartizione'!$C$7","v":1},"(0 = esente, 1=assoggettato)"]
["Consumo misurato",null,null,null,null,{"$f":"SUMIF('Tabella ripartizione'!$B:$B,A252,'Tabella ripartizione'!$C:$C)","v":0}]
["Numero di componenti nucleo familiare",null,null,null,null,{"$f":"SUMIF('Tabella ripartizione'!$B:$B,A252,'Tabella ripartizione'!$D:$D)","v":0}]
[]
["Tariffe TICSI 2022"]
["Domestico Residente","Fasce anno (m3)",null,"Fasce pro-die (m3)",null,"mc riarticolati","Importi servizio",null,null,"Importi Quota fissa",null,null,"Importi perequazione"]
[null,"da","a","da","a",{"$f":"+F268+F267+F266+F265+F264","v":0},"Acqua","Fogna","Depurazione","Acqua","Fogna","Depurazione","Acqua","Fogna","Depurazione","Totali"]
[null,0,{"$f":"IF(F258=0,0,VLOOKUP(F259,Fasce!A:B,2,FALSE))","v":0},0,{"$f":"+ROUND(C264/365*F255,0)","v":0},{"$f":"+IF(F258>=E264,E264,F258)","v":0},{"$f":"+Tariffe!$A$3*F264","v":0},{"$f":"+Tariffe!$B$3*F264*$F$6","v":0},{"$f":"+Tariffe!$C$3*F264*$F$7","v":0},null,null,null,null,null,null,{"$f":"+ROUND((G264+H264+I264),2)","v":0}]
[null,{"$f":"+C264+1","v":1},{"$f":"IF(F258=0,0,VLOOKUP(F259,Fasce!A:C,3,FALSE))","v":0},{"$f":"+E264","v":0},{"$f":"+ROUND(C265/365*F255,0)","v":0},{"$f":"+IF(F258>=E265,E265-E264,IF(F258>=E264,F258-E264,IF(F258<E264,0)))","v":0},{"$f":"+Tariffe!$A$4*F265","v":0},{"$f":"+Tariffe!$B$3*F265*$F$6","v":0},{"$f":"+Tariffe!$C$3*F265*$F$7","v":0},null,null,null,null,null,null,0]
[null,1,{"$f":"IF(F258=0,0,VLOOKUP(F259,Fasce!A:D,4,FALSE))","v":0},0,{"$f":"+ROUND(C266/365*F255,0)","v":0},{"$f":"+IF(F258>=E266,E266-E265,IF(F258>=E265,F258-E265,IF(F258<E265,0)))","v":0},{"$f":"+Tariffe!$A$5*F266","v":0},{"$f":"+Tariffe!$B$3*F266*$F$6","v":0},{"$f":"+Tariffe!$C$3*F266*$F$7","v":0},null,null,null,null,null,null,0]
[null,1,{"$f":"IF(F258=0,0,VLOOKUP(F259,Fasce!A:E,5,FALSE))","v":0},0,{"$f":"+ROUND(C267/365*F255,0)","v":0},{"$f":"+IF(F258>=E267,E267-E266,IF(F258>=E266,F258-E266,IF(F258<E266,0)))","v":0},{"$f":"+Tariffe!$A$6*F267","v":0},{"$f":"+Tariffe!$B$3*F267*$F$6","v":0},{"$f":"+Tariffe!$C$3*F267*$F$7","v":0},null,null,null,null,null,null,0]
[null,1,999999,0,999999,{"$f":"+IF(F258>=E268,E268-E267,IF(F258>=E267,F258-E267,IF(F258<E267,0,F258-E267)))","v":0},{"$f":"+Tariffe!$A$7*F268","v":0},{"$f":"+Tariffe!$B$3*F268*$F$6","v":0},{"$f":"+Tariffe!$C$3*F268*$F$7","v":0},null,null,null,null,null,null,0]
[null,null,null,null,null,null,null,null,null,{"$f":"+IF(A251>'Tabella ripartizione'!$L$3,0,Tariffe!$E$3*F255/365)","v":0},{"$f":"+IF(A251>'Tabella ripartizione'!$L$3,0,Tariffe!$F$3*F255/365*F256)","v":0},{"$f":"+IF(A251>'Tabella ripartizione'!$L$3,0,Tariffe!$G$3*F255/365*F257)","v":0},null,null,null,{"$f":"+ROUND(J269+K269+L269,2)","v":0}]
[null,null,null,null,null,null,null,null,null,null,null,null,{"$f":"+(Tariffe!$I$3+Tariffe!$J$3+Tariffe!$K$3+Tariffe!$L$3+Tariffe!$M$3)*F258","v":0},{"$f":"+(Tariffe!$I$3+Tariffe!$J$3+Tariffe!$K$3+Tariffe!$L$3+Tariffe!$M$3)*F258*F256","v":0},{"$f":"+(Tariffe!$I$3+Tariffe!$J$3+Tariffe!$K$3+Tariffe!$L$3+Tariffe!$M$3)*F258*F257","v":0},{"$f":"+ROUND(M270+N270+O270,2)","v":0}]
[null,null,null,null,null,null,null,null,null,null,null,null,null,null,null,{"$f":"SUM(P264:P270)","v":0},"Imponibile"]
[null,null,null,null,null,null,null,null,null,null,null,null,null,null,null,{"$f":"+ROUND(P271*0.1,2)","v":0},"IVA (10%)"]
[null,null,null,null,null,null,null,null,null,null,null,null,null,null,null,{"$f":"+P272+P271","v":0},"Totale corrispettivi"]
[]
[]
[{"$f":"+A251+1","v":12},null,null,null,null,null,"Impoto"]
[{"$f":"CONCATENATE(\"Unità domestica residente #\",A276)","v":"Unità domestica residente #12"},null,null,null,null,null,{"$f":"+P298","v":0}]
["Data inizio periodo consumo",null,null,null,null,{"$f":"+'Tabella ripartizione'!$C$3","v":"00:00:00"}]
["Data fine periodo consumo",null,null,null,null,{"$f":"+'Tabella ripartizione'!$C$4","v":"00:00:00"}]
["Giorni di consumo",null,null,null,null,{"$f":"+F279-F278+1","v":1}]
["Fognatura",null,null,null,null,{"$f":"+'Tabella ripartizione'!$C$6","v":1},"(0 = esente, 1=assoggettato)"]
["Depurazione",null,null,null,null,{"$f":"+'Tabella ripartizione'!$C$7","v":1},"(0 = esente, 1=assoggettato)"]
["Consumo misurato",null,null,null,null,{"$f":"SUMIF('Tabella ripartizione'!$B:$B,A277,'Tabella ripartizione'!$C:$C)","v":0}]
["Numero di componenti nucleo familiare",null,null,null,null,{"$f":"SUMIF('Tabella ripartizione'!$B:$B,A277,'Tabella ripartizione'!$D:$D)","v":0}]
[]
["Tariffe TICSI 2022"]
["Domestico Residente","Fasce anno (m3)",null,"Fasce pro-die (m3)",null,"mc riarticolati","Importi servizio",null,null,"Importi Quota fissa",null,null,"Importi perequazione"]
[null,"da","a","da","a",{"$f":"+F293+F292+F291+F290+F289","v":0},"Acqua","Fogna","Depurazione","Acqua","Fogna","Depurazione","Acqua","Fogna","Depurazione","Totali"]
[null,0,{"$f":"IF(F283=0,0,VLOOKUP(F284,Fasce!A:B,2,FALSE))","v":0},0,{"$f":"+ROUND(C289/365*F280,0)","v":0},{"$f":"+IF(F283>=E289,E289,F283)","v":0},{"$f":"+Tariffe!$A$3*F289","v":0},{"$f":"+Tariffe!$B$3*F289*$F$6","v":0},{"$f":"+Tariffe!$C$3*F289*$F$7","v":0},null,null,null,null,null,null,{"$f":"+ROUND((G289+H289+I289),2)","v":0}]
[null,{"$f":"+C289+1","v":1},{"$f":"IF(F283=0,0,VLOOKUP(F284,Fasce!A:C,3,FALSE))","v":0},{"$f":"+E289","v":0},{"$f":"+ROUND(C290/365*F280,0)","v":0},{"$f":"+IF(F283>=E290,E290-E289,IF(F283>=E289,F283-E289,IF(F283<E289,0)))","v":0},{"$f":"+Tariffe!$A$4*F290","v":0},{"$f":"+Tariffe!$B$3*F290*$F$6","v":0},{"$f":"+Tariffe!$C$3*F290*$F$7","v":0},null,null,null,null,null,null,0]
[null,1,{"$f":"IF(F283=0,0,VLOOKUP(F284,Fasce!A:D,4,FALSE))","v":0},0,{"$f":"+ROUND(C291/365*F280,0)","v":0},{"$f":"+IF(F283>=E291,E291-E290,IF(F283>=E290,F283-E290,IF(F283<E290,0)))","v":0},{"$f":"+Tariffe!$A$5*F291","v":0},{"$f":"+Tariffe!$B$3*F291*$F$6","v":0},{"$f":"+Tariffe!$C$3*F291*$F$7","v":0},null,null,null,null,null,null,0]
[null,1,{"$f":"IF(F283=0,0,VLOOKUP(F284,Fasce!A:E,5,FALSE))","v":0},0,{"$f":"+ROUND(C292/365*F280,0)","v":0},{"$f":"+IF(F283>=E292,E292-E291,IF(F283>=E291,F283-E291,IF(F283<E291,0)))","v":0},{"$f":"+Tariffe!$A$6*F292","v":0},{"$f":"+Tariffe!$B$3*F292*$F$6","v":0},{"$f":"+Tariffe!$C$3*F292*$F$7","v":0},null,null,null,null,null,null,0]
[null,1,999999,0,999999,{"$f":"+IF(F283>=E293,E293-E292,IF(F283>=E292,F283-E292,IF(F283<E292,0,F283-E292)))","v":0},{"$f":"+Tariffe!$A$7*F293","v":0},{"$f":"+Tariffe!$B$3*F293*$F$6","v":0},{"$f":"+Tariffe!$C$3*F293*$F$7","v":0},null,null,null,null,null,null,0]
[null,null,null,null,null,null,null,null,null,{"$f":"+IF(A276>'Tabella ripartizione'!$L$3,0,Tariffe!$E$3*F280/365)","v":0},{"$f":"+IF(A276>'Tabella ripartizione'!$L$3,0,Tariffe!$F$3*F280/365*F281)","v":0},{"$f":"+IF(A276>'Tabella ripartizione'!$L$3,0,Tariffe!$G$3*F280/365*F282)","v":0},null,null,null,{"$f":"+ROUND(J294+K294+L294,2)","v":0}]
[null,null,null,null,null,null,null,null,null,null,null,null,{"$f":"+(Tariffe!$I$3+Tariffe!$J$3+Tariffe!$K$3+Tariffe!$L$3+Tariffe!$M$3)*F283","v":0},{"$f":"+(Tariffe!$I$3+Tariffe!$J$3+Tariffe!$K$3+Tariffe!$L$3+Tariffe!$M$3)*F283*F281","v":0},{"$f":"+(Tariffe!$I$3+Tariffe!$J$3+Tariffe!$K$3+Tariffe!$L$3+Tariffe!$M$3)*F283*F282","v":0},{"$f":"+ROUND(M295+N295+O295,2)","v":0}]
[null,null,null,null,null,null,null,null,null,null,null,null,null,null,null,{"$f":"SUM(P289:P295)","v":0},"Imponibile"]
[null,null,null,null,null,null,null,null,null,null,null,null,null,null,null,{"$f":"+ROUND(P296*0.1,2)","v":0},"IVA (10%)"]
[null,null,null,null,null,null,null,null,null,null,null,null,null,null,null,{"$f":"+P297+P296","v":0},"Totale corrispettivi"]
[]
[]
[{"$f":"+A276+1","v":13},null,null,null,null,null,"Impoto"]
[{"$f":"CONCATENATE(\"Unità domestica residente #\",A301)","v":"Unità domestica residente #13"},null,null,null,null,null,{"$f":"+P323","v":0}]
["Data inizio periodo consumo",null,null,null,null,{"$f":"+'Tabella ripartizione'!$C$3","v":"00:00:00"}]
["Data fine periodo consumo",null,null,null,null,{"$f":"+'Tabella ripartizione'!$C$4","v":"00:00:00"}]
["Giorni di consumo",null,null,null,null,{"$f":"+F304-F303+1","v":1}]
["Fognatura",null,null,null,null,{"$f":"+'Tabella ripartizione'!$C$6","v":1},"(0 = esente, 1=assoggettato)"]
["Depurazione",null,null,null,null,{"$f":"+'Tabella ripartizione'!$C$7","v":1},"(0 = esente, 1=assoggettato)"]
["Consumo misurato",null,null,null,null,{"$f":"SUMIF('Tabella ripartizione'!$B:$B,A302,'Tabella ripartizione'!$C:$C)","v":0}]
["Numero di componenti nucleo familiare",null,null,null,null,{"$f":"SUMIF('Tabella ripartizione'!$B:$B,A302,'Tabella ripartizione'!$D:$D)","v":0}]
[]
["Tariffe TICSI 2022"]
["Domestico Residente","Fasce anno (m3)",null,"Fasce pro-die (m3)",null,"mc riarticolati","Importi servizio",null,null,"Importi Quota fissa",null,null,"Importi perequazione"]
[null,"da","a","da","a",{"$f":"+F318+F317+F316+F315+F314","v":0},"Acqua","Fogna","Depurazione","Acqua","Fogna","Depurazione","Acqua","Fogna","Depurazione","Totali"]
[null,0,{"$f":"IF(F308=0,0,VLOOKUP(F309,Fasce!A:B,2,FALSE))","v":0},0,{"$f":"+ROUND(C314/365*F305,0)","v":0},{"$f":"+IF(F308>=E314,E314,F308)","v":0},{"$f":"+Tariffe!$A$3*F314","v":0},{"$f":"+Tariffe!$B$3*F314*$F$6","v":0},{"$f":"+Tariffe!$C$3*F314*$F$7","v":0},null,null,null,null,null,null,{"$f":"+ROUND((G314+H314+I314),2)","v":0}]
[null,{"$f":"+C314+1","v":1},{"$f":"IF(F308=0,0,VLOOKUP(F309,Fasce!A:C,3,FALSE))","v":0},{"$f":"+E314","v":0},{"$f":"+ROUND(C315/365*F305,0)","v":0},{"$f":"+IF(F308>=E315,E315-E314,IF(F308>=E314,F308-E314,IF(F308<E314,0)))","v":0},{"$f":"+Tariffe!$A$4*F315","v":0},{"$f":"+Tariffe!$B$3*F315*$F$6","v":0},{"$f":"+Tariffe!$C$3*F315*$F$7","v":0},null,null,null,null,null,null,0]
[null,1,{"$f":"IF(F308=0,0,VLOOKUP(F309,Fasce!A:D,4,FALSE))","v":0},0,{"$f":"+ROUND(C316/365*F305,0)","v":0},{"$f":"+IF(F308>=E316,E316-E315,IF(F308>=E315,F308-E315,IF(F308<E315,0)))","v":0},{"$f":"+Tariffe!$A$5*F316","v":0},{"$f":"+Tariffe!$B$3*F316*$F$6","v":0},{"$f":"+Tariffe!$C$3*F316*$F$7","v":0},null,null,null,null,null,null,0]
[null,1,{"$f":"IF(F308=0,0,VLOOKUP(F309,Fasce!A:E,5,FALSE))","v":0},0,{"$f":"+ROUND(C317/365*F305,0)","v":0},{"$f":"+IF(F308>=E317,E317-E316,IF(F308>=E316,F308-E316,IF(F308<E316,0)))","v":0},{"$f":"+Tariffe!$A$6*F317","v":0},{"$f":"+Tariffe!$B$3*F317*$F$6","v":0},{"$f":"+Tariffe!$C$3*F317*$F$7","v":0},null,null,null,null,null,null,0]
[null,1,999999,0,999999,{"$f":"+IF(F308>=E318,E318-E317,IF(F308>=E317,F308-E317,IF(F308<E317,0,F308-E317)))","v":0},{"$f":"+Tariffe!$A$7*F318","v":0},{"$f":"+Tariffe!$B$3*F318*$F$6","v":0},{"$f":"+Tariffe!$C$3*F318*$F$7","v":0},null,null,null,null,null,null,0]
[null,null,null,null,null,null,null,null,null,{"$f":"+IF(A301>'Tabella ripartizione'!$L$3,0,Tariffe!$E$3*F305/365)","v":0},{"$f":"+IF(A301>'Tabella ripartizione'!$L$3,0,Tariffe!$F$3*F305/365*F306)","v":0},{"$f":"+IF(A301>'Tabella ripartizione'!$L$3,0,Tariffe!$G$3*F305/365*F307)","v":0},null,null,null,{"$f":"+ROUND(J319+K319+L319,2)","v":0}]
[null,null,null,null,null,null,null,null,null,null,null,null,{"$f":"+(Tariffe!$I$3+Tariffe!$J$3+Tariffe!$K$3+Tariffe!$L$3+Tariffe!$M$3)*F308","v":0},{"$f":"+(Tariffe!$I$3+Tariffe!$J$3+Tariffe!$K$3+Tariffe!$L$3+Tariffe!$M$3)*F308*F306","v":0},{"$f":"+(Tariffe!$I$3+Tariffe!$J$3+Tariffe!$K$3+Tariffe!$L$3+Tariffe!$M$3)*F308*F307","v":0},{"$f":"+ROUND(M320+N320+O320,2)","v":0}]
[null,null,null,null,null,null,null,null,null,null,null,null,null,null,null,{"$f":"SUM(P314:P320)","v":0},"Imponibile"]
[null,null,null,null,null,null,null,null,null,null,null,null,null,null,null,{"$f":"+ROUND(P321*0.1,2)","v":0},"IVA (10%)"]
[null,null,null,null,null,null,null,null,null,null,null,null,null,null,null,{"$f":"+P322+P321","v":0},"Totale corrispettivi"]
[]
[]
[{"$f":"+A301+1","v":14},null,null,null,null,null,"Impoto"]
[{"$f":"CONCATENATE(\"Unità domestica residente #\",A326)","v":"Unità domestica residente #14"},null,null,null,null,null,{"$f":"+P348","v":0}]
["Data inizio periodo consumo",null,null,null,null,{"$f":"+'Tabella ripartizione'!$C$3","v":"00:00:00"}]
["Data fine periodo consumo",null,null,null,null,{"$f":"+'Tabella ripartizione'!$C$4","v":"00:00:00"}]
["Giorni di consumo",null,null,null,null,{"$f":"+F329-F328+1","v":1}]
["Fognatura",null,null,null,null,{"$f":"+'Tabella ripartizione'!$C$6","v":1},"(0 = esente, 1=assoggettato)"]
["Depurazione",null,null,null,null,{"$f":"+'Tabella ripartizione'!$C$7","v":1},"(0 = esente, 1=assoggettato)"]
["Consumo misurato",null,null,null,null,{"$f":"SUMIF('Tabella ripartizione'!$B:$B,A327,'Tabella ripartizione'!$C:$C)","v":0}]
["Numero di componenti nucleo familiare",null,null,null,null,{"$f":"SUMIF('Tabella ripartizione'!$B:$B,A327,'Tabella ripartizione'!$D:$D)","v":0}]
[]
["Tariffe TICSI 2022"]
["Domestico Residente","Fasce anno (m3)",null,"Fasce pro-die (m3)",null,"mc riarticolati","Importi servizio",null,null,"Importi Quota fissa",null,null,"Importi perequazione"]
[null,"da","a","da","a",{"$f":"+F343+F342+F341+F340+F339","v":0},"Acqua","Fogna","Depurazione","Acqua","Fogna","Depurazione","Acqua","Fogna","Depurazione","Totali"]
[null,0,{"$f":"IF(F333=0,0,VLOOKUP(F334,Fasce!A:B,2,FALSE))","v":0},0,{"$f":"+ROUND(C339/365*F330,0)","v":0},{"$f":"+IF(F333>=E339,E339,F333)","v":0},{"$f":"+Tariffe!$A$3*F339","v":0},{"$f":"+Tariffe!$B$3*F339*$F$6","v":0},{"$f":"+Tariffe!$C$3*F339*$F$7","v":0},null,null,null,null,null,null,{"$f":"+ROUND((G339+H339+I339),2)","v":0}]
[null,{"$f":"+C339+1","v":1},{"$f":"IF(F333=0,0,VLOOKUP(F334,Fasce!A:C,3,FALSE))","v":0},{"$f":"+E339","v":0},{"$f":"+ROUND(C340/365*F330,0)","v":0},{"$f":"+IF(F333>=E340,E340-E339,IF(F333>=E339,F333-E339,IF(F333<E339,0)))","v":0},{"$f":"+Tariffe!$A$4*F340","v":0},{"$f":"+Tariffe!$B$3*F340*$F$6","v":0},{"$f":"+Tariffe!$C$3*F340*$F$7","v":0},null,null,null,null,null,null,0]
[null,1,{"$f":"IF(F333=0,0,VLOOKUP(F334,Fasce!A:D,4,FALSE))","v":0},0,{"$f":"+ROUND(C341/365*F330,0)","v":0},{"$f":"+IF(F333>=E341,E341-E340,IF(F333>=E340,F333-E340,IF(F333<E340,0)))","v":0},{"$f":"+Tariffe!$A$5*F341","v":0},{"$f":"+Tariffe!$B$3*F341*$F$6","v":0},{"$f":"+Tariffe!$C$3*F341*$F$7","v":0},null,null,null,null,null,null,0]
[null,1,{"$f":"IF(F333=0,0,VLOOKUP(F334,Fasce!A:E,5,FALSE))","v":0},0,{"$f":"+ROUND(C342/365*F330,0)","v":0},{"$f":"+IF(F333>=E342,E342-E341,IF(F333>=E341,F333-E341,IF(F333<E341,0)))","v":0},{"$f":"+Tariffe!$A$6*F342","v":0},{"$f":"+Tariffe!$B$3*F342*$F$6","v":0},{"$f":"+Tariffe!$C$3*F342*$F$7","v":0},null,null,null,null,null,null,0]
[null,1,999999,0,999999,{"$f":"+IF(F333>=E343,E343-E342,IF(F333>=E342,F333-E342,IF(F333<E342,0,F333-E342)))","v":0},{"$f":"+Tariffe!$A$7*F343","v":0},{"$f":"+Tariffe!$B$3*F343*$F$6","v":0},{"$f":"+Tariffe!$C$3*F343*$F$7","v":0},null,null,null,null,null,null,0]
[null,null,null,null,null,null,null,null,null,{"$f":"+IF(A326>'Tabella ripartizione'!$L$3,0,Tariffe!$E$3*F330/365)","v":0},{"$f":"+IF(A326>'Tabella ripartizione'!$L$3,0,Tariffe!$F$3*F330/365*F331)","v":0},{"$f":"+IF(A326>'Tabella ripartizione'!$L$3,0,Tariffe!$G$3*F330/365*F332)","v":0},null,null,null,{"$f":"+ROUND(J344+K344+L344,2)","v":0}]
[null,null,null,null,null,null,null,null,null,null,null,null,{"$f":"+(Tariffe!$I$3+Tariffe!$J$3+Tariffe!$K$3+Tariffe!$L$3+Tariffe!$M$3)*F333","v":0},{"$f":"+(Tariffe!$I$3+Tariffe!$J$3+Tariffe!$K$3+Tariffe!$L$3+Tariffe!$M$3)*F333*F331","v":0},{"$f":"+(Tariffe!$I$3+Tariffe!$J$3+Tariffe!$K$3+Tariffe!$L$3+Tariffe!$M$3)*F333*F332","v":0},{"$f":"+ROUND(M345+N345+O345,2)","v":0}]
[null,null,null,null,null,null,null,null,null,null,null,null,null,null,null,{"$f":"SUM(P339:P345)","v":0},"Imponibile"]
[null,null,null,null,null,null,null,null,null,null,null,null,null,null,null,{"$f":"+ROUND(P346*0.1,2)","v":0},"IVA (10%)"]
[null,null,null,null,null,null,null,null,null,null,null,null,null,null,null,{"$f":"+P347+P346","v":0},"Totale corrispettivi"]
[]
[]
[{"$f":"+A326+1","v":15},null,null,null,null,null,"Impoto"]
[{"$f":"CONCATENATE(\"Unità domestica residente #\",A351)","v":"Unità domestica residente #15"},null,null,null,null,null,{"$f":"+P373","v":0}]
["Data inizio periodo consumo",null,null,null,null,{"$f":"+'Tabella ripartizione'!$C$3","v":"00:00:00"}]
["Data fine periodo consumo",null,null,null,null,{"$f":"+'Tabella ripartizione'!$C$4","v":"00:00:00"}]
["Giorni di consumo",null,null,null,null,{"$f":"+F354-F353+1","v":1}]
["Fognatura",null,null,null,null,{"$f":"+'Tabella ripartizione'!$C$6","v":1},"(0 = esente, 1=assoggettato)"]
["Depurazione",null,null,null,null,{"$f":"+'Tabella ripartizione'!$C$7","v":1},"(0 = esente, 1=assoggettato)"]
["Consumo misurato",null,null,null,null,{"$f":"SUMIF('Tabella ripartizione'!$B:$B,A352,'Tabella ripartizione'!$C:$C)","v":0}]
["Numero di componenti nucleo familiare",null,null,null,null,{"$f":"SUMIF('Tabella ripartizione'!$B:$B,A352,'Tabella ripartizione'!$D:$D)","v":0}]
[]
["Tariffe TICSI 2022"]
["Domestico Residente","Fasce anno (m3)",null,"Fasce pro-die (m3)",null,"mc riarticolati","Importi servizio",null,null,"Importi Quota fissa",null,null,"Importi perequazione"]
[null,"da","a","da","a",{"$f":"+F368+F367+F366+F365+F364","v":0},"Acqua","Fogna","Depurazione","Acqua","Fogna","Depurazione","Acqua","Fogna","Depurazione","Totali"]
[null,0,{"$f":"IF(F358=0,0,VLOOKUP(F359,Fasce!A:B,2,FALSE))","v":0},0,{"$f":"+ROUND(C364/365*F355,0)","v":0},{"$f":"+IF(F358>=E364,E364,F358)","v":0},{"$f":"+Tariffe!$A$3*F364","v":0},{"$f":"+Tariffe!$B$3*F364*$F$6","v":0},{"$f":"+Tariffe!$C$3*F364*$F$7","v":0},null,null,null,null,null,null,{"$f":"+ROUND((G364+H364+I364),2)","v":0}]
[null,{"$f":"+C364+1","v":1},{"$f":"IF(F358=0,0,VLOOKUP(F359,Fasce!A:C,3,FALSE))","v":0},{"$f":"+E364","v":0},{"$f":"+ROUND(C365/365*F355,0)","v":0},{"$f":"+IF(F358>=E365,E365-E364,IF(F358>=E364,F358-E364,IF(F358<E364,0)))","v":0},{"$f":"+Tariffe!$A$4*F365","v":0},{"$f":"+Tariffe!$B$3*F365*$F$6","v":0},{"$f":"+Tariffe!$C$3*F365*$F$7","v":0},null,null,null,null,null,null,0]
[null,1,{"$f":"IF(F358=0,0,VLOOKUP(F359,Fasce!A:D,4,FALSE))","v":0},0,{"$f":"+ROUND(C366/365*F355,0)","v":0},{"$f":"+IF(F358>=E366,E366-E365,IF(F358>=E365,F358-E365,IF(F358<E365,0)))","v":0},{"$f":"+Tariffe!$A$5*F366","v":0},{"$f":"+Tariffe!$B$3*F366*$F$6","v":0},{"$f":"+Tariffe!$C$3*F366*$F$7","v":0},null,null,null,null,null,null,0]
[null,1,{"$f":"IF(F358=0,0,VLOOKUP(F359,Fasce!A:E,5,FALSE))","v":0},0,{"$f":"+ROUND(C367/365*F355,0)","v":0},{"$f":"+IF(F358>=E367,E367-E366,IF(F358>=E366,F358-E366,IF(F358<E366,0)))","v":0},{"$f":"+Tariffe!$A$6*F367","v":0},{"$f":"+Tariffe!$B$3*F367*$F$6","v":0},{"$f":"+Tariffe!$C$3*F367*$F$7","v":0},null,null,null,null,null,null,0]
[null,1,999999,0,999999,{"$f":"+IF(F358>=E368,E368-E367,IF(F358>=E367,F358-E367,IF(F358<E367,0,F358-E367)))","v":0},{"$f":"+Tariffe!$A$7*F368","v":0},{"$f":"+Tariffe!$B$3*F368*$F$6","v":0},{"$f":"+Tariffe!$C$3*F368*$F$7","v":0},null,null,null,null,null,null,0]
[null,null,null,null,null,null,null,null,null,{"$f":"+IF(A351>'Tabella ripartizione'!$L$3,0,Tariffe!$E$3*F355/365)","v":0},{"$f":"+IF(A351>'Tabella ripartizione'!$L$3,0,Tariffe!$F$3*F355/365*F356)","v":0},{"$f":"+IF(A351>'Tabella ripartizione'!$L$3,0,Tariffe!$G$3*F355/365*F357)","v":0},null,null,null,{"$f":"+ROUND(J369+K369+L369,2)","v":0}]
[null,null,null,null,null,null,null,null,null,null,null,null,{"$f":"+(Tariffe!$I$3+Tariffe!$J$3+Tariffe!$K$3+Tariffe!$L$3+Tariffe!$M$3)*F358","v":0},{"$f":"+(Tariffe!$I$3+Tariffe!$J$3+Tariffe!$K$3+Tariffe!$L$3+Tariffe!$M$3)*F358*F356","v":0},{"$f":"+(Tariffe!$I$3+Tariffe!$J$3+Tariffe!$K$3+Tariffe!$L$3+Tariffe!$M$3)*F358*F357","v":0},{"$f":"+ROUND(M370+N370+O370,2)","v":0}]
[null,null,null,null,null,null,null,null,null,null,null,null,null,null,null,{"$f":"SUM(P364:P370)","v":0},"Imponibile"]
[null,null,null,null,null,null,null,null,null,null,null,null,null,null,null,{"$f":"+ROUND(P371*0.1,2)","v":0},"IVA (10%)"]
[null,null,null,null,null,null,null,null,null,null,null,null,null,null,null,{"$f":"+P372+P371","v":0},"Totale corrispettivi"]
[]
[]
[{"$f":"+A351+1","v":16},null,null,null,null,null,"Impoto"]
[{"$f":"CONCATENATE(\"Unità domestica residente #\",A376)","v":"Unità domestica residente #16"},null,null,null,null,null,{"$f":"+P398","v":0}]
["Data inizio periodo consumo",null,null,null,null,{"$f":"+'Tabella ripartizione'!$C$3","v":"00:00:00"}]
["Data fine periodo consumo",null,null,null,null,{"$f":"+'Tabella ripartizione'!$C$4","v":"00:00:00"}]
["Giorni di consumo",null,null,null,null,{"$f":"+F379-F378+1","v":1}]
["Fognatura",null,null,null,null,{"$f":"+'Tabella ripartizione'!$C$6","v":1},"(0 = esente, 1=assoggettato)"]
["Depurazione",null,null,null,null,{"$f":"+'Tabella ripartizione'!$C$7","v":1},"(0 = esente, 1=assoggettato)"]
["Consumo misurato",null,null,null,null,{"$f":"SUMIF('Tabella ripartizione'!$B:$B,A377,'Tabella ripartizione'!$C:$C)","v":0}]
["Numero di componenti nucleo familiare",null,null,null,null,{"$f":"SUMIF('Tabella ripartizione'!$B:$B,A377,'Tabella ripartizione'!$D:$D)","v":0}]
[]
["Tariffe TICSI 2022"]
["Domestico Residente","Fasce anno (m3)",null,"Fasce pro-die (m3)",null,"mc riarticolati","Importi servizio",null,null,"Importi Quota fissa",null,null,"Importi perequazione"]
[null,"da","a","da","a",{"$f":"+F393+F392+F391+F390+F389","v":0},"Acqua","Fogna","Depurazione","Acqua","Fogna","Depurazione","Acqua","Fogna","Depurazione","Totali"]
[null,0,{"$f":"IF(F383=0,0,VLOOKUP(F384,Fasce!A:B,2,FALSE))","v":0},0,{"$f":"+ROUND(C389/365*F380,0)","v":0},{"$f":"+IF(F383>=E389,E389,F383)","v":0},{"$f":"+Tariffe!$A$3*F389","v":0},{"$f":"+Tariffe!$B$3*F389*$F$6","v":0},{"$f":"+Tariffe!$C$3*F389*$F$7","v":0},null,null,null,null,null,null,{"$f":"+ROUND((G389+H389+I389),2)","v":0}]
[null,{"$f":"+C389+1","v":1},{"$f":"IF(F383=0,0,VLOOKUP(F384,Fasce!A:C,3,FALSE))","v":0},{"$f":"+E389","v":0},{"$f":"+ROUND(C390/365*F380,0)","v":0},{"$f":"+IF(F383>=E390,E390-E389,IF(F383>=E389,F383-E389,IF(F383<E389,0)))","v":0},{"$f":"+Tariffe!$A$4*F390","v":0},{"$f":"+Tariffe!$B$3*F390*$F$6","v":0},{"$f":"+Tariffe!$C$3*F390*$F$7","v":0},null,null,null,null,null,null,0]
[null,1,{"$f":"IF(F383=0,0,VLOOKUP(F384,Fasce!A:D,4,FALSE))","v":0},0,{"$f":"+ROUND(C391/365*F380,0)","v":0},{"$f":"+IF(F383>=E391,E391-E390,IF(F383>=E390,F383-E390,IF(F383<E390,0)))","v":0},{"$f":"+Tariffe!$A$5*F391","v":0},{"$f":"+Tariffe!$B$3*F391*$F$6","v":0},{"$f":"+Tariffe!$C$3*F391*$F$7","v":0},null,null,null,null,null,null,0]
[null,1,{"$f":"IF(F383=0,0,VLOOKUP(F384,Fasce!A:E,5,FALSE))","v":0},0,{"$f":"+ROUND(C392/365*F380,0)","v":0},{"$f":"+IF(F383>=E392,E392-E391,IF(F383>=E391,F383-E391,IF(F383<E391,0)))","v":0},{"$f":"+Tariffe!$A$6*F392","v":0},{"$f":"+Tariffe!$B$3*F392*$F$6","v":0},{"$f":"+Tariffe!$C$3*F392*$F$7","v":0},null,null,null,null,null,null,0]
[null,1,999999,0,999999,{"$f":"+IF(F383>=E393,E393-E392,IF(F383>=E392,F383-E392,IF(F383<E392,0,F383-E392)))","v":0},{"$f":"+Tariffe!$A$7*F393","v":0},{"$f":"+Tariffe!$B$3*F393*$F$6","v":0},{"$f":"+Tariffe!$C$3*F393*$F$7","v":0},null,null,null,null,null,null,0]
[null,null,null,null,null,null,null,null,null,{"$f":"+IF(A376>'Tabella ripartizione'!$L$3,0,Tariffe!$E$3*F380/365)","v":0},{"$f":"+IF(A376>'Tabella ripartizione'!$L$3,0,Tariffe!$F$3*F380/365*F381)","v":0},{"$f":"+IF(A376>'Tabella ripartizione'!$L$3,0,Tariffe!$G$3*F380/365*F382)","v":0},null,null,null,{"$f":"+ROUND(J394+K394+L394,2)","v":0}]
[null,null,null,null,null,null,null,null,null,null,null,null,{"$f":"+(Tariffe!$I$3+Tariffe!$J$3+Tariffe!$K$3+Tariffe!$L$3+Tariffe!$M$3)*F383","v":0},{"$f":"+(Tariffe!$I$3+Tariffe!$J$3+Tariffe!$K$3+Tariffe!$L$3+Tariffe!$M$3)*F383*F381","v":0},{"$f":"+(Tariffe!$I$3+Tariffe!$J$3+Tariffe!$K$3+Tariffe!$L$3+Tariffe!$M$3)*F383*F382","v":0},{"$f":"+ROUND(M395+N395+O395,2)","v":0}]
[null,null,null,null,null,null,null,null,null,null,null,null,null,null,null,{"$f":"SUM(P389:P395)","v":0},"Imponibile"]
[null,null,null,null,null,null,null,null,null,null,null,null,null,null,null,{"$f":"+ROUND(P396*0.1,2)","v":0},"IVA (10%)"]
[null,null,null,null,null,null,null,null,null,null,null,null,null,null,null,{"$f":"+P397+P396","v":0},"Totale corrispettivi"]
[]
[]
[{"$f":"+A376+1","v":17},null,null,null,null,null,"Impoto"]
[{"$f":"CONCATENATE(\"Unità domestica residente #\",A401)","v":"Unità domestica residente #17"},null,null,null,null,null,{"$f":"+P423","v":0}]
["Data inizio periodo consumo",null,null,null,null,{"$f":"+'Tabella ripartizione'!$C$3","v":"00:00:00"}]
["Data fine periodo consumo",null,null,null,null,{"$f":"+'Tabella ripartizione'!$C$4","v":"00:00:00"}]
["Giorni di consumo",null,null,null,null,{"$f":"+F404-F403+1","v":1}]
["Fognatura",null,null,null,null,{"$f":"+'Tabella ripartizione'!$C$6","v":1},"(0 = esente, 1=assoggettato)"]
["Depurazione",null,null,null,null,{"$f":"+'Tabella ripartizione'!$C$7","v":1},"(0 = esente, 1=assoggettato)"]
["Consumo misurato",null,null,null,null,{"$f":"SUMIF('Tabella ripartizione'!$B:$B,A402,'Tabella ripartizione'!$C:$C)","v":0}]
["Numero di componenti nucleo familiare",null,null,null,null,{"$f":"SUMIF('Tabella ripartizione'!$B:$B,A402,'Tabella ripartizione'!$D:$D)","v":0}]
[]
["Tariffe TICSI 2022"]
["Domestico Residente","Fasce anno (m3)",null,"Fasce pro-die (m3)",null,"mc riarticolati","Importi servizio",null,null,"Importi Quota fissa",null,null,"Importi perequazione"]
[null,"da","a","da","a",{"$f":"+F418+F417+F416+F415+F414","v":0},"Acqua","Fogna","Depurazione","Acqua","Fogna","Depurazione","Acqua","Fogna","Depurazione","Totali"]
[null,0,{"$f":"IF(F408=0,0,VLOOKUP(F409,Fasce!A:B,2,FALSE))","v":0},0,{"$f":"+ROUND(C414/365*F405,0)","v":0},{"$f":"+IF(F408>=E414,E414,F408)","v":0},{"$f":"+Tariffe!$A$3*F414","v":0},{"$f":"+Tariffe!$B$3*F414*$F$6","v":0},{"$f":"+Tariffe!$C$3*F414*$F$7","v":0},null,null,null,null,null,null,{"$f":"+ROUND((G414+H414+I414),2)","v":0}]
[null,{"$f":"+C414+1","v":1},{"$f":"IF(F408=0,0,VLOOKUP(F409,Fasce!A:C,3,FALSE))","v":0},{"$f":"+E414","v":0},{"$f":"+ROUND(C415/365*F405,0)","v":0},{"$f":"+IF(F408>=E415,E415-E414,IF(F408>=E414,F408-E414,IF(F408<E414,0)))","v":0},{"$f":"+Tariffe!$A$4*F415","v":0},{"$f":"+Tariffe!$B$3*F415*$F$6","v":0},{"$f":"+Tariffe!$C$3*F415*$F$7","v":0},null,null,null,null,null,null,0]
[null,1,{"$f":"IF(F408=0,0,VLOOKUP(F409,Fasce!A:D,4,FALSE))","v":0},0,{"$f":"+ROUND(C416/365*F405,0)","v":0},{"$f":"+IF(F408>=E416,E416-E415,IF(F408>=E415,F408-E415,IF(F408<E415,0)))","v":0},{"$f":"+Tariffe!$A$5*F416","v":0},{"$f":"+Tariffe!$B$3*F416*$F$6","v":0},{"$f":"+Tariffe!$C$3*F416*$F$7","v":0},null,null,null,null,null,null,0]
[null,1,{"$f":"IF(F408=0,0,VLOOKUP(F409,Fasce!A:E,5,FALSE))","v":0},0,{"$f":"+ROUND(C417/365*F405,0)","v":0},{"$f":"+IF(F408>=E417,E417-E416,IF(F408>=E416,F408-E416,IF(F408<E416,0)))","v":0},{"$f":"+Tariffe!$A$6*F417","v":0},{"$f":"+Tariffe!$B$3*F417*$F$6","v":0},{"$f":"+Tariffe!$C$3*F417*$F$7","v":0},null,null,null,null,null,null,0]
[null,1,999999,0,999999,{"$f":"+IF(F408>=E418,E418-E417,IF(F408>=E417,F408-E417,IF(F408<E417,0,F408-E417)))","v":0},{"$f":"+Tariffe!$A$7*F418","v":0},{"$f":"+Tariffe!$B$3*F418*$F$6","v":0},{"$f":"+Tariffe!$C$3*F418*$F$7","v":0},null,null,null,null,null,null,0]
[null,null,null,null,null,null,null,null,null,{"$f":"+IF(A401>'Tabella ripartizione'!$L$3,0,Tariffe!$E$3*F405/365)","v":0},{"$f":"+IF(A401>'Tabella ripartizione'!$L$3,0,Tariffe!$F$3*F405/365*F406)","v":0},{"$f":"+IF(A401>'Tabella ripartizione'!$L$3,0,Tariffe!$G$3*F405/365*F407)","v":0},null,null,null,{"$f":"+ROUND(J419+K419+L419,2)","v":0}]
[null,null,null,null,null,null,null,null,null,null,null,null,{"$f":"+(Tariffe!$I$3+Tariffe!$J$3+Tariffe!$K$3+Tariffe!$L$3+Tariffe!$M$3)*F408","v":0},{"$f":"+(Tariffe!$I$3+Tariffe!$J$3+Tariffe!$K$3+Tariffe!$L$3+Tariffe!$M$3)*F408*F406","v":0},{"$f":"+(Tariffe!$I$3+Tariffe!$J$3+Tariffe!$K$3+Tariffe!$L$3+Tariffe!$M$3)*F408*F407","v":0},{"$f":"+ROUND(M420+N420+O420,2)","v":0}]
[null,null,null,null,null,null,null,null,null,null,null,null,null,null,null,{"$f":"SUM(P414:P420)","v":0},"Imponibile"]
[null,null,null,null,null,null,null,null,null,null,null,null,null,null,null,{"$f":"+ROUND(P421*0.1,2)","v":0},"IVA (10%)"]
[null,null,null,null,null,null,null,null,null,null,null,null,null,null,null,{"$f":"+P422+P421","v":0},"Totale corrispettivi"]
[]
[]
[{"$f":"+A401+1","v":18},null,null,null,null,null,"Impoto"]
[{"$f":"CONCATENATE(\"Unità domestica residente #\",A426)","v":"Unità domestica residente #18"},null,null,null,null,null,{"$f":"+P448","v":0}]
["Data inizio periodo consumo",null,null,null,null,{"$f":"+'Tabella ripartizione'!$C$3","v":"00:00:00"}]
["Data fine periodo consumo",null,null,null,null,{"$f":"+'Tabella ripartizione'!$C$4","v":"00:00:00"}]
["Giorni di consumo",null,null,null,null,{"$f":"+F429-F428+1","v":1}]
["Fognatura",null,null,null,null,{"$f":"+'Tabella ripartizione'!$C$6","v":1},"(0 = esente, 1=assoggettato)"]
["Depurazione",null,null,null,null,{"$f":"+'Tabella ripartizione'!$C$7","v":1},"(0 = esente, 1=assoggettato)"]
["Consumo misurato",null,null,null,null,{"$f":"SUMIF('Tabella ripartizione'!$B:$B,A427,'Tabella ripartizione'!$C:$C)","v":0}]
["Numero di componenti nucleo familiare",null,null,null,null,{"$f":"SUMIF('Tabella ripartizione'!$B:$B,A427,'Tabella ripartizione'!$D:$D)","v":0}]
[]
["Tariffe TICSI 2022"]
["Domestico Residente","Fasce anno (m3)",null,"Fasce pro-die (m3)",null,"mc riarticolati","Importi servizio",null,null,"Importi Quota fissa",null,null,"Importi perequazione"]
[null,"da","a","da","a",{"$f":"+F443+F442+F441+F440+F439","v":0},"Acqua","Fogna","Depurazione","Acqua","Fogna","Depurazione","Acqua","Fogna","Depurazione","Totali"]
[null,0,{"$f":"IF(F433=0,0,VLOOKUP(F434,Fasce!A:B,2,FALSE))","v":0},0,{"$f":"+ROUND(C439/365*F430,0)","v":0},{"$f":"+IF(F433>=E439,E439,F433)","v":0},{"$f":"+Tariffe!$A$3*F439","v":0},{"$f":"+Tariffe!$B$3*F439*$F$6","v":0},{"$f":"+Tariffe!$C$3*F439*$F$7","v":0},null,null,null,null,null,null,{"$f":"+ROUND((G439+H439+I439),2)","v":0}]
[null,{"$f":"+C439+1","v":1},{"$f":"IF(F433=0,0,VLOOKUP(F434,Fasce!A:C,3,FALSE))","v":0},{"$f":"+E439","v":0},{"$f":"+ROUND(C440/365*F430,0)","v":0},{"$f":"+IF(F433>=E440,E440-E439,IF(F433>=E439,F433-E439,IF(F433<E439,0)))","v":0},{"$f":"+Tariffe!$A$4*F440","v":0},{"$f":"+Tariffe!$B$3*F440*$F$6","v":0},{"$f":"+Tariffe!$C$3*F440*$F$7","v":0},null,null,null,null,null,null,0]
[null,1,{"$f":"IF(F433=0,0,VLOOKUP(F434,Fasce!A:D,4,FALSE))","v":0},0,{"$f":"+ROUND(C441/365*F430,0)","v":0},{"$f":"+IF(F433>=E441,E441-E440,IF(F433>=E440,F433-E440,IF(F433<E440,0)))","v":0},{"$f":"+Tariffe!$A$5*F441","v":0},{"$f":"+Tariffe!$B$3*F441*$F$6","v":0},{"$f":"+Tariffe!$C$3*F441*$F$7","v":0},null,null,null,null,null,null,0]
[null,1,{"$f":"IF(F433=0,0,VLOOKUP(F434,Fasce!A:E,5,FALSE))","v":0},0,{"$f":"+ROUND(C442/365*F430,0)","v":0},{"$f":"+IF(F433>=E442,E442-E441,IF(F433>=E441,F433-E441,IF(F433<E441,0)))","v":0},{"$f":"+Tariffe!$A$6*F442","v":0},{"$f":"+Tariffe!$B$3*F442*$F$6","v":0},{"$f":"+Tariffe!$C$3*F442*$F$7","v":0},null,null,null,null,null,null,0]
[null,1,999999,0,999999,{"$f":"+IF(F433>=E443,E443-E442,IF(F433>=E442,F433-E442,IF(F433<E442,0,F433-E442)))","v":0},{"$f":"+Tariffe!$A$7*F443","v":0},{"$f":"+Tariffe!$B$3*F443*$F$6","v":0},{"$f":"+Tariffe!$C$3*F443*$F$7","v":0},null,null,null,null,null,null,0]
[null,null,null,null,null,null,null,null,null,{"$f":"+IF(A426>'Tabella ripartizione'!$L$3,0,Tariffe!$E$3*F430/365)","v":0},{"$f":"+IF(A426>'Tabella ripartizione'!$L$3,0,Tariffe!$F$3*F430/365*F431)","v":0},{"$f":"+IF(A426>'Tabella ripartizione'!$L$3,0,Tariffe!$G$3*F430/365*F432)","v":0},null,null,null,{"$f":"+ROUND(J444+K444+L444,2)","v":0}]
[null,null,null,null,null,null,null,null,null,null,null,null,{"$f":"+(Tariffe!$I$3+Tariffe!$J$3+Tariffe!$K$3+Tariffe!$L$3+Tariffe!$M$3)*F433","v":0},{"$f":"+(Tariffe!$I$3+Tariffe!$J$3+Tariffe!$K$3+Tariffe!$L$3+Tariffe!$M$3)*F433*F431","v":0},{"$f":"+(Tariffe!$I$3+Tariffe!$J$3+Tariffe!$K$3+Tariffe!$L$3+Tariffe!$M$3)*F433*F432","v":0},{"$f":"+ROUND(M445+N445+O445,2)","v":0}]
[null,null,null,null,null,null,null,null,null,null,null,null,null,null,null,{"$f":"SUM(P439:P445)","v":0},"Imponibile"]
[null,null,null,null,null,null,null,null,null,null,null,null,null,null,null,{"$f":"+ROUND(P446*0.1,2)","v":0},"IVA (10%)"]
[null,null,null,null,null,null,null,null,null,null,null,null,null,null,null,{"$f":"+P447+P446","v":0},"Totale corrispettivi"]
[]
[]
[{"$f":"+A426+1","v":19},null,null,null,null,null,"Impoto"]
[{"$f":"CONCATENATE(\"Unità domestica residente #\",A451)","v":"Unità domestica residente #19"},null,null,null,null,null,{"$f":"+P473","v":0}]
["Data inizio periodo consumo",null,null,null,null,{"$f":"+'Tabella ripartizione'!$C$3","v":"00:00:00"}]
["Data fine periodo consumo",null,null,null,null,{"$f":"+'Tabella ripartizione'!$C$4","v":"00:00:00"}]
["Giorni di consumo",null,null,null,null,{"$f":"+F454-F453+1","v":1}]
["Fognatura",null,null,null,null,{"$f":"+'Tabella ripartizione'!$C$6","v":1},"(0 = esente, 1=assoggettato)"]
["Depurazione",null,null,null,null,{"$f":"+'Tabella ripartizione'!$C$7","v":1},"(0 = esente, 1=assoggettato)"]
["Consumo misurato",null,null,null,null,{"$f":"SUMIF('Tabella ripartizione'!$B:$B,A452,'Tabella ripartizione'!$C:$C)","v":0}]
["Numero di componenti nucleo familiare",null,null,null,null,{"$f":"SUMIF('Tabella ripartizione'!$B:$B,A452,'Tabella ripartizione'!$D:$D)","v":0}]
[]
["Tariffe TICSI 2022"]
["Domestico Residente","Fasce anno (m3)",null,"Fasce pro-die (m3)",null,"mc riarticolati","Importi servizio",null,null,"Importi Quota fissa",null,null,"Importi perequazione"]
[null,"da","a","da","a",{"$f":"+F468+F467+F466+F465+F464","v":0},"Acqua","Fogna","Depurazione","Acqua","Fogna","Depurazione","Acqua","Fogna","Depurazione","Totali"]
[null,0,{"$f":"IF(F458=0,0,VLOOKUP(F459,Fasce!A:B,2,FALSE))","v":0},0,{"$f":"+ROUND(C464/365*F455,0)","v":0},{"$f":"+IF(F458>=E464,E464,F458)","v":0},{"$f":"+Tariffe!$A$3*F464","v":0},{"$f":"+Tariffe!$B$3*F464*$F$6","v":0},{"$f":"+Tariffe!$C$3*F464*$F$7","v":0},null,null,null,null,null,null,{"$f":"+ROUND((G464+H464+I464),2)","v":0}]
[null,{"$f":"+C464+1","v":1},{"$f":"IF(F458=0,0,VLOOKUP(F459,Fasce!A:C,3,FALSE))","v":0},{"$f":"+E464","v":0},{"$f":"+ROUND(C465/365*F455,0)","v":0},{"$f":"+IF(F458>=E465,E465-E464,IF(F458>=E464,F458-E464,IF(F458<E464,0)))","v":0},{"$f":"+Tariffe!$A$4*F465","v":0},{"$f":"+Tariffe!$B$3*F465*$F$6","v":0},{"$f":"+Tariffe!$C$3*F465*$F$7","v":0},null,null,null,null,null,null,0]
[null,1,{"$f":"IF(F458=0,0,VLOOKUP(F459,Fasce!A:D,4,FALSE))","v":0},0,{"$f":"+ROUND(C466/365*F455,0)","v":0},{"$f":"+IF(F458>=E466,E466-E465,IF(F458>=E465,F458-E465,IF(F458<E465,0)))","v":0},{"$f":"+Tariffe!$A$5*F466","v":0},{"$f":"+Tariffe!$B$3*F466*$F$6","v":0},{"$f":"+Tariffe!$C$3*F466*$F$7","v":0},null,null,null,null,null,null,0]
[null,1,{"$f":"IF(F458=0,0,VLOOKUP(F459,Fasce!A:E,5,FALSE))","v":0},0,{"$f":"+ROUND(C467/365*F455,0)","v":0},{"$f":"+IF(F458>=E467,E467-E466,IF(F458>=E466,F458-E466,IF(F458<E466,0)))","v":0},{"$f":"+Tariffe!$A$6*F467","v":0},{"$f":"+Tariffe!$B$3*F467*$F$6","v":0},{"$f":"+Tariffe!$C$3*F467*$F$7","v":0},null,null,null,null,null,null,0]
[null,1,999999,0,999999,{"$f":"+IF(F458>=E468,E468-E467,IF(F458>=E467,F458-E467,IF(F458<E467,0,F458-E467)))","v":0},{"$f":"+Tariffe!$A$7*F468","v":0},{"$f":"+Tariffe!$B$3*F468*$F$6","v":0},{"$f":"+Tariffe!$C$3*F468*$F$7","v":0},null,null,null,null,null,null,0]
[null,null,null,null,null,null,null,null,null,{"$f":"+IF(A451>'Tabella ripartizione'!$L$3,0,Tariffe!$E$3*F455/365)","v":0},{"$f":"+IF(A451>'Tabella ripartizione'!$L$3,0,Tariffe!$F$3*F455/365*F456)","v":0},{"$f":"+IF(A451>'Tabella ripartizione'!$L$3,0,Tariffe!$G$3*F455/365*F457)","v":0},null,null,null,{"$f":"+ROUND(J469+K469+L469,2)","v":0}]
[null,null,null,null,null,null,null,null,null,null,null,null,{"$f":"+(Tariffe!$I$3+Tariffe!$J$3+Tariffe!$K$3+Tariffe!$L$3+Tariffe!$M$3)*F458","v":0},{"$f":"+(Tariffe!$I$3+Tariffe!$J$3+Tariffe!$K$3+Tariffe!$L$3+Tariffe!$M$3)*F458*F456","v":0},{"$f":"+(Tariffe!$I$3+Tariffe!$J$3+Tariffe!$K$3+Tariffe!$L$3+Tariffe!$M$3)*F458*F457","v":0},{"$f":"+ROUND(M470+N470+O470,2)","v":0}]
[null,null,null,null,null,null,null,null,null,null,null,null,null,null,null,{"$f":"SUM(P464:P470)","v":0},"Imponibile"]
[null,null,null,null,null,null,null,null,null,null,null,null,null,null,null,{"$f":"+ROUND(P471*0.1,2)","v":0},"IVA (10%)"]
[null,null,null,null,null,null,null,null,null,null,null,null,null,null,null,{"$f":"+P472+P471","v":0},"Totale corrispettivi"]
[]
[]
[{"$f":"+A451+1","v":20},null,null,null,null,null,"Impoto"]
[{"$f":"CONCATENATE(\"Unità domestica residente #\",A476)","v":"Unità domestica residente #20"},null,null,null,null,null,{"$f":"+P498","v":0}]
["Data inizio periodo consumo",null,null,null,null,{"$f":"+'Tabella ripartizione'!$C$3","v":"00:00:00"}]
["Data fine periodo consumo",null,null,null,null,{"$f":"+'Tabella ripartizione'!$C$4","v":"00:00:00"}]
["Giorni di consumo",null,null,null,null,{"$f":"+F479-F478+1","v":1}]
["Fognatura",null,null,null,null,{"$f":"+'Tabella ripartizione'!$C$6","v":1},"(0 = esente, 1=assoggettato)"]
["Depurazione",null,null,null,null,{"$f":"+'Tabella ripartizione'!$C$7","v":1},"(0 = esente, 1=assoggettato)"]
["Consumo misurato",null,null,null,null,{"$f":"SUMIF('Tabella ripartizione'!$B:$B,A477,'Tabella ripartizione'!$C:$C)","v":0}]
["Numero di componenti nucleo familiare",null,null,null,null,{"$f":"SUMIF('Tabella ripartizione'!$B:$B,A477,'Tabella ripartizione'!$D:$D)","v":0}]
[]
["Tariffe TICSI 2022"]
["Domestico Residente","Fasce anno (m3)",null,"Fasce pro-die (m3)",null,"mc riarticolati","Importi servizio",null,null,"Importi Quota fissa",null,null,"Importi perequazione"]
[null,"da","a","da","a",{"$f":"+F493+F492+F491+F490+F489","v":0},"Acqua","Fogna","Depurazione","Acqua","Fogna","Depurazione","Acqua","Fogna","Depurazione","Totali"]
[null,0,{"$f":"IF(F483=0,0,VLOOKUP(F484,Fasce!A:B,2,FALSE))","v":0},0,{"$f":"+ROUND(C489/365*F480,0)","v":0},{"$f":"+IF(F483>=E489,E489,F483)","v":0},{"$f":"+Tariffe!$A$3*F489","v":0},{"$f":"+Tariffe!$B$3*F489*$F$6","v":0},{"$f":"+Tariffe!$C$3*F489*$F$7","v":0},null,null,null,null,null,null,{"$f":"+ROUND((G489+H489+I489),2)","v":0}]
[null,{"$f":"+C489+1","v":1},{"$f":"IF(F483=0,0,VLOOKUP(F484,Fasce!A:C,3,FALSE))","v":0},{"$f":"+E489","v":0},{"$f":"+ROUND(C490/365*F480,0)","v":0},{"$f":"+IF(F483>=E490,E490-E489,IF(F483>=E489,F483-E489,IF(F483<E489,0)))","v":0},{"$f":"+Tariffe!$A$4*F490","v":0},{"$f":"+Tariffe!$B$3*F490*$F$6","v":0},{"$f":"+Tariffe!$C$3*F490*$F$7","v":0},null,null,null,null,null,null,0]
[null,1,{"$f":"IF(F483=0,0,VLOOKUP(F484,Fasce!A:D,4,FALSE))","v":0},0,{"$f":"+ROUND(C491/365*F480,0)","v":0},{"$f":"+IF(F483>=E491,E491-E490,IF(F483>=E490,F483-E490,IF(F483<E490,0)))","v":0},{"$f":"+Tariffe!$A$5*F491","v":0},{"$f":"+Tariffe!$B$3*F491*$F$6","v":0},{"$f":"+Tariffe!$C$3*F491*$F$7","v":0},null,null,null,null,null,null,0]
[null,1,{"$f":"IF(F483=0,0,VLOOKUP(F484,Fasce!A:E,5,FALSE))","v":0},0,{"$f":"+ROUND(C492/365*F480,0)","v":0},{"$f":"+IF(F483>=E492,E492-E491,IF(F483>=E491,F483-E491,IF(F483<E491,0)))","v":0},{"$f":"+Tariffe!$A$6*F492","v":0},{"$f":"+Tariffe!$B$3*F492*$F$6","v":0},{"$f":"+Tariffe!$C$3*F492*$F$7","v":0},null,null,null,null,null,null,0]
[null,1,999999,0,999999,{"$f":"+IF(F483>=E493,E493-E492,IF(F483>=E492,F483-E492,IF(F483<E492,0,F483-E492)))","v":0},{"$f":"+Tariffe!$A$7*F493","v":0},{"$f":"+Tariffe!$B$3*F493*$F$6","v":0},{"$f":"+Tariffe!$C$3*F493*$F$7","v":0},null,null,null,null,null,null,0]
[null,null,null,null,null,null,null,null,null,{"$f":"+IF(A476>'Tabella ripartizione'!$L$3,0,Tariffe!$E$3*F480/365)","v":0},{"$f":"+IF(A476>'Tabella ripartizione'!$L$3,0,Tariffe!$F$3*F480/365*F481)","v":0},{"$f":"+IF(A476>'Tabella ripartizione'!$L$3,0,Tariffe!$G$3*F480/365*F482)","v":0},null,null,null,{"$f":"+ROUND(J494+K494+L494,2)","v":0}]
[null,null,null,null,null,null,null,null,null,null,null,null,{"$f":"+(Tariffe!$I$3+Tariffe!$J$3+Tariffe!$K$3+Tariffe!$L$3+Tariffe!$M$3)*F483","v":0},{"$f":"+(Tariffe!$I$3+Tariffe!$J$3+Tariffe!$K$3+Tariffe!$L$3+Tariffe!$M$3)*F483*F481","v":0},{"$f":"+(Tariffe!$I$3+Tariffe!$J$3+Tariffe!$K$3+Tariffe!$L$3+Tariffe!$M$3)*F483*F482","v":0},{"$f":"+ROUND(M495+N495+O495,2)","v":0}]
[null,null,null,null,null,null,null,null,null,null,null,null,null,null,null,{"$f":"SUM(P489:P495)","v":0},"Imponibile"]
[null,null,null,null,null,null,null,null,null,null,null,null,null,null,null,{"$f":"+ROUND(P496*0.1,2)","v":0},"IVA (10%)"]
[null,null,null,null,null,null,null,null,null,null,null,null,null,null,null,{"$f":"+P497+P496","v":0},"Totale corrispettivi"]
[]
[]
[{"$f":"+A476+1","v":21},null,null,null,null,null,"Impoto"]
[{"$f":"CONCATENATE(\"Unità domestica residente #\",A501)","v":"Unità domestica residente #21"},null,null,null,null,null,{"$f":"+P523","v":0}]
["Data inizio periodo consumo",null,null,null,null,{"$f":"+'Tabella ripartizione'!$C$3","v":"00:00:00"}]
["Data fine periodo consumo",null,null,null,null,{"$f":"+'Tabella ripartizione'!$C$4","v":"00:00:00"}]
["Giorni di consumo",null,null,null,null,{"$f":"+F504-F503+1","v":1}]
["Fognatura",null,null,null,null,{"$f":"+'Tabella ripartizione'!$C$6","v":1},"(0 = esente, 1=assoggettato)"]
["Depurazione",null,null,null,null,{"$f":"+'Tabella ripartizione'!$C$7","v":1},"(0 = esente, 1=assoggettato)"]
["Consumo misurato",null,null,null,null,{"$f":"SUMIF('Tabella ripartizione'!$B:$B,A502,'Tabella ripartizione'!$C:$C)","v":0}]
["Numero di componenti nucleo familiare",null,null,null,null,{"$f":"SUMIF('Tabella ripartizione'!$B:$B,A502,'Tabella ripartizione'!$D:$D)","v":0}]
[]
["Tariffe TICSI 2022"]
["Domestico Residente","Fasce anno (m3)",null,"Fasce pro-die (m3)",null,"mc riarticolati","Importi servizio",null,null,"Importi Quota fissa",null,null,"Importi perequazione"]
[null,"da","a","da","a",{"$f":"+F518+F517+F516+F515+F514","v":0},"Acqua","Fogna","Depurazione","Acqua","Fogna","Depurazione","Acqua","Fogna","Depurazione","Totali"]
[null,0,{"$f":"IF(F508=0,0,VLOOKUP(F509,Fasce!A:B,2,FALSE))","v":0},0,{"$f":"+ROUND(C514/365*F505,0)","v":0},{"$f":"+IF(F508>=E514,E514,F508)","v":0},{"$f":"+Tariffe!$A$3*F514","v":0},{"$f":"+Tariffe!$B$3*F514*$F$6","v":0},{"$f":"+Tariffe!$C$3*F514*$F$7","v":0},null,null,null,null,null,null,{"$f":"+ROUND((G514+H514+I514),2)","v":0}]
[null,{"$f":"+C514+1","v":1},{"$f":"IF(F508=0,0,VLOOKUP(F509,Fasce!A:C,3,FALSE))","v":0},{"$f":"+E514","v":0},{"$f":"+ROUND(C515/365*F505,0)","v":0},{"$f":"+IF(F508>=E515,E515-E514,IF(F508>=E514,F508-E514,IF(F508<E514,0)))","v":0},{"$f":"+Tariffe!$A$4*F515","v":0},{"$f":"+Tariffe!$B$3*F515*$F$6","v":0},{"$f":"+Tariffe!$C$3*F515*$F$7","v":0},null,null,null,null,null,null,0]
[null,1,{"$f":"IF(F508=0,0,VLOOKUP(F509,Fasce!A:D,4,FALSE))","v":0},0,{"$f":"+ROUND(C516/365*F505,0)","v":0},{"$f":"+IF(F508>=E516,E516-E515,IF(F508>=E515,F508-E515,IF(F508<E515,0)))","v":0},{"$f":"+Tariffe!$A$5*F516","v":0},{"$f":"+Tariffe!$B$3*F516*$F$6","v":0},{"$f":"+Tariffe!$C$3*F516*$F$7","v":0},null,null,null,null,null,null,0]
[null,1,{"$f":"IF(F508=0,0,VLOOKUP(F509,Fasce!A:E,5,FALSE))","v":0},0,{"$f":"+ROUND(C517/365*F505,0)","v":0},{"$f":"+IF(F508>=E517,E517-E516,IF(F508>=E516,F508-E516,IF(F508<E516,0)))","v":0},{"$f":"+Tariffe!$A$6*F517","v":0},{"$f":"+Tariffe!$B$3*F517*$F$6","v":0},{"$f":"+Tariffe!$C$3*F517*$F$7","v":0},null,null,null,null,null,null,0]
[null,1,999999,0,999999,{"$f":"+IF(F508>=E518,E518-E517,IF(F508>=E517,F508-E517,IF(F508<E517,0,F508-E517)))","v":0},{"$f":"+Tariffe!$A$7*F518","v":0},{"$f":"+Tariffe!$B$3*F518*$F$6","v":0},{"$f":"+Tariffe!$C$3*F518*$F$7","v":0},null,null,null,null,null,null,0]
[null,null,null,null,null,null,null,null,null,{"$f":"+IF(A501>'Tabella ripartizione'!$L$3,0,Tariffe!$E$3*F505/365)","v":0},{"$f":"+IF(A501>'Tabella ripartizione'!$L$3,0,Tariffe!$F$3*F505/365*F506)","v":0},{"$f":"+IF(A501>'Tabella ripartizione'!$L$3,0,Tariffe!$G$3*F505/365*F507)","v":0},null,null,null,{"$f":"+ROUND(J519+K519+L519,2)","v":0}]
[null,null,null,null,null,null,null,null,null,null,null,null,{"$f":"+(Tariffe!$I$3+Tariffe!$J$3+Tariffe!$K$3+Tariffe!$L$3+Tariffe!$M$3)*F508","v":0},{"$f":"+(Tariffe!$I$3+Tariffe!$J$3+Tariffe!$K$3+Tariffe!$L$3+Tariffe!$M$3)*F508*F506","v":0},{"$f":"+(Tariffe!$I$3+Tariffe!$J$3+Tariffe!$K$3+Tariffe!$L$3+Tariffe!$M$3)*F508*F507","v":0},{"$f":"+ROUND(M520+N520+O520,2)","v":0}]
[null,null,null,null,null,null,null,null,null,null,null,null,null,null,null,{"$f":"SUM(P514:P520)","v":0},"Imponibile"]
[null,null,null,null,null,null,null,null,null,null,null,null,null,null,null,{"$f":"+ROUND(P521*0.1,2)","v":0},"IVA (10%)"]
[null,null,null,null,null,null,null,null,null,null,null,null,null,null,null,{"$f":"+P522+P521","v":0},"Totale corrispettivi"]
[]
[]
[{"$f":"+A501+1","v":22},null,null,null,null,null,"Impoto"]
[{"$f":"CONCATENATE(\"Unità domestica residente #\",A526)","v":"Unità domestica residente #22"},null,null,null,null,null,{"$f":"+P548","v":0}]
["Data inizio periodo consumo",null,null,null,null,{"$f":"+'Tabella ripartizione'!$C$3","v":"00:00:00"}]
["Data fine periodo consumo",null,null,null,null,{"$f":"+'Tabella ripartizione'!$C$4","v":"00:00:00"}]
["Giorni di consumo",null,null,null,null,{"$f":"+F529-F528+1","v":1}]
["Fognatura",null,null,null,null,{"$f":"+'Tabella ripartizione'!$C$6","v":1},"(0 = esente, 1=assoggettato)"]
["Depurazione",null,null,null,null,{"$f":"+'Tabella ripartizione'!$C$7","v":1},"(0 = esente, 1=assoggettato)"]
["Consumo misurato",null,null,null,null,{"$f":"SUMIF('Tabella ripartizione'!$B:$B,A527,'Tabella ripartizione'!$C:$C)","v":0}]
["Numero di componenti nucleo familiare",null,null,null,null,{"$f":"SUMIF('Tabella ripartizione'!$B:$B,A527,'Tabella ripartizione'!$D:$D)","v":0}]
[]
["Tariffe TICSI 2022"]
["Domestico Residente","Fasce anno (m3)",null,"Fasce pro-die (m3)",null,"mc riarticolati","Importi servizio",null,null,"Importi Quota fissa",null,null,"Importi perequazione"]
[null,"da","a","da","a",{"$f":"+F543+F542+F541+F540+F539","v":0},"Acqua","Fogna","Depurazione","Acqua","Fogna","Depurazione","Acqua","Fogna","Depurazione","Totali"]
[null,0,{"$f":"IF(F533=0,0,VLOOKUP(F534,Fasce!A:B,2,FALSE))","v":0},0,{"$f":"+ROUND(C539/365*F530,0)","v":0},{"$f":"+IF(F533>=E539,E539,F533)","v":0},{"$f":"+Tariffe!$A$3*F539","v":0},{"$f":"+Tariffe!$B$3*F539*$F$6","v":0},{"$f":"+Tariffe!$C$3*F539*$F$7","v":0},null,null,null,null,null,null,{"$f":"+ROUND((G539+H539+I539),2)","v":0}]
[null,{"$f":"+C539+1","v":1},{"$f":"IF(F533=0,0,VLOOKUP(F534,Fasce!A:C,3,FALSE))","v":0},{"$f":"+E539","v":0},{"$f":"+ROUND(C540/365*F530,0)","v":0},{"$f":"+IF(F533>=E540,E540-E539,IF(F533>=E539,F533-E539,IF(F533<E539,0)))","v":0},{"$f":"+Tariffe!$A$4*F540","v":0},{"$f":"+Tariffe!$B$3*F540*$F$6","v":0},{"$f":"+Tariffe!$C$3*F540*$F$7","v":0},null,null,null,null,null,null,0]
[null,1,{"$f":"IF(F533=0,0,VLOOKUP(F534,Fasce!A:D,4,FALSE))","v":0},0,{"$f":"+ROUND(C541/365*F530,0)","v":0},{"$f":"+IF(F533>=E541,E541-E540,IF(F533>=E540,F533-E540,IF(F533<E540,0)))","v":0},{"$f":"+Tariffe!$A$5*F541","v":0},{"$f":"+Tariffe!$B$3*F541*$F$6","v":0},{"$f":"+Tariffe!$C$3*F541*$F$7","v":0},null,null,null,null,null,null,0]
[null,1,{"$f":"IF(F533=0,0,VLOOKUP(F534,Fasce!A:E,5,FALSE))","v":0},0,{"$f":"+ROUND(C542/365*F530,0)","v":0},{"$f":"+IF(F533>=E542,E542-E541,IF(F533>=E541,F533-E541,IF(F533<E541,0)))","v":0},{"$f":"+Tariffe!$A$6*F542","v":0},{"$f":"+Tariffe!$B$3*F542*$F$6","v":0},{"$f":"+Tariffe!$C$3*F542*$F$7","v":0},null,null,null,null,null,null,0]
[null,1,999999,0,999999,{"$f":"+IF(F533>=E543,E543-E542,IF(F533>=E542,F533-E542,IF(F533<E542,0,F533-E542)))","v":0},{"$f":"+Tariffe!$A$7*F543","v":0},{"$f":"+Tariffe!$B$3*F543*$F$6","v":0},{"$f":"+Tariffe!$C$3*F543*$F$7","v":0},null,null,null,null,null,null,0]
[null,null,null,null,null,null,null,null,null,{"$f":"+IF(A526>'Tabella ripartizione'!$L$3,0,Tariffe!$E$3*F530/365)","v":0},{"$f":"+IF(A526>'Tabella ripartizione'!$L$3,0,Tariffe!$F$3*F530/365*F531)","v":0},{"$f":"+IF(A526>'Tabella ripartizione'!$L$3,0,Tariffe!$G$3*F530/365*F532)","v":0},null,null,null,{"$f":"+ROUND(J544+K544+L544,2)","v":0}]
[null,null,null,null,null,null,null,null,null,null,null,null,{"$f":"+(Tariffe!$I$3+Tariffe!$J$3+Tariffe!$K$3+Tariffe!$L$3+Tariffe!$M$3)*F533","v":0},{"$f":"+(Tariffe!$I$3+Tariffe!$J$3+Tariffe!$K$3+Tariffe!$L$3+Tariffe!$M$3)*F533*F531","v":0},{"$f":"+(Tariffe!$I$3+Tariffe!$J$3+Tariffe!$K$3+Tariffe!$L$3+Tariffe!$M$3)*F533*F532","v":0},{"$f":"+ROUND(M545+N545+O545,2)","v":0}]
[null,null,null,null,null,null,null,null,null,null,null,null,null,null,null,{"$f":"SUM(P539:P545)","v":0},"Imponibile"]
[null,null,null,null,null,null,null,null,null,null,null,null,null,null,null,{"$f":"+ROUND(P546*0.1,2)","v":0},"IVA (10%)"]
[null,null,null,null,null,null,null,null,null,null,null,null,null,null,null,{"$f":"+P547+P546","v":0},"Totale corrispettivi"]
[]
[]
[{"$f":"+A526+1","v":23},null,null,null,null,null,"Impoto"]
[{"$f":"CONCATENATE(\"Unità domestica residente #\",A551)","v":"Unità domestica residente #23"},null,null,null,null,null,{"$f":"+P573","v":0}]
["Data inizio periodo consumo",null,null,null,null,{"$f":"+'Tabella ripartizione'!$C$3","v":"00:00:00"}]
["Data fine periodo consumo",null,null,null,null,{"$f":"+'Tabella ripartizione'!$C$4","v":"00:00:00"}]
["Giorni di consumo",null,null,null,null,{"$f":"+F554-F553+1","v":1}]
["Fognatura",null,null,null,null,{"$f":"+'Tabella ripartizione'!$C$6","v":1},"(0 = esente, 1=assoggettato)"]
["Depurazione",null,null,null,null,{"$f":"+'Tabella ripartizione'!$C$7","v":1},"(0 = esente, 1=assoggettato)"]
["Consumo misurato",null,null,null,null,{"$f":"SUMIF('Tabella ripartizione'!$B:$B,A552,'Tabella ripartizione'!$C:$C)","v":0}]
["Numero di componenti nucleo familiare",null,null,null,null,{"$f":"SUMIF('Tabella ripartizione'!$B:$B,A552,'Tabella ripartizione'!$D:$D)","v":0}]
[]
["Tariffe TICSI 2022"]
["Domestico Residente","Fasce anno (m3)",null,"Fasce pro-die (m3)",null,"mc riarticolati","Importi servizio",null,null,"Importi Quota fissa",null,null,"Importi perequazione"]
[null,"da","a","da","a",{"$f":"+F568+F567+F566+F565+F564","v":0},"Acqua","Fogna","Depurazione","Acqua","Fogna","Depurazione","Acqua","Fogna","Depurazione","Totali"]
[null,0,{"$f":"IF(F558=0,0,VLOOKUP(F559,Fasce!A:B,2,FALSE))","v":0},0,{"$f":"+ROUND(C564/365*F555,0)","v":0},{"$f":"+IF(F558>=E564,E564,F558)","v":0},{"$f":"+Tariffe!$A$3*F564","v":0},{"$f":"+Tariffe!$B$3*F564*$F$6","v":0},{"$f":"+Tariffe!$C$3*F564*$F$7","v":0},null,null,null,null,null,null,{"$f":"+ROUND((G564+H564+I564),2)","v":0}]
[null,{"$f":"+C564+1","v":1},{"$f":"IF(F558=0,0,VLOOKUP(F559,Fasce!A:C,3,FALSE))","v":0},{"$f":"+E564","v":0},{"$f":"+ROUND(C565/365*F555,0)","v":0},{"$f":"+IF(F558>=E565,E565-E564,IF(F558>=E564,F558-E564,IF(F558<E564,0)))","v":0},{"$f":"+Tariffe!$A$4*F565","v":0},{"$f":"+Tariffe!$B$3*F565*$F$6","v":0},{"$f":"+Tariffe!$C$3*F565*$F$7","v":0},null,null,null,null,null,null,0]
[null,1,{"$f":"IF(F558=0,0,VLOOKUP(F559,Fasce!A:D,4,FALSE))","v":0},0,{"$f":"+ROUND(C566/365*F555,0)","v":0},{"$f":"+IF(F558>=E566,E566-E565,IF(F558>=E565,F558-E565,IF(F558<E565,0)))","v":0},{"$f":"+Tariffe!$A$5*F566","v":0},{"$f":"+Tariffe!$B$3*F566*$F$6","v":0},{"$f":"+Tariffe!$C$3*F566*$F$7","v":0},null,null,null,null,null,null,0]
[null,1,{"$f":"IF(F558=0,0,VLOOKUP(F559,Fasce!A:E,5,FALSE))","v":0},0,{"$f":"+ROUND(C567/365*F555,0)","v":0},{"$f":"+IF(F558>=E567,E567-E566,IF(F558>=E566,F558-E566,IF(F558<E566,0)))","v":0},{"$f":"+Tariffe!$A$6*F567","v":0},{"$f":"+Tariffe!$B$3*F567*$F$6","v":0},{"$f":"+Tariffe!$C$3*F567*$F$7","v":0},null,null,null,null,null,null,0]
[null,1,999999,0,999999,{"$f":"+IF(F558>=E568,E568-E567,IF(F558>=E567,F558-E567,IF(F558<E567,0,F558-E567)))","v":0},{"$f":"+Tariffe!$A$7*F568","v":0},{"$f":"+Tariffe!$B$3*F568*$F$6","v":0},{"$f":"+Tariffe!$C$3*F568*$F$7","v":0},null,null,null,null,null,null,0]
[null,null,null,null,null,null,null,null,null,{"$f":"+IF(A551>'Tabella ripartizione'!$L$3,0,Tariffe!$E$3*F555/365)","v":0},{"$f":"+IF(A551>'Tabella ripartizione'!$L$3,0,Tariffe!$F$3*F555/365*F556)","v":0},{"$f":"+IF(A551>'Tabella ripartizione'!$L$3,0,Tariffe!$G$3*F555/365*F557)","v":0},null,null,null,{"$f":"+ROUND(J569+K569+L569,2)","v":0}]
[null,null,null,null,null,null,null,null,null,null,null,null,{"$f":"+(Tariffe!$I$3+Tariffe!$J$3+Tariffe!$K$3+Tariffe!$L$3+Tariffe!$M$3)*F558","v":0},{"$f":"+(Tariffe!$I$3+Tariffe!$J$3+Tariffe!$K$3+Tariffe!$L$3+Tariffe!$M$3)*F558*F556","v":0},{"$f":"+(Tariffe!$I$3+Tariffe!$J$3+Tariffe!$K$3+Tariffe!$L$3+Tariffe!$M$3)*F558*F557","v":0},{"$f":"+ROUND(M570+N570+O570,2)","v":0}]
[null,null,null,null,null,null,null,null,null,null,null,null,null,null,null,{"$f":"SUM(P564:P570)","v":0},"Imponibile"]
[null,null,null,null,null,null,null,null,null,null,null,null,null,null,null,{"$f":"+ROUND(P571*0.1,2)","v":0},"IVA (10%)"]
[null,null,null,null,null,null,null,null,null,null,null,null,null,null,null,{"$f":"+P572+P571","v":0},"Totale corrispettivi"]
[]
[]
[{"$f":"+A551+1","v":24},null,null,null,null,null,"Impoto"]
[{"$f":"CONCATENATE(\"Unità domestica residente #\",A576)","v":"Unità domestica residente #24"},null,null,null,null,null,{"$f":"+P598","v":0}]
["Data inizio periodo consumo",null,null,null,null,{"$f":"+'Tabella ripartizione'!$C$3","v":"00:00:00"}]
["Data fine periodo consumo",null,null,null,null,{"$f":"+'Tabella ripartizione'!$C$4","v":"00:00:00"}]
["Giorni di consumo",null,null,null,null,{"$f":"+F579-F578+1","v":1}]
["Fognatura",null,null,null,null,{"$f":"+'Tabella ripartizione'!$C$6","v":1},"(0 = esente, 1=assoggettato)"]
["Depurazione",null,null,null,null,{"$f":"+'Tabella ripartizione'!$C$7","v":1},"(0 = esente, 1=assoggettato)"]
["Consumo misurato",null,null,null,null,{"$f":"SUMIF('Tabella ripartizione'!$B:$B,A577,'Tabella ripartizione'!$C:$C)","v":0}]
["Numero di componenti nucleo familiare",null,null,null,null,{"$f":"SUMIF('Tabella ripartizione'!$B:$B,A577,'Tabella ripartizione'!$D:$D)","v":0}]
[]
["Tariffe TICSI 2022"]
["Domestico Residente","Fasce anno (m3)",null,"Fasce pro-die (m3)",null,"mc riarticolati","Importi servizio",null,null,"Importi Quota fissa",null,null,"Importi perequazione"]
[null,"da","a","da","a",{"$f":"+F593+F592+F591+F590+F589","v":0},"Acqua","Fogna","Depurazione","Acqua","Fogna","Depurazione","Acqua","Fogna","Depurazione","Totali"]
[null,0,{"$f":"IF(F583=0,0,VLOOKUP(F584,Fasce!A:B,2,FALSE))","v":0},0,{"$f":"+ROUND(C589/365*F580,0)","v":0},{"$f":"+IF(F583>=E589,E589,F583)","v":0},{"$f":"+Tariffe!$A$3*F589","v":0},{"$f":"+Tariffe!$B$3*F589*$F$6","v":0},{"$f":"+Tariffe!$C$3*F589*$F$7","v":0},null,null,null,null,null,null,{"$f":"+ROUND((G589+H589+I589),2)","v":0}]
[null,{"$f":"+C589+1","v":1},{"$f":"IF(F583=0,0,VLOOKUP(F584,Fasce!A:C,3,FALSE))","v":0},{"$f":"+E589","v":0},{"$f":"+ROUND(C590/365*F580,0)","v":0},{"$f":"+IF(F583>=E590,E590-E589,IF(F583>=E589,F583-E589,IF(F583<E589,0)))","v":0},{"$f":"+Tariffe!$A$4*F590","v":0},{"$f":"+Tariffe!$B$3*F590*$F$6","v":0},{"$f":"+Tariffe!$C$3*F590*$F$7","v":0},null,null,null,null,null,null,0]
[null,1,{"$f":"IF(F583=0,0,VLOOKUP(F584,Fasce!A:D,4,FALSE))","v":0},0,{"$f":"+ROUND(C591/365*F580,0)","v":0},{"$f":"+IF(F583>=E591,E591-E590,IF(F583>=E590,F583-E590,IF(F583<E590,0)))","v":0},{"$f":"+Tariffe!$A$5*F591","v":0},{"$f":"+Tariffe!$B$3*F591*$F$6","v":0},{"$f":"+Tariffe!$C$3*F591*$F$7","v":0},null,null,null,null,null,null,0]
[null,1,{"$f":"IF(F583=0,0,VLOOKUP(F584,Fasce!A:E,5,FALSE))","v":0},0,{"$f":"+ROUND(C592/365*F580,0)","v":0},{"$f":"+IF(F583>=E592,E592-E591,IF(F583>=E591,F583-E591,IF(F583<E591,0)))","v":0},{"$f":"+Tariffe!$A$6*F592","v":0},{"$f":"+Tariffe!$B$3*F592*$F$6","v":0},{"$f":"+Tariffe!$C$3*F592*$F$7","v":0},null,null,null,null,null,null,0]
[null,1,999999,0,999999,{"$f":"+IF(F583>=E593,E593-E592,IF(F583>=E592,F583-E592,IF(F583<E592,0,F583-E592)))","v":0},{"$f":"+Tariffe!$A$7*F593","v":0},{"$f":"+Tariffe!$B$3*F593*$F$6","v":0},{"$f":"+Tariffe!$C$3*F593*$F$7","v":0},null,null,null,null,null,null,0]
[null,null,null,null,null,null,null,null,null,{"$f":"+IF(A576>'Tabella ripartizione'!$L$3,0,Tariffe!$E$3*F580/365)","v":0},{"$f":"+IF(A576>'Tabella ripartizione'!$L$3,0,Tariffe!$F$3*F580/365*F581)","v":0},{"$f":"+IF(A576>'Tabella ripartizione'!$L$3,0,Tariffe!$G$3*F580/365*F582)","v":0},null,null,null,{"$f":"+ROUND(J594+K594+L594,2)","v":0}]
[null,null,null,null,null,null,null,null,null,null,null,null,{"$f":"+(Tariffe!$I$3+Tariffe!$J$3+Tariffe!$K$3+Tariffe!$L$3+Tariffe!$M$3)*F583","v":0},{"$f":"+(Tariffe!$I$3+Tariffe!$J$3+Tariffe!$K$3+Tariffe!$L$3+Tariffe!$M$3)*F583*F581","v":0},{"$f":"+(Tariffe!$I$3+Tariffe!$J$3+Tariffe!$K$3+Tariffe!$L$3+Tariffe!$M$3)*F583*F582","v":0},{"$f":"+ROUND(M595+N595+O595,2)","v":0}]
[null,null,null,null,null,null,null,null,null,null,null,null,null,null,null,{"$f":"SUM(P589:P595)","v":0},"Imponibile"]
[null,null,null,null,null,null,null,null,null,null,null,null,null,null,null,{"$f":"+ROUND(P596*0.1,2)","v":0},"IVA (10%)"]
[null,null,null,null,null,null,null,null,null,null,null,null,null,null,null,{"$f":"+P597+P596","v":0},"Totale corrispettivi"]
[]
[]
[{"$f":"+A576+1","v":25},null,null,null,null,null,"Impoto"]
[{"$f":"CONCATENATE(\"Unità domestica residente #\",A601)","v":"Unità domestica residente #25"},null,null,null,null,null,{"$f":"+P623","v":0}]
["Data inizio periodo consumo",null,null,null,null,{"$f":"+'Tabella ripartizione'!$C$3","v":"00:00:00"}]
["Data fine periodo consumo",null,null,null,null,{"$f":"+'Tabella ripartizione'!$C$4","v":"00:00:00"}]
["Giorni di consumo",null,null,null,null,{"$f":"+F604-F603+1","v":1}]
["Fognatura",null,null,null,null,{"$f":"+'Tabella ripartizione'!$C$6","v":1},"(0 = esente, 1=assoggettato)"]
["Depurazione",null,null,null,null,{"$f":"+'Tabella ripartizione'!$C$7","v":1},"(0 = esente, 1=assoggettato)"]
["Consumo misurato",null,null,null,null,{"$f":"SUMIF('Tabella ripartizione'!$B:$B,A602,'Tabella ripartizione'!$C:$C)","v":0}]
["Numero di componenti nucleo familiare",null,null,null,null,{"$f":"SUMIF('Tabella ripartizione'!$B:$B,A602,'Tabella ripartizione'!$D:$D)","v":0}]
[]
["Tariffe TICSI 2022"]
["Domestico Residente","Fasce anno (m3)",null,"Fasce pro-die (m3)",null,"mc riarticolati","Importi servizio",null,null,"Importi Quota fissa",null,null,"Importi perequazione"]
[null,"da","a","da","a",{"$f":"+F618+F617+F616+F615+F614","v":0},"Acqua","Fogna","Depurazione","Acqua","Fogna","Depurazione","Acqua","Fogna","Depurazione","Totali"]
[null,0,{"$f":"IF(F608=0,0,VLOOKUP(F609,Fasce!A:B,2,FALSE))","v":0},0,{"$f":"+ROUND(C614/365*F605,0)","v":0},{"$f":"+IF(F608>=E614,E614,F608)","v":0},{"$f":"+Tariffe!$A$3*F614","v":0},{"$f":"+Tariffe!$B$3*F614*$F$6","v":0},{"$f":"+Tariffe!$C$3*F614*$F$7","v":0},null,null,null,null,null,null,{"$f":"+ROUND((G614+H614+I614),2)","v":0}]
[null,{"$f":"+C614+1","v":1},{"$f":"IF(F608=0,0,VLOOKUP(F609,Fasce!A:C,3,FALSE))","v":0},{"$f":"+E614","v":0},{"$f":"+ROUND(C615/365*F605,0)","v":0},{"$f":"+IF(F608>=E615,E615-E614,IF(F608>=E614,F608-E614,IF(F608<E614,0)))","v":0},{"$f":"+Tariffe!$A$4*F615","v":0},{"$f":"+Tariffe!$B$3*F615*$F$6","v":0},{"$f":"+Tariffe!$C$3*F615*$F$7","v":0},null,null,null,null,null,null,0]
[null,1,{"$f":"IF(F608=0,0,VLOOKUP(F609,Fasce!A:D,4,FALSE))","v":0},0,{"$f":"+ROUND(C616/365*F605,0)","v":0},{"$f":"+IF(F608>=E616,E616-E615,IF(F608>=E615,F608-E615,IF(F608<E615,0)))","v":0},{"$f":"+Tariffe!$A$5*F616","v":0},{"$f":"+Tariffe!$B$3*F616*$F$6","v":0},{"$f":"+Tariffe!$C$3*F616*$F$7","v":0},null,null,null,null,null,null,0]
[null,1,{"$f":"IF(F608=0,0,VLOOKUP(F609,Fasce!A:E,5,FALSE))","v":0},0,{"$f":"+ROUND(C617/365*F605,0)","v":0},{"$f":"+IF(F608>=E617,E617-E616,IF(F608>=E616,F608-E616,IF(F608<E616,0)))","v":0},{"$f":"+Tariffe!$A$6*F617","v":0},{"$f":"+Tariffe!$B$3*F617*$F$6","v":0},{"$f":"+Tariffe!$C$3*F617*$F$7","v":0},null,null,null,null,null,null,0]
[null,1,999999,0,999999,{"$f":"+IF(F608>=E618,E618-E617,IF(F608>=E617,F608-E617,IF(F608<E617,0,F608-E617)))","v":0},{"$f":"+Tariffe!$A$7*F618","v":0},{"$f":"+Tariffe!$B$3*F618*$F$6","v":0},{"$f":"+Tariffe!$C$3*F618*$F$7","v":0},null,null,null,null,null,null,0]
[null,null,null,null,null,null,null,null,null,{"$f":"+IF(A601>'Tabella ripartizione'!$L$3,0,Tariffe!$E$3*F605/365)","v":0},{"$f":"+IF(A601>'Tabella ripartizione'!$L$3,0,Tariffe!$F$3*F605/365*F606)","v":0},{"$f":"+IF(A601>'Tabella ripartizione'!$L$3,0,Tariffe!$G$3*F605/365*F607)","v":0},null,null,null,{"$f":"+ROUND(J619+K619+L619,2)","v":0}]
[null,null,null,null,null,null,null,null,null,null,null,null,{"$f":"+(Tariffe!$I$3+Tariffe!$J$3+Tariffe!$K$3+Tariffe!$L$3+Tariffe!$M$3)*F608","v":0},{"$f":"+(Tariffe!$I$3+Tariffe!$J$3+Tariffe!$K$3+Tariffe!$L$3+Tariffe!$M$3)*F608*F606","v":0},{"$f":"+(Tariffe!$I$3+Tariffe!$J$3+Tariffe!$K$3+Tariffe!$L$3+Tariffe!$M$3)*F608*F607","v":0},{"$f":"+ROUND(M620+N620+O620,2)","v":0}]
[null,null,null,null,null,null,null,null,null,null,null,null,null,null,null,{"$f":"SUM(P614:P620)","v":0},"Imponibile"]
[null,null,null,null,null,null,null,null,null,null,null,null,null,null,null,{"$f":"+ROUND(P621*0.1,2)","v":0},"IVA (10%)"]
[null,null,null,null,null,null,null,null,null,null,null,null,null,null,null,{"$f":"+P622+P621","v":0},"Totale corrispettivi"]
[]
[]
[{"$f":"+A601+1","v":26},null,null,null,null,null,"Impoto"]
[{"$f":"CONCATENATE(\"Unità domestica residente #\",A626)","v":"Unità domestica residente #26"},null,null,null,null,null,{"$f":"+P648","v":0}]
["Data inizio periodo consumo",null,null,null,null,{"$f":"+'Tabella ripartizione'!$C$3","v":"00:00:00"}]
["Data fine periodo consumo",null,null,null,null,{"$f":"+'Tabella ripartizione'!$C$4","v":"00:00:00"}]
["Giorni di consumo",null,null,null,null,{"$f":"+F629-F628+1","v":1}]
["Fognatura",null,null,null,null,{"$f":"+'Tabella ripartizione'!$C$6","v":1},"(0 = esente, 1=assoggettato)"]
["Depurazione",null,null,null,null,{"$f":"+'Tabella ripartizione'!$C$7","v":1},"(0 = esente, 1=assoggettato)"]
["Consumo misurato",null,null,null,null,{"$f":"SUMIF('Tabella ripartizione'!$B:$B,A627,'Tabella ripartizione'!$C:$C)","v":0}]
["Numero di componenti nucleo familiare",null,null,null,null,{"$f":"SUMIF('Tabella ripartizione'!$B:$B,A627,'Tabella ripartizione'!$D:$D)","v":0}]
[]
["Tariffe TICSI 2022"]
["Domestico Residente","Fasce anno (m3)",null,"Fasce pro-die (m3)",null,"mc riarticolati","Importi servizio",null,null,"Importi Quota fissa",null,null,"Importi perequazione"]
[null,"da","a","da","a",{"$f":"+F643+F642+F641+F640+F639","v":0},"Acqua","Fogna","Depurazione","Acqua","Fogna","Depurazione","Acqua","Fogna","Depurazione","Totali"]
[null,0,{"$f":"IF(F633=0,0,VLOOKUP(F634,Fasce!A:B,2,FALSE))","v":0},0,{"$f":"+ROUND(C639/365*F630,0)","v":0},{"$f":"+IF(F633>=E639,E639,F633)","v":0},{"$f":"+Tariffe!$A$3*F639","v":0},{"$f":"+Tariffe!$B$3*F639*$F$6","v":0},{"$f":"+Tariffe!$C$3*F639*$F$7","v":0},null,null,null,null,null,null,{"$f":"+ROUND((G639+H639+I639),2)","v":0}]
[null,{"$f":"+C639+1","v":1},{"$f":"IF(F633=0,0,VLOOKUP(F634,Fasce!A:C,3,FALSE))","v":0},{"$f":"+E639","v":0},{"$f":"+ROUND(C640/365*F630,0)","v":0},{"$f":"+IF(F633>=E640,E640-E639,IF(F633>=E639,F633-E639,IF(F633<E639,0)))","v":0},{"$f":"+Tariffe!$A$4*F640","v":0},{"$f":"+Tariffe!$B$3*F640*$F$6","v":0},{"$f":"+Tariffe!$C$3*F640*$F$7","v":0},null,null,null,null,null,null,0]
[null,1,{"$f":"IF(F633=0,0,VLOOKUP(F634,Fasce!A:D,4,FALSE))","v":0},0,{"$f":"+ROUND(C641/365*F630,0)","v":0},{"$f":"+IF(F633>=E641,E641-E640,IF(F633>=E640,F633-E640,IF(F633<E640,0)))","v":0},{"$f":"+Tariffe!$A$5*F641","v":0},{"$f":"+Tariffe!$B$3*F641*$F$6","v":0},{"$f":"+Tariffe!$C$3*F641*$F$7","v":0},null,null,null,null,null,null,0]
[null,1,{"$f":"IF(F633=0,0,VLOOKUP(F634,Fasce!A:E,5,FALSE))","v":0},0,{"$f":"+ROUND(C642/365*F630,0)","v":0},{"$f":"+IF(F633>=E642,E642-E641,IF(F633>=E641,F633-E641,IF(F633<E641,0)))","v":0},{"$f":"+Tariffe!$A$6*F642","v":0},{"$f":"+Tariffe!$B$3*F642*$F$6","v":0},{"$f":"+Tariffe!$C$3*F642*$F$7","v":0},null,null,null,null,null,null,0]
[null,1,999999,0,999999,{"$f":"+IF(F633>=E643,E643-E642,IF(F633>=E642,F633-E642,IF(F633<E642,0,F633-E642)))","v":0},{"$f":"+Tariffe!$A$7*F643","v":0},{"$f":"+Tariffe!$B$3*F643*$F$6","v":0},{"$f":"+Tariffe!$C$3*F643*$F$7","v":0},null,null,null,null,null,null,0]
[null,null,null,null,null,null,null,null,null,{"$f":"+IF(A626>'Tabella ripartizione'!$L$3,0,Tariffe!$E$3*F630/365)","v":0},{"$f":"+IF(A626>'Tabella ripartizione'!$L$3,0,Tariffe!$F$3*F630/365*F631)","v":0},{"$f":"+IF(A626>'Tabella ripartizione'!$L$3,0,Tariffe!$G$3*F630/365*F632)","v":0},null,null,null,{"$f":"+ROUND(J644+K644+L644,2)","v":0}]
[null,null,null,null,null,null,null,null,null,null,null,null,{"$f":"+(Tariffe!$I$3+Tariffe!$J$3+Tariffe!$K$3+Tariffe!$L$3+Tariffe!$M$3)*F633","v":0},{"$f":"+(Tariffe!$I$3+Tariffe!$J$3+Tariffe!$K$3+Tariffe!$L$3+Tariffe!$M$3)*F633*F631","v":0},{"$f":"+(Tariffe!$I$3+Tariffe!$J$3+Tariffe!$K$3+Tariffe!$L$3+Tariffe!$M$3)*F633*F632","v":0},{"$f":"+ROUND(M645+N645+O645,2)","v":0}]
[null,null,null,null,null,null,null,null,null,null,null,null,null,null,null,{"$f":"SUM(P639:P645)","v":0},"Imponibile"]
[null,null,null,null,null,null,null,null,null,null,null,null,null,null,null,{"$f":"+ROUND(P646*0.1,2)","v":0},"IVA (10%)"]
[null,null,null,null,null,null,null,null,null,null,null,null,null,null,null,{"$f":"+P647+P646","v":0},"Totale corrispettivi"]
[]
[]
[{"$f":"+A626+1","v":27},null,null,null,null,null,"Impoto"]
[{"$f":"CONCATENATE(\"Unità domestica residente #\",A651)","v":"Unità domestica residente #27"},null,null,null,null,null,{"$f":"+P673","v":0}]
["Data inizio periodo consumo",null,null,null,null,{"$f":"+'Tabella ripartizione'!$C$3","v":"00:00:00"}]
["Data fine periodo consumo",null,null,null,null,{"$f":"+'Tabella ripartizione'!$C$4","v":"00:00:00"}]
["Giorni di consumo",null,null,null,null,{"$f":"+F654-F653+1","v":1}]
["Fognatura",null,null,null,null,{"$f":"+'Tabella ripartizione'!$C$6","v":1},"(0 = esente, 1=assoggettato)"]
["Depurazione",null,null,null,null,{"$f":"+'Tabella ripartizione'!$C$7","v":1},"(0 = esente, 1=assoggettato)"]
["Consumo misurato",null,null,null,null,{"$f":"SUMIF('Tabella ripartizione'!$B:$B,A652,'Tabella ripartizione'!$C:$C)","v":0}]
["Numero di componenti nucleo familiare",null,null,null,null,{"$f":"SUMIF('Tabella ripartizione'!$B:$B,A652,'Tabella ripartizione'!$D:$D)","v":0}]
[]
["Tariffe TICSI 2022"]
["Domestico Residente","Fasce anno (m3)",null,"Fasce pro-die (m3)",null,"mc riarticolati","Importi servizio",null,null,"Importi Quota fissa",null,null,"Importi perequazione"]
[null,"da","a","da","a",{"$f":"+F668+F667+F666+F665+F664","v":0},"Acqua","Fogna","Depurazione","Acqua","Fogna","Depurazione","Acqua","Fogna","Depurazione","Totali"]
[null,0,{"$f":"IF(F658=0,0,VLOOKUP(F659,Fasce!A:B,2,FALSE))","v":0},0,{"$f":"+ROUND(C664/365*F655,0)","v":0},{"$f":"+IF(F658>=E664,E664,F658)","v":0},{"$f":"+Tariffe!$A$3*F664","v":0},{"$f":"+Tariffe!$B$3*F664*$F$6","v":0},{"$f":"+Tariffe!$C$3*F664*$F$7","v":0},null,null,null,null,null,null,{"$f":"+ROUND((G664+H664+I664),2)","v":0}]
[null,{"$f":"+C664+1","v":1},{"$f":"IF(F658=0,0,VLOOKUP(F659,Fasce!A:C,3,FALSE))","v":0},{"$f":"+E664","v":0},{"$f":"+ROUND(C665/365*F655,0)","v":0},{"$f":"+IF(F658>=E665,E665-E664,IF(F658>=E664,F658-E664,IF(F658<E664,0)))","v":0},{"$f":"+Tariffe!$A$4*F665","v":0},{"$f":"+Tariffe!$B$3*F665*$F$6","v":0},{"$f":"+Tariffe!$C$3*F665*$F$7","v":0},null,null,null,null,null,null,0]
[null,1,{"$f":"IF(F658=0,0,VLOOKUP(F659,Fasce!A:D,4,FALSE))","v":0},0,{"$f":"+ROUND(C666/365*F655,0)","v":0},{"$f":"+IF(F658>=E666,E666-E665,IF(F658>=E665,F658-E665,IF(F658<E665,0)))","v":0},{"$f":"+Tariffe!$A$5*F666","v":0},{"$f":"+Tariffe!$B$3*F666*$F$6","v":0},{"$f":"+Tariffe!$C$3*F666*$F$7","v":0},null,null,null,null,null,null,0]
[null,1,{"$f":"IF(F658=0,0,VLOOKUP(F659,Fasce!A:E,5,FALSE))","v":0},0,{"$f":"+ROUND(C667/365*F655,0)","v":0},{"$f":"+IF(F658>=E667,E667-E666,IF(F658>=E666,F658-E666,IF(F658<E666,0)))","v":0},{"$f":"+Tariffe!$A$6*F667","v":0},{"$f":"+Tariffe!$B$3*F667*$F$6","v":0},{"$f":"+Tariffe!$C$3*F667*$F$7","v":0},null,null,null,null,null,null,0]
[null,1,999999,0,999999,{"$f":"+IF(F658>=E668,E668-E667,IF(F658>=E667,F658-E667,IF(F658<E667,0,F658-E667)))","v":0},{"$f":"+Tariffe!$A$7*F668","v":0},{"$f":"+Tariffe!$B$3*F668*$F$6","v":0},{"$f":"+Tariffe!$C$3*F668*$F$7","v":0},null,null,null,null,null,null,0]
[null,null,null,null,null,null,null,null,null,{"$f":"+IF(A651>'Tabella ripartizione'!$L$3,0,Tariffe!$E$3*F655/365)","v":0},{"$f":"+IF(A651>'Tabella ripartizione'!$L$3,0,Tariffe!$F$3*F655/365*F656)","v":0},{"$f":"+IF(A651>'Tabella ripartizione'!$L$3,0,Tariffe!$G$3*F655/365*F657)","v":0},null,null,null,{"$f":"+ROUND(J669+K669+L669,2)","v":0}]
[null,null,null,null,null,null,null,null,null,null,null,null,{"$f":"+(Tariffe!$I$3+Tariffe!$J$3+Tariffe!$K$3+Tariffe!$L$3+Tariffe!$M$3)*F658","v":0},{"$f":"+(Tariffe!$I$3+Tariffe!$J$3+Tariffe!$K$3+Tariffe!$L$3+Tariffe!$M$3)*F658*F656","v":0},{"$f":"+(Tariffe!$I$3+Tariffe!$J$3+Tariffe!$K$3+Tariffe!$L$3+Tariffe!$M$3)*F658*F657","v":0},{"$f":"+ROUND(M670+N670+O670,2)","v":0}]
[null,null,null,null,null,null,null,null,null,null,null,null,null,null,null,{"$f":"SUM(P664:P670)","v":0},"Imponibile"]
[null,null,null,null,null,null,null,null,null,null,null,null,null,null,null,{"$f":"+ROUND(P671*0.1,2)","v":0},"IVA (10%)"]
[null,null,null,null,null,null,null,null,null,null,null,null,null,null,null,{"$f":"+P672+P671","v":0},"Totale corrispettivi"]
[]
[]
[{"$f":"+A651+1","v":28},null,null,null,null,null,"Impoto"]
[{"$f":"CONCATENATE(\"Unità domestica residente #\",A676)","v":"Unità domestica residente #28"},null,null,null,null,null,{"$f":"+P698","v":0}]
["Data inizio periodo consumo",null,null,null,null,{"$f":"+'Tabella ripartizione'!$C$3","v":"00:00:00"}]
["Data fine periodo consumo",null,null,null,null,{"$f":"+'Tabella ripartizione'!$C$4","v":"00:00:00"}]
["Giorni di consumo",null,null,null,null,{"$f":"+F679-F678+1","v":1}]
["Fognatura",null,null,null,null,{"$f":"+'Tabella ripartizione'!$C$6","v":1},"(0 = esente, 1=assoggettato)"]
["Depurazione",null,null,null,null,{"$f":"+'Tabella ripartizione'!$C$7","v":1},"(0 = esente, 1=assoggettato)"]
["Consumo misurato",null,null,null,null,{"$f":"SUMIF('Tabella ripartizione'!$B:$B,A677,'Tabella ripartizione'!$C:$C)","v":0}]
["Numero di componenti nucleo familiare",null,null,null,null,{"$f":"SUMIF('Tabella ripartizione'!$B:$B,A677,'Tabella ripartizione'!$D:$D)","v":0}]
[]
["Tariffe TICSI 2022"]
["Domestico Residente","Fasce anno (m3)",null,"Fasce pro-die (m3)",null,"mc riarticolati","Importi servizio",null,null,"Importi Quota fissa",null,null,"Importi perequazione"]
[null,"da","a","da","a",{"$f":"+F693+F692+F691+F690+F689","v":0},"Acqua","Fogna","Depurazione","Acqua","Fogna","Depurazione","Acqua","Fogna","Depurazione","Totali"]
[null,0,{"$f":"IF(F683=0,0,VLOOKUP(F684,Fasce!A:B,2,FALSE))","v":0},0,{"$f":"+ROUND(C689/365*F680,0)","v":0},{"$f":"+IF(F683>=E689,E689,F683)","v":0},{"$f":"+Tariffe!$A$3*F689","v":0},{"$f":"+Tariffe!$B$3*F689*$F$6","v":0},{"$f":"+Tariffe!$C$3*F689*$F$7","v":0},null,null,null,null,null,null,{"$f":"+ROUND((G689+H689+I689),2)","v":0}]
[null,{"$f":"+C689+1","v":1},{"$f":"IF(F683=0,0,VLOOKUP(F684,Fasce!A:C,3,FALSE))","v":0},{"$f":"+E689","v":0},{"$f":"+ROUND(C690/365*F680,0)","v":0},{"$f":"+IF(F683>=E690,E690-E689,IF(F683>=E689,F683-E689,IF(F683<E689,0)))","v":0},{"$f":"+Tariffe!$A$4*F690","v":0},{"$f":"+Tariffe!$B$3*F690*$F$6","v":0},{"$f":"+Tariffe!$C$3*F690*$F$7","v":0},null,null,null,null,null,null,0]
[null,1,{"$f":"IF(F683=0,0,VLOOKUP(F684,Fasce!A:D,4,FALSE))","v":0},0,{"$f":"+ROUND(C691/365*F680,0)","v":0},{"$f":"+IF(F683>=E691,E691-E690,IF(F683>=E690,F683-E690,IF(F683<E690,0)))","v":0},{"$f":"+Tariffe!$A$5*F691","v":0},{"$f":"+Tariffe!$B$3*F691*$F$6","v":0},{"$f":"+Tariffe!$C$3*F691*$F$7","v":0},null,null,null,null,null,null,0]
[null,1,{"$f":"IF(F683=0,0,VLOOKUP(F684,Fasce!A:E,5,FALSE))","v":0},0,{"$f":"+ROUND(C692/365*F680,0)","v":0},{"$f":"+IF(F683>=E692,E692-E691,IF(F683>=E691,F683-E691,IF(F683<E691,0)))","v":0},{"$f":"+Tariffe!$A$6*F692","v":0},{"$f":"+Tariffe!$B$3*F692*$F$6","v":0},{"$f":"+Tariffe!$C$3*F692*$F$7","v":0},null,null,null,null,null,null,0]
[null,1,999999,0,999999,{"$f":"+IF(F683>=E693,E693-E692,IF(F683>=E692,F683-E692,IF(F683<E692,0,F683-E692)))","v":0},{"$f":"+Tariffe!$A$7*F693","v":0},{"$f":"+Tariffe!$B$3*F693*$F$6","v":0},{"$f":"+Tariffe!$C$3*F693*$F$7","v":0},null,null,null,null,null,null,0]
[null,null,null,null,null,null,null,null,null,{"$f":"+IF(A676>'Tabella ripartizione'!$L$3,0,Tariffe!$E$3*F680/365)","v":0},{"$f":"+IF(A676>'Tabella ripartizione'!$L$3,0,Tariffe!$F$3*F680/365*F681)","v":0},{"$f":"+IF(A676>'Tabella ripartizione'!$L$3,0,Tariffe!$G$3*F680/365*F682)","v":0},null,null,null,{"$f":"+ROUND(J694+K694+L694,2)","v":0}]
[null,null,null,null,null,null,null,null,null,null,null,null,{"$f":"+(Tariffe!$I$3+Tariffe!$J$3+Tariffe!$K$3+Tariffe!$L$3+Tariffe!$M$3)*F683","v":0},{"$f":"+(Tariffe!$I$3+Tariffe!$J$3+Tariffe!$K$3+Tariffe!$L$3+Tariffe!$M$3)*F683*F681","v":0},{"$f":"+(Tariffe!$I$3+Tariffe!$J$3+Tariffe!$K$3+Tariffe!$L$3+Tariffe!$M$3)*F683*F682","v":0},{"$f":"+ROUND(M695+N695+O695,2)","v":0}]
[null,null,null,null,null,null,null,null,null,null,null,null,null,null,null,{"$f":"SUM(P689:P695)","v":0},"Imponibile"]
[null,null,null,null,null,null,null,null,null,null,null,null,null,null,null,{"$f":"+ROUND(P696*0.1,2)","v":0},"IVA (10%)"]
[null,null,null,null,null,null,null,null,null,null,null,null,null,null,null,{"$f":"+P697+P696","v":0},"Totale corrispettivi"]
[]
[]
[{"$f":"+A676+1","v":29},null,null,null,null,null,"Impoto"]
[{"$f":"CONCATENATE(\"Unità domestica residente #\",A701)","v":"Unità domestica residente #29"},null,null,null,null,null,{"$f":"+P723","v":0}]
["Data inizio periodo consumo",null,null,null,null,{"$f":"+'Tabella ripartizione'!$C$3","v":"00:00:00"}]
["Data fine periodo consumo",null,null,null,null,{"$f":"+'Tabella ripartizione'!$C$4","v":"00:00:00"}]
["Giorni di consumo",null,null,null,null,{"$f":"+F704-F703+1","v":1}]
["Fognatura",null,null,null,null,{"$f":"+'Tabella ripartizione'!$C$6","v":1},"(0 = esente, 1=assoggettato)"]
["Depurazione",null,null,null,null,{"$f":"+'Tabella ripartizione'!$C$7","v":1},"(0 = esente, 1=assoggettato)"]
["Consumo misurato",null,null,null,null,{"$f":"SUMIF('Tabella ripartizione'!$B:$B,A702,'Tabella ripartizione'!$C:$C)","v":0}]
["Numero di componenti nucleo familiare",null,null,null,null,{"$f":"SUMIF('Tabella ripartizione'!$B:$B,A702,'Tabella ripartizione'!$D:$D)","v":0}]
[]
["Tariffe TICSI 2022"]
["Domestico Residente","Fasce anno (m3)",null,"Fasce pro-die (m3)",null,"mc riarticolati","Importi servizio",null,null,"Importi Quota fissa",null,null,"Importi perequazione"]
[null,"da","a","da","a",{"$f":"+F718+F717+F716+F715+F714","v":0},"Acqua","Fogna","Depurazione","Acqua","Fogna","Depurazione","Acqua","Fogna","Depurazione","Totali"]
[null,0,{"$f":"IF(F708=0,0,VLOOKUP(F709,Fasce!A:B,2,FALSE))","v":0},0,{"$f":"+ROUND(C714/365*F705,0)","v":0},{"$f":"+IF(F708>=E714,E714,F708)","v":0},{"$f":"+Tariffe!$A$3*F714","v":0},{"$f":"+Tariffe!$B$3*F714*$F$6","v":0},{"$f":"+Tariffe!$C$3*F714*$F$7","v":0},null,null,null,null,null,null,{"$f":"+ROUND((G714+H714+I714),2)","v":0}]
[null,{"$f":"+C714+1","v":1},{"$f":"IF(F708=0,0,VLOOKUP(F709,Fasce!A:C,3,FALSE))","v":0},{"$f":"+E714","v":0},{"$f":"+ROUND(C715/365*F705,0)","v":0},{"$f":"+IF(F708>=E715,E715-E714,IF(F708>=E714,F708-E714,IF(F708<E714,0)))","v":0},{"$f":"+Tariffe!$A$4*F715","v":0},{"$f":"+Tariffe!$B$3*F715*$F$6","v":0},{"$f":"+Tariffe!$C$3*F715*$F$7","v":0},null,null,null,null,null,null,0]
[null,1,{"$f":"IF(F708=0,0,VLOOKUP(F709,Fasce!A:D,4,FALSE))","v":0},0,{"$f":"+ROUND(C716/365*F705,0)","v":0},{"$f":"+IF(F708>=E716,E716-E715,IF(F708>=E715,F708-E715,IF(F708<E715,0)))","v":0},{"$f":"+Tariffe!$A$5*F716","v":0},{"$f":"+Tariffe!$B$3*F716*$F$6","v":0},{"$f":"+Tariffe!$C$3*F716*$F$7","v":0},null,null,null,null,null,null,0]
[null,1,{"$f":"IF(F708=0,0,VLOOKUP(F709,Fasce!A:E,5,FALSE))","v":0},0,{"$f":"+ROUND(C717/365*F705,0)","v":0},{"$f":"+IF(F708>=E717,E717-E716,IF(F708>=E716,F708-E716,IF(F708<E716,0)))","v":0},{"$f":"+Tariffe!$A$6*F717","v":0},{"$f":"+Tariffe!$B$3*F717*$F$6","v":0},{"$f":"+Tariffe!$C$3*F717*$F$7","v":0},null,null,null,null,null,null,0]
[null,1,999999,0,999999,{"$f":"+IF(F708>=E718,E718-E717,IF(F708>=E717,F708-E717,IF(F708<E717,0,F708-E717)))","v":0},{"$f":"+Tariffe!$A$7*F718","v":0},{"$f":"+Tariffe!$B$3*F718*$F$6","v":0},{"$f":"+Tariffe!$C$3*F718*$F$7","v":0},null,null,null,null,null,null,0]
[null,null,null,null,null,null,null,null,null,{"$f":"+IF(A701>'Tabella ripartizione'!$L$3,0,Tariffe!$E$3*F705/365)","v":0},{"$f":"+IF(A701>'Tabella ripartizione'!$L$3,0,Tariffe!$F$3*F705/365*F706)","v":0},{"$f":"+IF(A701>'Tabella ripartizione'!$L$3,0,Tariffe!$G$3*F705/365*F707)","v":0},null,null,null,{"$f":"+ROUND(J719+K719+L719,2)","v":0}]
[null,null,null,null,null,null,null,null,null,null,null,null,{"$f":"+(Tariffe!$I$3+Tariffe!$J$3+Tariffe!$K$3+Tariffe!$L$3+Tariffe!$M$3)*F708","v":0},{"$f":"+(Tariffe!$I$3+Tariffe!$J$3+Tariffe!$K$3+Tariffe!$L$3+Tariffe!$M$3)*F708*F706","v":0},{"$f":"+(Tariffe!$I$3+Tariffe!$J$3+Tariffe!$K$3+Tariffe!$L$3+Tariffe!$M$3)*F708*F707","v":0},{"$f":"+ROUND(M720+N720+O720,2)","v":0}]
[null,null,null,null,null,null,null,null,null,null,null,null,null,null,null,{"$f":"SUM(P714:P720)","v":0},"Imponibile"]
[null,null,null,null,null,null,null,null,null,null,null,null,null,null,null,{"$f":"+ROUND(P721*0.1,2)","v":0},"IVA (10%)"]
[null,null,null,null,null,null,null,null,null,null,null,null,null,null,null,{"$f":"+P722+P721","v":0},"Totale corrispettivi"]
[]
[]
[{"$f":"+A701+1","v":30},null,null,null,null,null,"Impoto"]
[{"$f":"CONCATENATE(\"Unità domestica residente #\",A726)","v":"Unità domestica residente #30"},null,null,null,null,null,{"$f":"+P748","v":0}]
["Data inizio periodo consumo",null,null,null,null,{"$f":"+'Tabella ripartizione'!$C$3","v":"00:00:00"}]
["Data fine periodo consumo",null,null,null,null,{"$f":"+'Tabella ripartizione'!$C$4","v":"00:00:00"}]
["Giorni di consumo",null,null,null,null,{"$f":"+F729-F728+1","v":1}]
["Fognatura",null,null,null,null,{"$f":"+'Tabella ripartizione'!$C$6","v":1},"(0 = esente, 1=assoggettato)"]
["Depurazione",null,null,null,null,{"$f":"+'Tabella ripartizione'!$C$7","v":1},"(0 = esente, 1=assoggettato)"]
["Consumo misurato",null,null,null,null,{"$f":"SUMIF('Tabella ripartizione'!$B:$B,A727,'Tabella ripartizione'!$C:$C)","v":0}]
["Numero di componenti nucleo familiare",null,null,null,null,{"$f":"SUMIF('Tabella ripartizione'!$B:$B,A727,'Tabella ripartizione'!$D:$D)","v":0}]
[]
["Tariffe TICSI 2022"]
["Domestico Residente","Fasce anno (m3)",null,"Fasce pro-die (m3)",null,"mc riarticolati","Importi servizio",null,null,"Importi Quota fissa",null,null,"Importi perequazione"]
[null,"da","a","da","a",{"$f":"+F743+F742+F741+F740+F739","v":0},"Acqua","Fogna","Depurazione","Acqua","Fogna","Depurazione","Acqua","Fogna","Depurazione","Totali"]
[null,0,{"$f":"IF(F733=0,0,VLOOKUP(F734,Fasce!A:B,2,FALSE))","v":0},0,{"$f":"+ROUND(C739/365*F730,0)","v":0},{"$f":"+IF(F733>=E739,E739,F733)","v":0},{"$f":"+Tariffe!$A$3*F739","v":0},{"$f":"+Tariffe!$B$3*F739*$F$6","v":0},{"$f":"+Tariffe!$C$3*F739*$F$7","v":0},null,null,null,null,null,null,{"$f":"+ROUND((G739+H739+I739),2)","v":0}]
[null,{"$f":"+C739+1","v":1},{"$f":"IF(F733=0,0,VLOOKUP(F734,Fasce!A:C,3,FALSE))","v":0},{"$f":"+E739","v":0},{"$f":"+ROUND(C740/365*F730,0)","v":0},{"$f":"+IF(F733>=E740,E740-E739,IF(F733>=E739,F733-E739,IF(F733<E739,0)))","v":0},{"$f":"+Tariffe!$A$4*F740","v":0},{"$f":"+Tariffe!$B$3*F740*$F$6","v":0},{"$f":"+Tariffe!$C$3*F740*$F$7","v":0},null,null,null,null,null,null,0]
[null,1,{"$f":"IF(F733=0,0,VLOOKUP(F734,Fasce!A:D,4,FALSE))","v":0},0,{"$f":"+ROUND(C741/365*F730,0)","v":0},{"$f":"+IF(F733>=E741,E741-E740,IF(F733>=E740,F733-E740,IF(F733<E740,0)))","v":0},{"$f":"+Tariffe!$A$5*F741","v":0},{"$f":"+Tariffe!$B$3*F741*$F$6","v":0},{"$f":"+Tariffe!$C$3*F741*$F$7","v":0},null,null,null,null,null,null,0]
[null,1,{"$f":"IF(F733=0,0,VLOOKUP(F734,Fasce!A:E,5,FALSE))","v":0},0,{"$f":"+ROUND(C742/365*F730,0)","v":0},{"$f":"+IF(F733>=E742,E742-E741,IF(F733>=E741,F733-E741,IF(F733<E741,0)))","v":0},{"$f":"+Tariffe!$A$6*F742","v":0},{"$f":"+Tariffe!$B$3*F742*$F$6","v":0},{"$f":"+Tariffe!$C$3*F742*$F$7","v":0},null,null,null,null,null,null,0]
[null,1,999999,0,999999,{"$f":"+IF(F733>=E743,E743-E742,IF(F733>=E742,F733-E742,IF(F733<E742,0,F733-E742)))","v":0},{"$f":"+Tariffe!$A$7*F743","v":0},{"$f":"+Tariffe!$B$3*F743*$F$6","v":0},{"$f":"+Tariffe!$C$3*F743*$F$7","v":0},null,null,null,null,null,null,0]
[null,null,null,null,null,null,null,null,null,{"$f":"+IF(A726>'Tabella ripartizione'!$L$3,0,Tariffe!$E$3*F730/365)","v":0},{"$f":"+IF(A726>'Tabella ripartizione'!$L$3,0,Tariffe!$F$3*F730/365*F731)","v":0},{"$f":"+IF(A726>'Tabella ripartizione'!$L$3,0,Tariffe!$G$3*F730/365*F732)","v":0},null,null,null,{"$f":"+ROUND(J744+K744+L744,2)","v":0}]
[null,null,null,null,null,null,null,null,null,null,null,null,{"$f":"+(Tariffe!$I$3+Tariffe!$J$3+Tariffe!$K$3+Tariffe!$L$3+Tariffe!$M$3)*F733","v":0},{"$f":"+(Tariffe!$I$3+Tariffe!$J$3+Tariffe!$K$3+Tariffe!$L$3+Tariffe!$M$3)*F733*F731","v":0},{"$f":"+(Tariffe!$I$3+Tariffe!$J$3+Tariffe!$K$3+Tariffe!$L$3+Tariffe!$M$3)*F733*F732","v":0},{"$f":"+ROUND(M745+N745+O745,2)","v":0}]
[null,null,null,null,null,null,null,null,null,null,null,null,null,null,null,{"$f":"SUM(P739:P745)","v":0},"Imponibile"]
[null,null,null,null,null,null,null,null,null,null,null,null,null,null,null,{"$f":"+ROUND(P746*0.1,2)","v":0},"IVA (10%)"]
[null,null,null,null,null,null,null,null,null,null,null,null,null,null,null,{"$f":"+P747+P746","v":0},"Totale corrispettivi"]
[]
[]
[{"$f":"+A726+1","v":31},null,null,null,null,null,"Impoto"]
[{"$f":"CONCATENATE(\"Unità domestica residente #\",A751)","v":"Unità domestica residente #31"},null,null,null,null,null,{"$f":"+P773","v":0}]
["Data inizio periodo consumo",null,null,null,null,{"$f":"+'Tabella ripartizione'!$C$3","v":"00:00:00"}]
["Data fine periodo consumo",null,null,null,null,{"$f":"+'Tabella ripartizione'!$C$4","v":"00:00:00"}]
["Giorni di consumo",null,null,null,null,{"$f":"+F754-F753+1","v":1}]
["Fognatura",null,null,null,null,{"$f":"+'Tabella ripartizione'!$C$6","v":1},"(0 = esente, 1=assoggettato)"]
["Depurazione",null,null,null,null,{"$f":"+'Tabella ripartizione'!$C$7","v":1},"(0 = esente, 1=assoggettato)"]
["Consumo misurato",null,null,null,null,{"$f":"SUMIF('Tabella ripartizione'!$B:$B,A752,'Tabella ripartizione'!$C:$C)","v":0}]
["Numero di componenti nucleo familiare",null,null,null,null,{"$f":"SUMIF('Tabella ripartizione'!$B:$B,A752,'Tabella ripartizione'!$D:$D)","v":0}]
[]
["Tariffe TICSI 2022"]
["Domestico Residente","Fasce anno (m3)",null,"Fasce pro-die (m3)",null,"mc riarticolati","Importi servizio",null,null,"Importi Quota fissa",null,null,"Importi perequazione"]
[null,"da","a","da","a",{"$f":"+F768+F767+F766+F765+F764","v":0},"Acqua","Fogna","Depurazione","Acqua","Fogna","Depurazione","Acqua","Fogna","Depurazione","Totali"]
[null,0,{"$f":"IF(F758=0,0,VLOOKUP(F759,Fasce!A:B,2,FALSE))","v":0},0,{"$f":"+ROUND(C764/365*F755,0)","v":0},{"$f":"+IF(F758>=E764,E764,F758)","v":0},{"$f":"+Tariffe!$A$3*F764","v":0},{"$f":"+Tariffe!$B$3*F764*$F$6","v":0},{"$f":"+Tariffe!$C$3*F764*$F$7","v":0},null,null,null,null,null,null,{"$f":"+ROUND((G764+H764+I764),2)","v":0}]
[null,{"$f":"+C764+1","v":1},{"$f":"IF(F758=0,0,VLOOKUP(F759,Fasce!A:C,3,FALSE))","v":0},{"$f":"+E764","v":0},{"$f":"+ROUND(C765/365*F755,0)","v":0},{"$f":"+IF(F758>=E765,E765-E764,IF(F758>=E764,F758-E764,IF(F758<E764,0)))","v":0},{"$f":"+Tariffe!$A$4*F765","v":0},{"$f":"+Tariffe!$B$3*F765*$F$6","v":0},{"$f":"+Tariffe!$C$3*F765*$F$7","v":0},null,null,null,null,null,null,0]
[null,1,{"$f":"IF(F758=0,0,VLOOKUP(F759,Fasce!A:D,4,FALSE))","v":0},0,{"$f":"+ROUND(C766/365*F755,0)","v":0},{"$f":"+IF(F758>=E766,E766-E765,IF(F758>=E765,F758-E765,IF(F758<E765,0)))","v":0},{"$f":"+Tariffe!$A$5*F766","v":0},{"$f":"+Tariffe!$B$3*F766*$F$6","v":0},{"$f":"+Tariffe!$C$3*F766*$F$7","v":0},null,null,null,null,null,null,0]
[null,1,{"$f":"IF(F758=0,0,VLOOKUP(F759,Fasce!A:E,5,FALSE))","v":0},0,{"$f":"+ROUND(C767/365*F755,0)","v":0},{"$f":"+IF(F758>=E767,E767-E766,IF(F758>=E766,F758-E766,IF(F758<E766,0)))","v":0},{"$f":"+Tariffe!$A$6*F767","v":0},{"$f":"+Tariffe!$B$3*F767*$F$6","v":0},{"$f":"+Tariffe!$C$3*F767*$F$7","v":0},null,null,null,null,null,null,0]
[null,1,999999,0,999999,{"$f":"+IF(F758>=E768,E768-E767,IF(F758>=E767,F758-E767,IF(F758<E767,0,F758-E767)))","v":0},{"$f":"+Tariffe!$A$7*F768","v":0},{"$f":"+Tariffe!$B$3*F768*$F$6","v":0},{"$f":"+Tariffe!$C$3*F768*$F$7","v":0},null,null,null,null,null,null,0]
[null,null,null,null,null,null,null,null,null,{"$f":"+IF(A751>'Tabella ripartizione'!$L$3,0,Tariffe!$E$3*F755/365)","v":0},{"$f":"+IF(A751>'Tabella ripartizione'!$L$3,0,Tariffe!$F$3*F755/365*F756)","v":0},{"$f":"+IF(A751>'Tabella ripartizione'!$L$3,0,Tariffe!$G$3*F755/365*F757)","v":0},null,null,null,{"$f":"+ROUND(J769+K769+L769,2)","v":0}]
[null,null,null,null,null,null,null,null,null,null,null,null,{"$f":"+(Tariffe!$I$3+Tariffe!$J$3+Tariffe!$K$3+Tariffe!$L$3+Tariffe!$M$3)*F758","v":0},{"$f":"+(Tariffe!$I$3+Tariffe!$J$3+Tariffe!$K$3+Tariffe!$L$3+Tariffe!$M$3)*F758*F756","v":0},{"$f":"+(Tariffe!$I$3+Tariffe!$J$3+Tariffe!$K$3+Tariffe!$L$3+Tariffe!$M$3)*F758*F757","v":0},{"$f":"+ROUND(M770+N770+O770,2)","v":0}]
[null,null,null,null,null,null,null,null,null,null,null,null,null,null,null,{"$f":"SUM(P764:P770)","v":0},"Imponibile"]
[null,null,null,null,null,null,null,null,null,null,null,null,null,null,null,{"$f":"+ROUND(P771*0.1,2)","v":0},"IVA (10%)"]
[null,null,null,null,null,null,null,null,null,null,null,null,null,null,null,{"$f":"+P772+P771","v":0},"Totale corrispettivi"]
[]
[]
[{"$f":"+A751+1","v":32},null,null,null,null,null,"Impoto"]
[{"$f":"CONCATENATE(\"Unità domestica residente #\",A776)","v":"Unità domestica residente #32"},null,null,null,null,null,{"$f":"+P798","v":0}]
["Data inizio periodo consumo",null,null,null,null,{"$f":"+'Tabella ripartizione'!$C$3","v":"00:00:00"}]
["Data fine periodo consumo",null,null,null,null,{"$f":"+'Tabella ripartizione'!$C$4","v":"00:00:00"}]
["Giorni di consumo",null,null,null,null,{"$f":"+F779-F778+1","v":1}]
["Fognatura",null,null,null,null,{"$f":"+'Tabella ripartizione'!$C$6","v":1},"(0 = esente, 1=assoggettato)"]
["Depurazione",null,null,null,null,{"$f":"+'Tabella ripartizione'!$C$7","v":1},"(0 = esente, 1=assoggettato)"]
["Consumo misurato",null,null,null,null,{"$f":"SUMIF('Tabella ripartizione'!$B:$B,A777,'Tabella ripartizione'!$C:$C)","v":0}]
["Numero di componenti nucleo familiare",null,null,null,null,{"$f":"SUMIF('Tabella ripartizione'!$B:$B,A777,'Tabella ripartizione'!$D:$D)","v":0}]
[]
["Tariffe TICSI 2022"]
["Domestico Residente","Fasce anno (m3)",null,"Fasce pro-die (m3)",null,"mc riarticolati","Importi servizio",null,null,"Importi Quota fissa",null,null,"Importi perequazione"]
[null,"da","a","da","a",{"$f":"+F793+F792+F791+F790+F789","v":0},"Acqua","Fogna","Depurazione","Acqua","Fogna","Depurazione","Acqua","Fogna","Depurazione","Totali"]
[null,0,{"$f":"IF(F783=0,0,VLOOKUP(F784,Fasce!A:B,2,FALSE))","v":0},0,{"$f":"+ROUND(C789/365*F780,0)","v":0},{"$f":"+IF(F783>=E789,E789,F783)","v":0},{"$f":"+Tariffe!$A$3*F789","v":0},{"$f":"+Tariffe!$B$3*F789*$F$6","v":0},{"$f":"+Tariffe!$C$3*F789*$F$7","v":0},null,null,null,null,null,null,{"$f":"+ROUND((G789+H789+I789),2)","v":0}]
[null,{"$f":"+C789+1","v":1},{"$f":"IF(F783=0,0,VLOOKUP(F784,Fasce!A:C,3,FALSE))","v":0},{"$f":"+E789","v":0},{"$f":"+ROUND(C790/365*F780,0)","v":0},{"$f":"+IF(F783>=E790,E790-E789,IF(F783>=E789,F783-E789,IF(F783<E789,0)))","v":0},{"$f":"+Tariffe!$A$4*F790","v":0},{"$f":"+Tariffe!$B$3*F790*$F$6","v":0},{"$f":"+Tariffe!$C$3*F790*$F$7","v":0},null,null,null,null,null,null,0]
[null,1,{"$f":"IF(F783=0,0,VLOOKUP(F784,Fasce!A:D,4,FALSE))","v":0},0,{"$f":"+ROUND(C791/365*F780,0)","v":0},{"$f":"+IF(F783>=E791,E791-E790,IF(F783>=E790,F783-E790,IF(F783<E790,0)))","v":0},{"$f":"+Tariffe!$A$5*F791","v":0},{"$f":"+Tariffe!$B$3*F791*$F$6","v":0},{"$f":"+Tariffe!$C$3*F791*$F$7","v":0},null,null,null,null,null,null,0]
[null,1,{"$f":"IF(F783=0,0,VLOOKUP(F784,Fasce!A:E,5,FALSE))","v":0},0,{"$f":"+ROUND(C792/365*F780,0)","v":0},{"$f":"+IF(F783>=E792,E792-E791,IF(F783>=E791,F783-E791,IF(F783<E791,0)))","v":0},{"$f":"+Tariffe!$A$6*F792","v":0},{"$f":"+Tariffe!$B$3*F792*$F$6","v":0},{"$f":"+Tariffe!$C$3*F792*$F$7","v":0},null,null,null,null,null,null,0]
[null,1,999999,0,999999,{"$f":"+IF(F783>=E793,E793-E792,IF(F783>=E792,F783-E792,IF(F783<E792,0,F783-E792)))","v":0},{"$f":"+Tariffe!$A$7*F793","v":0},{"$f":"+Tariffe!$B$3*F793*$F$6","v":0},{"$f":"+Tariffe!$C$3*F793*$F$7","v":0},null,null,null,null,null,null,0]
[null,null,null,null,null,null,null,null,null,{"$f":"+IF(A776>'Tabella ripartizione'!$L$3,0,Tariffe!$E$3*F780/365)","v":0},{"$f":"+IF(A776>'Tabella ripartizione'!$L$3,0,Tariffe!$F$3*F780/365*F781)","v":0},{"$f":"+IF(A776>'Tabella ripartizione'!$L$3,0,Tariffe!$G$3*F780/365*F782)","v":0},null,null,null,{"$f":"+ROUND(J794+K794+L794,2)","v":0}]
[null,null,null,null,null,null,null,null,null,null,null,null,{"$f":"+(Tariffe!$I$3+Tariffe!$J$3+Tariffe!$K$3+Tariffe!$L$3+Tariffe!$M$3)*F783","v":0},{"$f":"+(Tariffe!$I$3+Tariffe!$J$3+Tariffe!$K$3+Tariffe!$L$3+Tariffe!$M$3)*F783*F781","v":0},{"$f":"+(Tariffe!$I$3+Tariffe!$J$3+Tariffe!$K$3+Tariffe!$L$3+Tariffe!$M$3)*F783*F782","v":0},{"$f":"+ROUND(M795+N795+O795,2)","v":0}]
[null,null,null,null,null,null,null,null,null,null,null,null,null,null,null,{"$f":"SUM(P789:P795)","v":0},"Imponibile"]
[null,null,null,null,null,null,null,null,null,null,null,null,null,null,null,{"$f":"+ROUND(P796*0.1,2)","v":0},"IVA (10%)"]
[null,null,null,null,null,null,null,null,null,null,null,null,null,null,null,{"$f":"+P797+P796","v":0},"Totale corrispettivi"]
[]
[]
[{"$f":"+A776+1","v":33},null,null,null,null,null,"Impoto"]
[{"$f":"CONCATENATE(\"Unità domestica residente #\",A801)","v":"Unità domestica residente #33"},null,null,null,null,null,{"$f":"+P823","v":0}]
["Data inizio periodo consumo",null,null,null,null,{"$f":"+'Tabella ripartizione'!$C$3","v":"00:00:00"}]
["Data fine periodo consumo",null,null,null,null,{"$f":"+'Tabella ripartizione'!$C$4","v":"00:00:00"}]
["Giorni di consumo",null,null,null,null,{"$f":"+F804-F803+1","v":1}]
["Fognatura",null,null,null,null,{"$f":"+'Tabella ripartizione'!$C$6","v":1},"(0 = esente, 1=assoggettato)"]
["Depurazione",null,null,null,null,{"$f":"+'Tabella ripartizione'!$C$7","v":1},"(0 = esente, 1=assoggettato)"]
["Consumo misurato",null,null,null,null,{"$f":"SUMIF('Tabella ripartizione'!$B:$B,A802,'Tabella ripartizione'!$C:$C)","v":0}]
["Numero di componenti nucleo familiare",null,null,null,null,{"$f":"SUMIF('Tabella ripartizione'!$B:$B,A802,'Tabella ripartizione'!$D:$D)","v":0}]
[]
["Tariffe TICSI 2022"]
["Domestico Residente","Fasce anno (m3)",null,"Fasce pro-die (m3)",null,"mc riarticolati","Importi servizio",null,null,"Importi Quota fissa",null,null,"Importi perequazione"]
[null,"da","a","da","a",{"$f":"+F818+F817+F816+F815+F814","v":0},"Acqua","Fogna","Depurazione","Acqua","Fogna","Depurazione","Acqua","Fogna","Depurazione","Totali"]
[null,0,{"$f":"IF(F808=0,0,VLOOKUP(F809,Fasce!A:B,2,FALSE))","v":0},0,{"$f":"+ROUND(C814/365*F805,0)","v":0},{"$f":"+IF(F808>=E814,E814,F808)","v":0},{"$f":"+Tariffe!$A$3*F814","v":0},{"$f":"+Tariffe!$B$3*F814*$F$6","v":0},{"$f":"+Tariffe!$C$3*F814*$F$7","v":0},null,null,null,null,null,null,{"$f":"+ROUND((G814+H814+I814),2)","v":0}]
[null,{"$f":"+C814+1","v":1},{"$f":"IF(F808=0,0,VLOOKUP(F809,Fasce!A:C,3,FALSE))","v":0},{"$f":"+E814","v":0},{"$f":"+ROUND(C815/365*F805,0)","v":0},{"$f":"+IF(F808>=E815,E815-E814,IF(F808>=E814,F808-E814,IF(F808<E814,0)))","v":0},{"$f":"+Tariffe!$A$4*F815","v":0},{"$f":"+Tariffe!$B$3*F815*$F$6","v":0},{"$f":"+Tariffe!$C$3*F815*$F$7","v":0},null,null,null,null,null,null,0]
[null,1,{"$f":"IF(F808=0,0,VLOOKUP(F809,Fasce!A:D,4,FALSE))","v":0},0,{"$f":"+ROUND(C816/365*F805,0)","v":0},{"$f":"+IF(F808>=E816,E816-E815,IF(F808>=E815,F808-E815,IF(F808<E815,0)))","v":0},{"$f":"+Tariffe!$A$5*F816","v":0},{"$f":"+Tariffe!$B$3*F816*$F$6","v":0},{"$f":"+Tariffe!$C$3*F816*$F$7","v":0},null,null,null,null,null,null,0]
[null,1,{"$f":"IF(F808=0,0,VLOOKUP(F809,Fasce!A:E,5,FALSE))","v":0},0,{"$f":"+ROUND(C817/365*F805,0)","v":0},{"$f":"+IF(F808>=E817,E817-E816,IF(F808>=E816,F808-E816,IF(F808<E816,0)))","v":0},{"$f":"+Tariffe!$A$6*F817","v":0},{"$f":"+Tariffe!$B$3*F817*$F$6","v":0},{"$f":"+Tariffe!$C$3*F817*$F$7","v":0},null,null,null,null,null,null,0]
[null,1,999999,0,999999,{"$f":"+IF(F808>=E818,E818-E817,IF(F808>=E817,F808-E817,IF(F808<E817,0,F808-E817)))","v":0},{"$f":"+Tariffe!$A$7*F818","v":0},{"$f":"+Tariffe!$B$3*F818*$F$6","v":0},{"$f":"+Tariffe!$C$3*F818*$F$7","v":0},null,null,null,null,null,null,0]
[null,null,null,null,null,null,null,null,null,{"$f":"+IF(A801>'Tabella ripartizione'!$L$3,0,Tariffe!$E$3*F805/365)","v":0},{"$f":"+IF(A801>'Tabella ripartizione'!$L$3,0,Tariffe!$F$3*F805/365*F806)","v":0},{"$f":"+IF(A801>'Tabella ripartizione'!$L$3,0,Tariffe!$G$3*F805/365*F807)","v":0},null,null,null,{"$f":"+ROUND(J819+K819+L819,2)","v":0}]
[null,null,null,null,null,null,null,null,null,null,null,null,{"$f":"+(Tariffe!$I$3+Tariffe!$J$3+Tariffe!$K$3+Tariffe!$L$3+Tariffe!$M$3)*F808","v":0},{"$f":"+(Tariffe!$I$3+Tariffe!$J$3+Tariffe!$K$3+Tariffe!$L$3+Tariffe!$M$3)*F808*F806","v":0},{"$f":"+(Tariffe!$I$3+Tariffe!$J$3+Tariffe!$K$3+Tariffe!$L$3+Tariffe!$M$3)*F808*F807","v":0},{"$f":"+ROUND(M820+N820+O820,2)","v":0}]
[null,null,null,null,null,null,null,null,null,null,null,null,null,null,null,{"$f":"SUM(P814:P820)","v":0},"Imponibile"]
[null,null,null,null,null,null,null,null,null,null,null,null,null,null,null,{"$f":"+ROUND(P821*0.1,2)","v":0},"IVA (10%)"]
[null,null,null,null,null,null,null,null,null,null,null,null,null,null,null,{"$f":"+P822+P821","v":0},"Totale corrispettivi"]
[]
[]
[{"$f":"+A801+1","v":34},null,null,null,null,null,"Impoto"]
[{"$f":"CONCATENATE(\"Unità domestica residente #\",A826)","v":"Unità domestica residente #34"},null,null,null,null,null,{"$f":"+P848","v":0}]
["Data inizio periodo consumo",null,null,null,null,{"$f":"+'Tabella ripartizione'!$C$3","v":"00:00:00"}]
["Data fine periodo consumo",null,null,null,null,{"$f":"+'Tabella ripartizione'!$C$4","v":"00:00:00"}]
["Giorni di consumo",null,null,null,null,{"$f":"+F829-F828+1","v":1}]
["Fognatura",null,null,null,null,{"$f":"+'Tabella ripartizione'!$C$6","v":1},"(0 = esente, 1=assoggettato)"]
["Depurazione",null,null,null,null,{"$f":"+'Tabella ripartizione'!$C$7","v":1},"(0 = esente, 1=assoggettato)"]
["Consumo misurato",null,null,null,null,{"$f":"SUMIF('Tabella ripartizione'!$B:$B,A827,'Tabella ripartizione'!$C:$C)","v":0}]
["Numero di componenti nucleo familiare",null,null,null,null,{"$f":"SUMIF('Tabella ripartizione'!$B:$B,A827,'Tabella ripartizione'!$D:$D)","v":0}]
[]
["Tariffe TICSI 2022"]
["Domestico Residente","Fasce anno (m3)",null,"Fasce pro-die (m3)",null,"mc riarticolati","Importi servizio",null,null,"Importi Quota fissa",null,null,"Importi perequazione"]
[null,"da","a","da","a",{"$f":"+F843+F842+F841+F840+F839","v":0},"Acqua","Fogna","Depurazione","Acqua","Fogna","Depurazione","Acqua","Fogna","Depurazione","Totali"]
[null,0,{"$f":"IF(F833=0,0,VLOOKUP(F834,Fasce!A:B,2,FALSE))","v":0},0,{"$f":"+ROUND(C839/365*F830,0)","v":0},{"$f":"+IF(F833>=E839,E839,F833)","v":0},{"$f":"+Tariffe!$A$3*F839","v":0},{"$f":"+Tariffe!$B$3*F839*$F$6","v":0},{"$f":"+Tariffe!$C$3*F839*$F$7","v":0},null,null,null,null,null,null,{"$f":"+ROUND((G839+H839+I839),2)","v":0}]
[null,{"$f":"+C839+1","v":1},{"$f":"IF(F833=0,0,VLOOKUP(F834,Fasce!A:C,3,FALSE))","v":0},{"$f":"+E839","v":0},{"$f":"+ROUND(C840/365*F830,0)","v":0},{"$f":"+IF(F833>=E840,E840-E839,IF(F833>=E839,F833-E839,IF(F833<E839,0)))","v":0},{"$f":"+Tariffe!$A$4*F840","v":0},{"$f":"+Tariffe!$B$3*F840*$F$6","v":0},{"$f":"+Tariffe!$C$3*F840*$F$7","v":0},null,null,null,null,null,null,0]
[null,1,{"$f":"IF(F833=0,0,VLOOKUP(F834,Fasce!A:D,4,FALSE))","v":0},0,{"$f":"+ROUND(C841/365*F830,0)","v":0},{"$f":"+IF(F833>=E841,E841-E840,IF(F833>=E840,F833-E840,IF(F833<E840,0)))","v":0},{"$f":"+Tariffe!$A$5*F841","v":0},{"$f":"+Tariffe!$B$3*F841*$F$6","v":0},{"$f":"+Tariffe!$C$3*F841*$F$7","v":0},null,null,null,null,null,null,0]
[null,1,{"$f":"IF(F833=0,0,VLOOKUP(F834,Fasce!A:E,5,FALSE))","v":0},0,{"$f":"+ROUND(C842/365*F830,0)","v":0},{"$f":"+IF(F833>=E842,E842-E841,IF(F833>=E841,F833-E841,IF(F833<E841,0)))","v":0},{"$f":"+Tariffe!$A$6*F842","v":0},{"$f":"+Tariffe!$B$3*F842*$F$6","v":0},{"$f":"+Tariffe!$C$3*F842*$F$7","v":0},null,null,null,null,null,null,0]
[null,1,999999,0,999999,{"$f":"+IF(F833>=E843,E843-E842,IF(F833>=E842,F833-E842,IF(F833<E842,0,F833-E842)))","v":0},{"$f":"+Tariffe!$A$7*F843","v":0},{"$f":"+Tariffe!$B$3*F843*$F$6","v":0},{"$f":"+Tariffe!$C$3*F843*$F$7","v":0},null,null,null,null,null,null,0]
[null,null,null,null,null,null,null,null,null,{"$f":"+IF(A826>'Tabella ripartizione'!$L$3,0,Tariffe!$E$3*F830/365)","v":0},{"$f":"+IF(A826>'Tabella ripartizione'!$L$3,0,Tariffe!$F$3*F830/365*F831)","v":0},{"$f":"+IF(A826>'Tabella ripartizione'!$L$3,0,Tariffe!$G$3*F830/365*F832)","v":0},null,null,null,{"$f":"+ROUND(J844+K844+L844,2)","v":0}]
[null,null,null,null,null,null,null,null,null,null,null,null,{"$f":"+(Tariffe!$I$3+Tariffe!$J$3+Tariffe!$K$3+Tariffe!$L$3+Tariffe!$M$3)*F833","v":0},{"$f":"+(Tariffe!$I$3+Tariffe!$J$3+Tariffe!$K$3+Tariffe!$L$3+Tariffe!$M$3)*F833*F831","v":0},{"$f":"+(Tariffe!$I$3+Tariffe!$J$3+Tariffe!$K$3+Tariffe!$L$3+Tariffe!$M$3)*F833*F832","v":0},{"$f":"+ROUND(M845+N845+O845,2)","v":0}]
[null,null,null,null,null,null,null,null,null,null,null,null,null,null,null,{"$f":"SUM(P839:P845)","v":0},"Imponibile"]
[null,null,null,null,null,null,null,null,null,null,null,null,null,null,null,{"$f":"+ROUND(P846*0.1,2)","v":0},"IVA (10%)"]
[null,null,null,null,null,null,null,null,null,null,null,null,null,null,null,{"$f":"+P847+P846","v":0},"Totale corrispettivi"]
[]
[]
[{"$f":"+A826+1","v":35},null,null,null,null,null,"Impoto"]
[{"$f":"CONCATENATE(\"Unità domestica residente #\",A851)","v":"Unità domestica residente #35"},null,null,null,null,null,{"$f":"+P873","v":0}]
["Data inizio periodo consumo",null,null,null,null,{"$f":"+'Tabella ripartizione'!$C$3","v":"00:00:00"}]
["Data fine periodo consumo",null,null,null,null,{"$f":"+'Tabella ripartizione'!$C$4","v":"00:00:00"}]
["Giorni di consumo",null,null,null,null,{"$f":"+F854-F853+1","v":1}]
["Fognatura",null,null,null,null,{"$f":"+'Tabella ripartizione'!$C$6","v":1},"(0 = esente, 1=assoggettato)"]
["Depurazione",null,null,null,null,{"$f":"+'Tabella ripartizione'!$C$7","v":1},"(0 = esente, 1=assoggettato)"]
["Consumo misurato",null,null,null,null,{"$f":"SUMIF('Tabella ripartizione'!$B:$B,A852,'Tabella ripartizione'!$C:$C)","v":0}]
["Numero di componenti nucleo familiare",null,null,null,null,{"$f":"SUMIF('Tabella ripartizione'!$B:$B,A852,'Tabella ripartizione'!$D:$D)","v":0}]
[]
["Tariffe TICSI 2022"]
["Domestico Residente","Fasce anno (m3)",null,"Fasce pro-die (m3)",null,"mc riarticolati","Importi servizio",null,null,"Importi Quota fissa",null,null,"Importi perequazione"]
[null,"da","a","da","a",{"$f":"+F868+F867+F866+F865+F864","v":0},"Acqua","Fogna","Depurazione","Acqua","Fogna","Depurazione","Acqua","Fogna","Depurazione","Totali"]
[null,0,{"$f":"IF(F858=0,0,VLOOKUP(F859,Fasce!A:B,2,FALSE))","v":0},0,{"$f":"+ROUND(C864/365*F855,0)","v":0},{"$f":"+IF(F858>=E864,E864,F858)","v":0},{"$f":"+Tariffe!$A$3*F864","v":0},{"$f":"+Tariffe!$B$3*F864*$F$6","v":0},{"$f":"+Tariffe!$C$3*F864*$F$7","v":0},null,null,null,null,null,null,{"$f":"+ROUND((G864+H864+I864),2)","v":0}]
[null,{"$f":"+C864+1","v":1},{"$f":"IF(F858=0,0,VLOOKUP(F859,Fasce!A:C,3,FALSE))","v":0},{"$f":"+E864","v":0},{"$f":"+ROUND(C865/365*F855,0)","v":0},{"$f":"+IF(F858>=E865,E865-E864,IF(F858>=E864,F858-E864,IF(F858<E864,0)))","v":0},{"$f":"+Tariffe!$A$4*F865","v":0},{"$f":"+Tariffe!$B$3*F865*$F$6","v":0},{"$f":"+Tariffe!$C$3*F865*$F$7","v":0},null,null,null,null,null,null,0]
[null,1,{"$f":"IF(F858=0,0,VLOOKUP(F859,Fasce!A:D,4,FALSE))","v":0},0,{"$f":"+ROUND(C866/365*F855,0)","v":0},{"$f":"+IF(F858>=E866,E866-E865,IF(F858>=E865,F858-E865,IF(F858<E865,0)))","v":0},{"$f":"+Tariffe!$A$5*F866","v":0},{"$f":"+Tariffe!$B$3*F866*$F$6","v":0},{"$f":"+Tariffe!$C$3*F866*$F$7","v":0},null,null,null,null,null,null,0]
[null,1,{"$f":"IF(F858=0,0,VLOOKUP(F859,Fasce!A:E,5,FALSE))","v":0},0,{"$f":"+ROUND(C867/365*F855,0)","v":0},{"$f":"+IF(F858>=E867,E867-E866,IF(F858>=E866,F858-E866,IF(F858<E866,0)))","v":0},{"$f":"+Tariffe!$A$6*F867","v":0},{"$f":"+Tariffe!$B$3*F867*$F$6","v":0},{"$f":"+Tariffe!$C$3*F867*$F$7","v":0},null,null,null,null,null,null,0]
[null,1,999999,0,999999,{"$f":"+IF(F858>=E868,E868-E867,IF(F858>=E867,F858-E867,IF(F858<E867,0,F858-E867)))","v":0},{"$f":"+Tariffe!$A$7*F868","v":0},{"$f":"+Tariffe!$B$3*F868*$F$6","v":0},{"$f":"+Tariffe!$C$3*F868*$F$7","v":0},null,null,null,null,null,null,0]
[null,null,null,null,null,null,null,null,null,{"$f":"+IF(A851>'Tabella ripartizione'!$L$3,0,Tariffe!$E$3*F855/365)","v":0},{"$f":"+IF(A851>'Tabella ripartizione'!$L$3,0,Tariffe!$F$3*F855/365*F856)","v":0},{"$f":"+IF(A851>'Tabella ripartizione'!$L$3,0,Tariffe!$G$3*F855/365*F857)","v":0},null,null,null,{"$f":"+ROUND(J869+K869+L869,2)","v":0}]
[null,null,null,null,null,null,null,null,null,null,null,null,{"$f":"+(Tariffe!$I$3+Tariffe!$J$3+Tariffe!$K$3+Tariffe!$L$3+Tariffe!$M$3)*F858","v":0},{"$f":"+(Tariffe!$I$3+Tariffe!$J$3+Tariffe!$K$3+Tariffe!$L$3+Tariffe!$M$3)*F858*F856","v":0},{"$f":"+(Tariffe!$I$3+Tariffe!$J$3+Tariffe!$K$3+Tariffe!$L$3+Tariffe!$M$3)*F858*F857","v":0},{"$f":"+ROUND(M870+N870+O870,2)","v":0}]
[null,null,null,null,null,null,null,null,null,null,null,null,null,null,null,{"$f":"SUM(P864:P870)","v":0},"Imponibile"]
[null,null,null,null,null,null,null,null,null,null,null,null,null,null,null,{"$f":"+ROUND(P871*0.1,2)","v":0},"IVA (10%)"]
[null,null,null,null,null,null,null,null,null,null,null,null,null,null,null,{"$f":"+P872+P871","v":0},"Totale corrispettivi"]
[]
[]
[{"$f":"+A851+1","v":36},null,null,null,null,null,"Impoto"]
[{"$f":"CONCATENATE(\"Unità domestica residente #\",A876)","v":"Unità domestica residente #36"},null,null,null,null,null,{"$f":"+P898","v":0}]
["Data inizio periodo consumo",null,null,null,null,{"$f":"+'Tabella ripartizione'!$C$3","v":"00:00:00"}]
["Data fine periodo consumo",null,null,null,null,{"$f":"+'Tabella ripartizione'!$C$4","v":"00:00:00"}]
["Giorni di consumo",null,null,null,null,{"$f":"+F879-F878+1","v":1}]
["Fognatura",null,null,null,null,{"$f":"+'Tabella ripartizione'!$C$6","v":1},"(0 = esente, 1=assoggettato)"]
["Depurazione",null,null,null,null,{"$f":"+'Tabella ripartizione'!$C$7","v":1},"(0 = esente, 1=assoggettato)"]
["Consumo misurato",null,null,null,null,{"$f":"SUMIF('Tabella ripartizione'!$B:$B,A877,'Tabella ripartizione'!$C:$C)","v":0}]
["Numero di componenti nucleo familiare",null,null,null,null,{"$f":"SUMIF('Tabella ripartizione'!$B:$B,A877,'Tabella ripartizione'!$D:$D)","v":0}]
[]
["Tariffe TICSI 2022"]
["Domestico Residente","Fasce anno (m3)",null,"Fasce pro-die (m3)",null,"mc riarticolati","Importi servizio",null,null,"Importi Quota fissa",null,null,"Importi perequazione"]
[null,"da","a","da","a",{"$f":"+F893+F892+F891+F890+F889","v":0},"Acqua","Fogna","Depurazione","Acqua","Fogna","Depurazione","Acqua","Fogna","Depurazione","Totali"]
[null,0,{"$f":"IF(F883=0,0,VLOOKUP(F884,Fasce!A:B,2,FALSE))","v":0},0,{"$f":"+ROUND(C889/365*F880,0)","v":0},{"$f":"+IF(F883>=E889,E889,F883)","v":0},{"$f":"+Tariffe!$A$3*F889","v":0},{"$f":"+Tariffe!$B$3*F889*$F$6","v":0},{"$f":"+Tariffe!$C$3*F889*$F$7","v":0},null,null,null,null,null,null,{"$f":"+ROUND((G889+H889+I889),2)","v":0}]
[null,{"$f":"+C889+1","v":1},{"$f":"IF(F883=0,0,VLOOKUP(F884,Fasce!A:C,3,FALSE))","v":0},{"$f":"+E889","v":0},{"$f":"+ROUND(C890/365*F880,0)","v":0},{"$f":"+IF(F883>=E890,E890-E889,IF(F883>=E889,F883-E889,IF(F883<E889,0)))","v":0},{"$f":"+Tariffe!$A$4*F890","v":0},{"$f":"+Tariffe!$B$3*F890*$F$6","v":0},{"$f":"+Tariffe!$C$3*F890*$F$7","v":0},null,null,null,null,null,null,0]
[null,1,{"$f":"IF(F883=0,0,VLOOKUP(F884,Fasce!A:D,4,FALSE))","v":0},0,{"$f":"+ROUND(C891/365*F880,0)","v":0},{"$f":"+IF(F883>=E891,E891-E890,IF(F883>=E890,F883-E890,IF(F883<E890,0)))","v":0},{"$f":"+Tariffe!$A$5*F891","v":0},{"$f":"+Tariffe!$B$3*F891*$F$6","v":0},{"$f":"+Tariffe!$C$3*F891*$F$7","v":0},null,null,null,null,null,null,0]
[null,1,{"$f":"IF(F883=0,0,VLOOKUP(F884,Fasce!A:E,5,FALSE))","v":0},0,{"$f":"+ROUND(C892/365*F880,0)","v":0},{"$f":"+IF(F883>=E892,E892-E891,IF(F883>=E891,F883-E891,IF(F883<E891,0)))","v":0},{"$f":"+Tariffe!$A$6*F892","v":0},{"$f":"+Tariffe!$B$3*F892*$F$6","v":0},{"$f":"+Tariffe!$C$3*F892*$F$7","v":0},null,null,null,null,null,null,0]
[null,1,999999,0,999999,{"$f":"+IF(F883>=E893,E893-E892,IF(F883>=E892,F883-E892,IF(F883<E892,0,F883-E892)))","v":0},{"$f":"+Tariffe!$A$7*F893","v":0},{"$f":"+Tariffe!$B$3*F893*$F$6","v":0},{"$f":"+Tariffe!$C$3*F893*$F$7","v":0},null,null,null,null,null,null,0]
[null,null,null,null,null,null,null,null,null,{"$f":"+IF(A876>'Tabella ripartizione'!$L$3,0,Tariffe!$E$3*F880/365)","v":0},{"$f":"+IF(A876>'Tabella ripartizione'!$L$3,0,Tariffe!$F$3*F880/365*F881)","v":0},{"$f":"+IF(A876>'Tabella ripartizione'!$L$3,0,Tariffe!$G$3*F880/365*F882)","v":0},null,null,null,{"$f":"+ROUND(J894+K894+L894,2)","v":0}]
[null,null,null,null,null,null,null,null,null,null,null,null,{"$f":"+(Tariffe!$I$3+Tariffe!$J$3+Tariffe!$K$3+Tariffe!$L$3+Tariffe!$M$3)*F883","v":0},{"$f":"+(Tariffe!$I$3+Tariffe!$J$3+Tariffe!$K$3+Tariffe!$L$3+Tariffe!$M$3)*F883*F881","v":0},{"$f":"+(Tariffe!$I$3+Tariffe!$J$3+Tariffe!$K$3+Tariffe!$L$3+Tariffe!$M$3)*F883*F882","v":0},{"$f":"+ROUND(M895+N895+O895,2)","v":0}]
[null,null,null,null,null,null,null,null,null,null,null,null,null,null,null,{"$f":"SUM(P889:P895)","v":0},"Imponibile"]
[null,null,null,null,null,null,null,null,null,null,null,null,null,null,null,{"$f":"+ROUND(P896*0.1,2)","v":0},"IVA (10%)"]
[null,null,null,null,null,null,null,null,null,null,null,null,null,null,null,{"$f":"+P897+P896","v":0},"Totale corrispettivi"]
[]
[]
[{"$f":"+A876+1","v":37},null,null,null,null,null,"Impoto"]
[{"$f":"CONCATENATE(\"Unità domestica residente #\",A901)","v":"Unità domestica residente #37"},null,null,null,null,null,{"$f":"+P923","v":0}]
["Data inizio periodo consumo",null,null,null,null,{"$f":"+'Tabella ripartizione'!$C$3","v":"00:00:00"}]
["Data fine periodo consumo",null,null,null,null,{"$f":"+'Tabella ripartizione'!$C$4","v":"00:00:00"}]
["Giorni di consumo",null,null,null,null,{"$f":"+F904-F903+1","v":1}]
["Fognatura",null,null,null,null,{"$f":"+'Tabella ripartizione'!$C$6","v":1},"(0 = esente, 1=assoggettato)"]
["Depurazione",null,null,null,null,{"$f":"+'Tabella ripartizione'!$C$7","v":1},"(0 = esente, 1=assoggettato)"]
["Consumo misurato",null,null,null,null,{"$f":"SUMIF('Tabella ripartizione'!$B:$B,A902,'Tabella ripartizione'!$C:$C)","v":0}]
["Numero di componenti nucleo familiare",null,null,null,null,{"$f":"SUMIF('Tabella ripartizione'!$B:$B,A902,'Tabella ripartizione'!$D:$D)","v":0}]
[]
["Tariffe TICSI 2022"]
["Domestico Residente","Fasce anno (m3)",null,"Fasce pro-die (m3)",null,"mc riarticolati","Importi servizio",null,null,"Importi Quota fissa",null,null,"Importi perequazione"]
[null,"da","a","da","a",{"$f":"+F918+F917+F916+F915+F914","v":0},"Acqua","Fogna","Depurazione","Acqua","Fogna","Depurazione","Acqua","Fogna","Depurazione","Totali"]
[null,0,{"$f":"IF(F908=0,0,VLOOKUP(F909,Fasce!A:B,2,FALSE))","v":0},0,{"$f":"+ROUND(C914/365*F905,0)","v":0},{"$f":"+IF(F908>=E914,E914,F908)","v":0},{"$f":"+Tariffe!$A$3*F914","v":0},{"$f":"+Tariffe!$B$3*F914*$F$6","v":0},{"$f":"+Tariffe!$C$3*F914*$F$7","v":0},null,null,null,null,null,null,{"$f":"+ROUND((G914+H914+I914),2)","v":0}]
[null,{"$f":"+C914+1","v":1},{"$f":"IF(F908=0,0,VLOOKUP(F909,Fasce!A:C,3,FALSE))","v":0},{"$f":"+E914","v":0},{"$f":"+ROUND(C915/365*F905,0)","v":0},{"$f":"+IF(F908>=E915,E915-E914,IF(F908>=E914,F908-E914,IF(F908<E914,0)))","v":0},{"$f":"+Tariffe!$A$4*F915","v":0},{"$f":"+Tariffe!$B$3*F915*$F$6","v":0},{"$f":"+Tariffe!$C$3*F915*$F$7","v":0},null,null,null,null,null,null,0]
[null,1,{"$f":"IF(F908=0,0,VLOOKUP(F909,Fasce!A:D,4,FALSE))","v":0},0,{"$f":"+ROUND(C916/365*F905,0)","v":0},{"$f":"+IF(F908>=E916,E916-E915,IF(F908>=E915,F908-E915,IF(F908<E915,0)))","v":0},{"$f":"+Tariffe!$A$5*F916","v":0},{"$f":"+Tariffe!$B$3*F916*$F$6","v":0},{"$f":"+Tariffe!$C$3*F916*$F$7","v":0},null,null,null,null,null,null,0]
[null,1,{"$f":"IF(F908=0,0,VLOOKUP(F909,Fasce!A:E,5,FALSE))","v":0},0,{"$f":"+ROUND(C917/365*F905,0)","v":0},{"$f":"+IF(F908>=E917,E917-E916,IF(F908>=E916,F908-E916,IF(F908<E916,0)))","v":0},{"$f":"+Tariffe!$A$6*F917","v":0},{"$f":"+Tariffe!$B$3*F917*$F$6","v":0},{"$f":"+Tariffe!$C$3*F917*$F$7","v":0},null,null,null,null,null,null,0]
[null,1,999999,0,999999,{"$f":"+IF(F908>=E918,E918-E917,IF(F908>=E917,F908-E917,IF(F908<E917,0,F908-E917)))","v":0},{"$f":"+Tariffe!$A$7*F918","v":0},{"$f":"+Tariffe!$B$3*F918*$F$6","v":0},{"$f":"+Tariffe!$C$3*F918*$F$7","v":0},null,null,null,null,null,null,0]
[null,null,null,null,null,null,null,null,null,{"$f":"+IF(A901>'Tabella ripartizione'!$L$3,0,Tariffe!$E$3*F905/365)","v":0},{"$f":"+IF(A901>'Tabella ripartizione'!$L$3,0,Tariffe!$F$3*F905/365*F906)","v":0},{"$f":"+IF(A901>'Tabella ripartizione'!$L$3,0,Tariffe!$G$3*F905/365*F907)","v":0},null,null,null,{"$f":"+ROUND(J919+K919+L919,2)","v":0}]
[null,null,null,null,null,null,null,null,null,null,null,null,{"$f":"+(Tariffe!$I$3+Tariffe!$J$3+Tariffe!$K$3+Tariffe!$L$3+Tariffe!$M$3)*F908","v":0},{"$f":"+(Tariffe!$I$3+Tariffe!$J$3+Tariffe!$K$3+Tariffe!$L$3+Tariffe!$M$3)*F908*F906","v":0},{"$f":"+(Tariffe!$I$3+Tariffe!$J$3+Tariffe!$K$3+Tariffe!$L$3+Tariffe!$M$3)*F908*F907","v":0},{"$f":"+ROUND(M920+N920+O920,2)","v":0}]
[null,null,null,null,null,null,null,null,null,null,null,null,null,null,null,{"$f":"SUM(P914:P920)","v":0},"Imponibile"]
[null,null,null,null,null,null,null,null,null,null,null,null,null,null,null,{"$f":"+ROUND(P921*0.1,2)","v":0},"IVA (10%)"]
[null,null,null,null,null,null,null,null,null,null,null,null,null,null,null,{"$f":"+P922+P921","v":0},"Totale corrispettivi"]
[]
[]
[{"$f":"+A901+1","v":38},null,null,null,null,null,"Impoto"]
[{"$f":"CONCATENATE(\"Unità domestica residente #\",A926)","v":"Unità domestica residente #38"},null,null,null,null,null,{"$f":"+P948","v":0}]
["Data inizio periodo consumo",null,null,null,null,{"$f":"+'Tabella ripartizione'!$C$3","v":"00:00:00"}]
["Data fine periodo consumo",null,null,null,null,{"$f":"+'Tabella ripartizione'!$C$4","v":"00:00:00"}]
["Giorni di consumo",null,null,null,null,{"$f":"+F929-F928+1","v":1}]
["Fognatura",null,null,null,null,{"$f":"+'Tabella ripartizione'!$C$6","v":1},"(0 = esente, 1=assoggettato)"]
["Depurazione",null,null,null,null,{"$f":"+'Tabella ripartizione'!$C$7","v":1},"(0 = esente, 1=assoggettato)"]
["Consumo misurato",null,null,null,null,{"$f":"SUMIF('Tabella ripartizione'!$B:$B,A927,'Tabella ripartizione'!$C:$C)","v":0}]
["Numero di componenti nucleo familiare",null,null,null,null,{"$f":"SUMIF('Tabella ripartizione'!$B:$B,A927,'Tabella ripartizione'!$D:$D)","v":0}]
[]
["Tariffe TICSI 2022"]
["Domestico Residente","Fasce anno (m3)",null,"Fasce pro-die (m3)",null,"mc riarticolati","Importi servizio",null,null,"Importi Quota fissa",null,null,"Importi perequazione"]
[null,"da","a","da","a",{"$f":"+F943+F942+F941+F940+F939","v":0},"Acqua","Fogna","Depurazione","Acqua","Fogna","Depurazione","Acqua","Fogna","Depurazione","Totali"]
[null,0,{"$f":"IF(F933=0,0,VLOOKUP(F934,Fasce!A:B,2,FALSE))","v":0},0,{"$f":"+ROUND(C939/365*F930,0)","v":0},{"$f":"+IF(F933>=E939,E939,F933)","v":0},{"$f":"+Tariffe!$A$3*F939","v":0},{"$f":"+Tariffe!$B$3*F939*$F$6","v":0},{"$f":"+Tariffe!$C$3*F939*$F$7","v":0},null,null,null,null,null,null,{"$f":"+ROUND((G939+H939+I939),2)","v":0}]
[null,{"$f":"+C939+1","v":1},{"$f":"IF(F933=0,0,VLOOKUP(F934,Fasce!A:C,3,FALSE))","v":0},{"$f":"+E939","v":0},{"$f":"+ROUND(C940/365*F930,0)","v":0},{"$f":"+IF(F933>=E940,E940-E939,IF(F933>=E939,F933-E939,IF(F933<E939,0)))","v":0},{"$f":"+Tariffe!$A$4*F940","v":0},{"$f":"+Tariffe!$B$3*F940*$F$6","v":0},{"$f":"+Tariffe!$C$3*F940*$F$7","v":0},null,null,null,null,null,null,0]
[null,1,{"$f":"IF(F933=0,0,VLOOKUP(F934,Fasce!A:D,4,FALSE))","v":0},0,{"$f":"+ROUND(C941/365*F930,0)","v":0},{"$f":"+IF(F933>=E941,E941-E940,IF(F933>=E940,F933-E940,IF(F933<E940,0)))","v":0},{"$f":"+Tariffe!$A$5*F941","v":0},{"$f":"+Tariffe!$B$3*F941*$F$6","v":0},{"$f":"+Tariffe!$C$3*F941*$F$7","v":0},null,null,null,null,null,null,0]
[null,1,{"$f":"IF(F933=0,0,VLOOKUP(F934,Fasce!A:E,5,FALSE))","v":0},0,{"$f":"+ROUND(C942/365*F930,0)","v":0},{"$f":"+IF(F933>=E942,E942-E941,IF(F933>=E941,F933-E941,IF(F933<E941,0)))","v":0},{"$f":"+Tariffe!$A$6*F942","v":0},{"$f":"+Tariffe!$B$3*F942*$F$6","v":0},{"$f":"+Tariffe!$C$3*F942*$F$7","v":0},null,null,null,null,null,null,0]
[null,1,999999,0,999999,{"$f":"+IF(F933>=E943,E943-E942,IF(F933>=E942,F933-E942,IF(F933<E942,0,F933-E942)))","v":0},{"$f":"+Tariffe!$A$7*F943","v":0},{"$f":"+Tariffe!$B$3*F943*$F$6","v":0},{"$f":"+Tariffe!$C$3*F943*$F$7","v":0},null,null,null,null,null,null,0]
[null,null,null,null,null,null,null,null,null,{"$f":"+IF(A926>'Tabella ripartizione'!$L$3,0,Tariffe!$E$3*F930/365)","v":0},{"$f":"+IF(A926>'Tabella ripartizione'!$L$3,0,Tariffe!$F$3*F930/365*F931)","v":0},{"$f":"+IF(A926>'Tabella ripartizione'!$L$3,0,Tariffe!$G$3*F930/365*F932)","v":0},null,null,null,{"$f":"+ROUND(J944+K944+L944,2)","v":0}]
[null,null,null,null,null,null,null,null,null,null,null,null,{"$f":"+(Tariffe!$I$3+Tariffe!$J$3+Tariffe!$K$3+Tariffe!$L$3+Tariffe!$M$3)*F933","v":0},{"$f":"+(Tariffe!$I$3+Tariffe!$J$3+Tariffe!$K$3+Tariffe!$L$3+Tariffe!$M$3)*F933*F931","v":0},{"$f":"+(Tariffe!$I$3+Tariffe!$J$3+Tariffe!$K$3+Tariffe!$L$3+Tariffe!$M$3)*F933*F932","v":0},{"$f":"+ROUND(M945+N945+O945,2)","v":0}]
[null,null,null,null,null,null,null,null,null,null,null,null,null,null,null,{"$f":"SUM(P939:P945)","v":0},"Imponibile"]
[null,null,null,null,null,null,null,null,null,null,null,null,null,null,null,{"$f":"+ROUND(P946*0.1,2)","v":0},"IVA (10%)"]
[null,null,null,null,null,null,null,null,null,null,null,null,null,null,null,{"$f":"+P947+P946","v":0},"Totale corrispettivi"]
[]
[]
[{"$f":"+A926+1","v":39},null,null,null,null,null,"Impoto"]
[{"$f":"CONCATENATE(\"Unità domestica residente #\",A951)","v":"Unità domestica residente #39"},null,null,null,null,null,{"$f":"+P973","v":0}]
["Data inizio periodo consumo",null,null,null,null,{"$f":"+'Tabella ripartizione'!$C$3","v":"00:00:00"}]
["Data fine periodo consumo",null,null,null,null,{"$f":"+'Tabella ripartizione'!$C$4","v":"00:00:00"}]
["Giorni di consumo",null,null,null,null,{"$f":"+F954-F953+1","v":1}]
["Fognatura",null,null,null,null,{"$f":"+'Tabella ripartizione'!$C$6","v":1},"(0 = esente, 1=assoggettato)"]
["Depurazione",null,null,null,null,{"$f":"+'Tabella ripartizione'!$C$7","v":1},"(0 = esente, 1=assoggettato)"]
["Consumo misurato",null,null,null,null,{"$f":"SUMIF('Tabella ripartizione'!$B:$B,A952,'Tabella ripartizione'!$C:$C)","v":0}]
["Numero di componenti nucleo familiare",null,null,null,null,{"$f":"SUMIF('Tabella ripartizione'!$B:$B,A952,'Tabella ripartizione'!$D:$D)","v":0}]
[]
["Tariffe TICSI 2022"]
["Domestico Residente","Fasce anno (m3)",null,"Fasce pro-die (m3)",null,"mc riarticolati","Importi servizio",null,null,"Importi Quota fissa",null,null,"Importi perequazione"]
[null,"da","a","da","a",{"$f":"+F968+F967+F966+F965+F964","v":0},"Acqua","Fogna","Depurazione","Acqua","Fogna","Depurazione","Acqua","Fogna","Depurazione","Totali"]
[null,0,{"$f":"IF(F958=0,0,VLOOKUP(F959,Fasce!A:B,2,FALSE))","v":0},0,{"$f":"+ROUND(C964/365*F955,0)","v":0},{"$f":"+IF(F958>=E964,E964,F958)","v":0},{"$f":"+Tariffe!$A$3*F964","v":0},{"$f":"+Tariffe!$B$3*F964*$F$6","v":0},{"$f":"+Tariffe!$C$3*F964*$F$7","v":0},null,null,null,null,null,null,{"$f":"+ROUND((G964+H964+I964),2)","v":0}]
[null,{"$f":"+C964+1","v":1},{"$f":"IF(F958=0,0,VLOOKUP(F959,Fasce!A:C,3,FALSE))","v":0},{"$f":"+E964","v":0},{"$f":"+ROUND(C965/365*F955,0)","v":0},{"$f":"+IF(F958>=E965,E965-E964,IF(F958>=E964,F958-E964,IF(F958<E964,0)))","v":0},{"$f":"+Tariffe!$A$4*F965","v":0},{"$f":"+Tariffe!$B$3*F965*$F$6","v":0},{"$f":"+Tariffe!$C$3*F965*$F$7","v":0},null,null,null,null,null,null,0]
[null,1,{"$f":"IF(F958=0,0,VLOOKUP(F959,Fasce!A:D,4,FALSE))","v":0},0,{"$f":"+ROUND(C966/365*F955,0)","v":0},{"$f":"+IF(F958>=E966,E966-E965,IF(F958>=E965,F958-E965,IF(F958<E965,0)))","v":0},{"$f":"+Tariffe!$A$5*F966","v":0},{"$f":"+Tariffe!$B$3*F966*$F$6","v":0},{"$f":"+Tariffe!$C$3*F966*$F$7","v":0},null,null,null,null,null,null,0]
[null,1,{"$f":"IF(F958=0,0,VLOOKUP(F959,Fasce!A:E,5,FALSE))","v":0},0,{"$f":"+ROUND(C967/365*F955,0)","v":0},{"$f":"+IF(F958>=E967,E967-E966,IF(F958>=E966,F958-E966,IF(F958<E966,0)))","v":0},{"$f":"+Tariffe!$A$6*F967","v":0},{"$f":"+Tariffe!$B$3*F967*$F$6","v":0},{"$f":"+Tariffe!$C$3*F967*$F$7","v":0},null,null,null,null,null,null,0]
[null,1,999999,0,999999,{"$f":"+IF(F958>=E968,E968-E967,IF(F958>=E967,F958-E967,IF(F958<E967,0,F958-E967)))","v":0},{"$f":"+Tariffe!$A$7*F968","v":0},{"$f":"+Tariffe!$B$3*F968*$F$6","v":0},{"$f":"+Tariffe!$C$3*F968*$F$7","v":0},null,null,null,null,null,null,0]
[null,null,null,null,null,null,null,null,null,{"$f":"+IF(A951>'Tabella ripartizione'!$L$3,0,Tariffe!$E$3*F955/365)","v":0},{"$f":"+IF(A951>'Tabella ripartizione'!$L$3,0,Tariffe!$F$3*F955/365*F956)","v":0},{"$f":"+IF(A951>'Tabella ripartizione'!$L$3,0,Tariffe!$G$3*F955/365*F957)","v":0},null,null,null,{"$f":"+ROUND(J969+K969+L969,2)","v":0}]
[null,null,null,null,null,null,null,null,null,null,null,null,{"$f":"+(Tariffe!$I$3+Tariffe!$J$3+Tariffe!$K$3+Tariffe!$L$3+Tariffe!$M$3)*F958","v":0},{"$f":"+(Tariffe!$I$3+Tariffe!$J$3+Tariffe!$K$3+Tariffe!$L$3+Tariffe!$M$3)*F958*F956","v":0},{"$f":"+(Tariffe!$I$3+Tariffe!$J$3+Tariffe!$K$3+Tariffe!$L$3+Tariffe!$M$3)*F958*F957","v":0},{"$f":"+ROUND(M970+N970+O970,2)","v":0}]
[null,null,null,null,null,null,null,null,null,null,null,null,null,null,null,{"$f":"SUM(P964:P970)","v":0},"Imponibile"]
[null,null,null,null,null,null,null,null,null,null,null,null,null,null,null,{"$f":"+ROUND(P971*0.1,2)","v":0},"IVA (10%)"]
[null,null,null,null,null,null,null,null,null,null,null,null,null,null,null,{"$f":"+P972+P971","v":0},"Totale corrispettivi"]
[]
[]
[{"$f":"+A951+1","v":40},null,null,null,null,null,"Impoto"]
[{"$f":"CONCATENATE(\"Unità domestica residente #\",A976)","v":"Unità domestica residente #40"},null,null,null,null,null,{"$f":"+P998","v":0}]
["Data inizio periodo consumo",null,null,null,null,{"$f":"+'Tabella ripartizione'!$C$3","v":"00:00:00"}]
["Data fine periodo consumo",null,null,null,null,{"$f":"+'Tabella ripartizione'!$C$4","v":"00:00:00"}]
["Giorni di consumo",null,null,null,null,{"$f":"+F979-F978+1","v":1}]
["Fognatura",null,null,null,null,{"$f":"+'Tabella ripartizione'!$C$6","v":1},"(0 = esente, 1=assoggettato)"]
["Depurazione",null,null,null,null,{"$f":"+'Tabella ripartizione'!$C$7","v":1},"(0 = esente, 1=assoggettato)"]
["Consumo misurato",null,null,null,null,{"$f":"SUMIF('Tabella ripartizione'!$B:$B,A977,'Tabella ripartizione'!$C:$C)","v":0}]
["Numero di componenti nucleo familiare",null,null,null,null,{"$f":"SUMIF('Tabella ripartizione'!$B:$B,A977,'Tabella ripartizione'!$D:$D)","v":0}]
[]
["Tariffe TICSI 2022"]
["Domestico Residente","Fasce anno (m3)",null,"Fasce pro-die (m3)",null,"mc riarticolati","Importi servizio",null,null,"Importi Quota fissa",null,null,"Importi perequazione"]
[null,"da","a","da","a",{"$f":"+F993+F992+F991+F990+F989","v":0},"Acqua","Fogna","Depurazione","Acqua","Fogna","Depurazione","Acqua","Fogna","Depurazione","Totali"]
[null,0,{"$f":"IF(F983=0,0,VLOOKUP(F984,Fasce!A:B,2,FALSE))","v":0},0,{"$f":"+ROUND(C989/365*F980,0)","v":0},{"$f":"+IF(F983>=E989,E989,F983)","v":0},{"$f":"+Tariffe!$A$3*F989","v":0},{"$f":"+Tariffe!$B$3*F989*$F$6","v":0},{"$f":"+Tariffe!$C$3*F989*$F$7","v":0},null,null,null,null,null,null,{"$f":"+ROUND((G989+H989+I989),2)","v":0}]
[null,{"$f":"+C989+1","v":1},{"$f":"IF(F983=0,0,VLOOKUP(F984,Fasce!A:C,3,FALSE))","v":0},{"$f":"+E989","v":0},{"$f":"+ROUND(C990/365*F980,0)","v":0},{"$f":"+IF(F983>=E990,E990-E989,IF(F983>=E989,F983-E989,IF(F983<E989,0)))","v":0},{"$f":"+Tariffe!$A$4*F990","v":0},{"$f":"+Tariffe!$B$3*F990*$F$6","v":0},{"$f":"+Tariffe!$C$3*F990*$F$7","v":0},null,null,null,null,null,null,0]
[null,1,{"$f":"IF(F983=0,0,VLOOKUP(F984,Fasce!A:D,4,FALSE))","v":0},0,{"$f":"+ROUND(C991/365*F980,0)","v":0},{"$f":"+IF(F983>=E991,E991-E990,IF(F983>=E990,F983-E990,IF(F983<E990,0)))","v":0},{"$f":"+Tariffe!$A$5*F991","v":0},{"$f":"+Tariffe!$B$3*F991*$F$6","v":0},{"$f":"+Tariffe!$C$3*F991*$F$7","v":0},null,null,null,null,null,null,0]
[null,1,{"$f":"IF(F983=0,0,VLOOKUP(F984,Fasce!A:E,5,FALSE))","v":0},0,{"$f":"+ROUND(C992/365*F980,0)","v":0},{"$f":"+IF(F983>=E992,E992-E991,IF(F983>=E991,F983-E991,IF(F983<E991,0)))","v":0},{"$f":"+Tariffe!$A$6*F992","v":0},{"$f":"+Tariffe!$B$3*F992*$F$6","v":0},{"$f":"+Tariffe!$C$3*F992*$F$7","v":0},null,null,null,null,null,null,0]
[null,1,999999,0,999999,{"$f":"+IF(F983>=E993,E993-E992,IF(F983>=E992,F983-E992,IF(F983<E992,0,F983-E992)))","v":0},{"$f":"+Tariffe!$A$7*F993","v":0},{"$f":"+Tariffe!$B$3*F993*$F$6","v":0},{"$f":"+Tariffe!$C$3*F993*$F$7","v":0},null,null,null,null,null,null,0]
[null,null,null,null,null,null,null,null,null,{"$f":"+IF(A976>'Tabella ripartizione'!$L$3,0,Tariffe!$E$3*F980/365)","v":0},{"$f":"+IF(A976>'Tabella ripartizione'!$L$3,0,Tariffe!$F$3*F980/365*F981)","v":0},{"$f":"+IF(A976>'Tabella ripartizione'!$L$3,0,Tariffe!$G$3*F980/365*F982)","v":0},null,null,null,{"$f":"+ROUND(J994+K994+L994,2)","v":0}]
[null,null,null,null,null,null,null,null,null,null,null,null,{"$f":"+(Tariffe!$I$3+Tariffe!$J$3+Tariffe!$K$3+Tariffe!$L$3+Tariffe!$M$3)*F983","v":0},{"$f":"+(Tariffe!$I$3+Tariffe!$J$3+Tariffe!$K$3+Tariffe!$L$3+Tariffe!$M$3)*F983*F981","v":0},{"$f":"+(Tariffe!$I$3+Tariffe!$J$3+Tariffe!$K$3+Tariffe!$L$3+Tariffe!$M$3)*F983*F982","v":0},{"$f":"+ROUND(M995+N995+O995,2)","v":0}]
[null,null,null,null,null,null,null,null,null,null,null,null,null,null,null,{"$f":"SUM(P989:P995)","v":0},"Imponibile"]
[null,null,null,null,null,null,null,null,null,null,null,null,null,null,null,{"$f":"+ROUND(P996*0.1,2)","v":0},"IVA (10%)"]
[null,null,null,null,null,null,null,null,null,null,null,null,null,null,null,{"$f":"+P997+P996","v":0},"Totale corrispettivi"]
[]
[]
[{"$f":"+A976+1","v":41},null,null,null,null,null,"Impoto"]
[{"$f":"CONCATENATE(\"Unità domestica residente #\",A1001)","v":"Unità domestica residente #41"},null,null,null,null,null,{"$f":"+P1023","v":0}]
["Data inizio periodo consumo",null,null,null,null,{"$f":"+'Tabella ripartizione'!$C$3","v":"00:00:00"}]
["Data fine periodo consumo",null,null,null,null,{"$f":"+'Tabella ripartizione'!$C$4","v":"00:00:00"}]
["Giorni di consumo",null,null,null,null,{"$f":"+F1004-F1003+1","v":1}]
["Fognatura",null,null,null,null,{"$f":"+'Tabella ripartizione'!$C$6","v":1},"(0 = esente, 1=assoggettato)"]
["Depurazione",null,null,null,null,{"$f":"+'Tabella ripartizione'!$C$7","v":1},"(0 = esente, 1=assoggettato)"]
["Consumo misurato",null,null,null,null,{"$f":"SUMIF('Tabella ripartizione'!$B:$B,A1002,'Tabella ripartizione'!$C:$C)","v":0}]
["Numero di componenti nucleo familiare",null,null,null,null,{"$f":"SUMIF('Tabella ripartizione'!$B:$B,A1002,'Tabella ripartizione'!$D:$D)","v":0}]
[]
["Tariffe TICSI 2022"]
["Domestico Residente","Fasce anno (m3)",null,"Fasce pro-die (m3)",null,"mc riarticolati","Importi servizio",null,null,"Importi Quota fissa",null,null,"Importi perequazione"]
[null,"da","a","da","a",{"$f":"+F1018+F1017+F1016+F1015+F1014","v":0},"Acqua","Fogna","Depurazione","Acqua","Fogna","Depurazione","Acqua","Fogna","Depurazione","Totali"]
[null,0,{"$f":"IF(F1008=0,0,VLOOKUP(F1009,Fasce!A:B,2,FALSE))","v":0},0,{"$f":"+ROUND(C1014/365*F1005,0)","v":0},{"$f":"+IF(F1008>=E1014,E1014,F1008)","v":0},{"$f":"+Tariffe!$A$3*F1014","v":0},{"$f":"+Tariffe!$B$3*F1014*$F$6","v":0},{"$f":"+Tariffe!$C$3*F1014*$F$7","v":0},null,null,null,null,null,null,{"$f":"+ROUND((G1014+H1014+I1014),2)","v":0}]
[null,{"$f":"+C1014+1","v":1},{"$f":"IF(F1008=0,0,VLOOKUP(F1009,Fasce!A:C,3,FALSE))","v":0},{"$f":"+E1014","v":0},{"$f":"+ROUND(C1015/365*F1005,0)","v":0},{"$f":"+IF(F1008>=E1015,E1015-E1014,IF(F1008>=E1014,F1008-E1014,IF(F1008<E1014,0)))","v":0},{"$f":"+Tariffe!$A$4*F1015","v":0},{"$f":"+Tariffe!$B$3*F1015*$F$6","v":0},{"$f":"+Tariffe!$C$3*F1015*$F$7","v":0},null,null,null,null,null,null,0]
[null,1,{"$f":"IF(F1008=0,0,VLOOKUP(F1009,Fasce!A:D,4,FALSE))","v":0},0,{"$f":"+ROUND(C1016/365*F1005,0)","v":0},{"$f":"+IF(F1008>=E1016,E1016-E1015,IF(F1008>=E1015,F1008-E1015,IF(F1008<E1015,0)))","v":0},{"$f":"+Tariffe!$A$5*F1016","v":0},{"$f":"+Tariffe!$B$3*F1016*$F$6","v":0},{"$f":"+Tariffe!$C$3*F1016*$F$7","v":0},null,null,null,null,null,null,0]
[null,1,{"$f":"IF(F1008=0,0,VLOOKUP(F1009,Fasce!A:E,5,FALSE))","v":0},0,{"$f":"+ROUND(C1017/365*F1005,0)","v":0},{"$f":"+IF(F1008>=E1017,E1017-E1016,IF(F1008>=E1016,F1008-E1016,IF(F1008<E1016,0)))","v":0},{"$f":"+Tariffe!$A$6*F1017","v":0},{"$f":"+Tariffe!$B$3*F1017*$F$6","v":0},{"$f":"+Tariffe!$C$3*F1017*$F$7","v":0},null,null,null,null,null,null,0]
[null,1,999999,0,999999,{"$f":"+IF(F1008>=E1018,E1018-E1017,IF(F1008>=E1017,F1008-E1017,IF(F1008<E1017,0,F1008-E1017)))","v":0},{"$f":"+Tariffe!$A$7*F1018","v":0},{"$f":"+Tariffe!$B$3*F1018*$F$6","v":0},{"$f":"+Tariffe!$C$3*F1018*$F$7","v":0},null,null,null,null,null,null,0]
[null,null,null,null,null,null,null,null,null,{"$f":"+IF(A1001>'Tabella ripartizione'!$L$3,0,Tariffe!$E$3*F1005/365)","v":0},{"$f":"+IF(A1001>'Tabella ripartizione'!$L$3,0,Tariffe!$F$3*F1005/365*F1006)","v":0},{"$f":"+IF(A1001>'Tabella ripartizione'!$L$3,0,Tariffe!$G$3*F1005/365*F1007)","v":0},null,null,null,{"$f":"+ROUND(J1019+K1019+L1019,2)","v":0}]
[null,null,null,null,null,null,null,null,null,null,null,null,{"$f":"+(Tariffe!$I$3+Tariffe!$J$3+Tariffe!$K$3+Tariffe!$L$3+Tariffe!$M$3)*F1008","v":0},{"$f":"+(Tariffe!$I$3+Tariffe!$J$3+Tariffe!$K$3+Tariffe!$L$3+Tariffe!$M$3)*F1008*F1006","v":0},{"$f":"+(Tariffe!$I$3+Tariffe!$J$3+Tariffe!$K$3+Tariffe!$L$3+Tariffe!$M$3)*F1008*F1007","v":0},{"$f":"+ROUND(M1020+N1020+O1020,2)","v":0}]
[null,null,null,null,null,null,null,null,null,null,null,null,null,null,null,{"$f":"SUM(P1014:P1020)","v":0},"Imponibile"]
[null,null,null,null,null,null,null,null,null,null,null,null,null,null,null,{"$f":"+ROUND(P1021*0.1,2)","v":0},"IVA (10%)"]
[null,null,null,null,null,null,null,null,null,null,null,null,null,null,null,{"$f":"+P1022+P1021","v":0},"Totale corrispettivi"]
[]
[]
[{"$f":"+A1001+1","v":42},null,null,null,null,null,"Impoto"]
[{"$f":"CONCATENATE(\"Unità domestica residente #\",A1026)","v":"Unità domestica residente #42"},null,null,null,null,null,{"$f":"+P1048","v":0}]
["Data inizio periodo consumo",null,null,null,null,{"$f":"+'Tabella ripartizione'!$C$3","v":"00:00:00"}]
["Data fine periodo consumo",null,null,null,null,{"$f":"+'Tabella ripartizione'!$C$4","v":"00:00:00"}]
["Giorni di consumo",null,null,null,null,{"$f":"+F1029-F1028+1","v":1}]
["Fognatura",null,null,null,null,{"$f":"+'Tabella ripartizione'!$C$6","v":1},"(0 = esente, 1=assoggettato)"]
["Depurazione",null,null,null,null,{"$f":"+'Tabella ripartizione'!$C$7","v":1},"(0 = esente, 1=assoggettato)"]
["Consumo misurato",null,null,null,null,{"$f":"SUMIF('Tabella ripartizione'!$B:$B,A1027,'Tabella ripartizione'!$C:$C)","v":0}]
["Numero di componenti nucleo familiare",null,null,null,null,{"$f":"SUMIF('Tabella ripartizione'!$B:$B,A1027,'Tabella ripartizione'!$D:$D)","v":0}]
[]
["Tariffe TICSI 2022"]
["Domestico Residente","Fasce anno (m3)",null,"Fasce pro-die (m3)",null,"mc riarticolati","Importi servizio",null,null,"Importi Quota fissa",null,null,"Importi perequazione"]
[null,"da","a","da","a",{"$f":"+F1043+F1042+F1041+F1040+F1039","v":0},"Acqua","Fogna","Depurazione","Acqua","Fogna","Depurazione","Acqua","Fogna","Depurazione","Totali"]
[null,0,{"$f":"IF(F1033=0,0,VLOOKUP(F1034,Fasce!A:B,2,FALSE))","v":0},0,{"$f":"+ROUND(C1039/365*F1030,0)","v":0},{"$f":"+IF(F1033>=E1039,E1039,F1033)","v":0},{"$f":"+Tariffe!$A$3*F1039","v":0},{"$f":"+Tariffe!$B$3*F1039*$F$6","v":0},{"$f":"+Tariffe!$C$3*F1039*$F$7","v":0},null,null,null,null,null,null,{"$f":"+ROUND((G1039+H1039+I1039),2)","v":0}]
[null,{"$f":"+C1039+1","v":1},{"$f":"IF(F1033=0,0,VLOOKUP(F1034,Fasce!A:C,3,FALSE))","v":0},{"$f":"+E1039","v":0},{"$f":"+ROUND(C1040/365*F1030,0)","v":0},{"$f":"+IF(F1033>=E1040,E1040-E1039,IF(F1033>=E1039,F1033-E1039,IF(F1033<E1039,0)))","v":0},{"$f":"+Tariffe!$A$4*F1040","v":0},{"$f":"+Tariffe!$B$3*F1040*$F$6","v":0},{"$f":"+Tariffe!$C$3*F1040*$F$7","v":0},null,null,null,null,null,null,0]
[null,1,{"$f":"IF(F1033=0,0,VLOOKUP(F1034,Fasce!A:D,4,FALSE))","v":0},0,{"$f":"+ROUND(C1041/365*F1030,0)","v":0},{"$f":"+IF(F1033>=E1041,E1041-E1040,IF(F1033>=E1040,F1033-E1040,IF(F1033<E1040,0)))","v":0},{"$f":"+Tariffe!$A$5*F1041","v":0},{"$f":"+Tariffe!$B$3*F1041*$F$6","v":0},{"$f":"+Tariffe!$C$3*F1041*$F$7","v":0},null,null,null,null,null,null,0]
[null,1,{"$f":"IF(F1033=0,0,VLOOKUP(F1034,Fasce!A:E,5,FALSE))","v":0},0,{"$f":"+ROUND(C1042/365*F1030,0)","v":0},{"$f":"+IF(F1033>=E1042,E1042-E1041,IF(F1033>=E1041,F1033-E1041,IF(F1033<E1041,0)))","v":0},{"$f":"+Tariffe!$A$6*F1042","v":0},{"$f":"+Tariffe!$B$3*F1042*$F$6","v":0},{"$f":"+Tariffe!$C$3*F1042*$F$7","v":0},null,null,null,null,null,null,0]
[null,1,999999,0,999999,{"$f":"+IF(F1033>=E1043,E1043-E1042,IF(F1033>=E1042,F1033-E1042,IF(F1033<E1042,0,F1033-E1042)))","v":0},{"$f":"+Tariffe!$A$7*F1043","v":0},{"$f":"+Tariffe!$B$3*F1043*$F$6","v":0},{"$f":"+Tariffe!$C$3*F1043*$F$7","v":0},null,null,null,null,null,null,0]
[null,null,null,null,null,null,null,null,null,{"$f":"+IF(A1026>'Tabella ripartizione'!$L$3,0,Tariffe!$E$3*F1030/365)","v":0},{"$f":"+IF(A1026>'Tabella ripartizione'!$L$3,0,Tariffe!$F$3*F1030/365*F1031)","v":0},{"$f":"+IF(A1026>'Tabella ripartizione'!$L$3,0,Tariffe!$G$3*F1030/365*F1032)","v":0},null,null,null,{"$f":"+ROUND(J1044+K1044+L1044,2)","v":0}]
[null,null,null,null,null,null,null,null,null,null,null,null,{"$f":"+(Tariffe!$I$3+Tariffe!$J$3+Tariffe!$K$3+Tariffe!$L$3+Tariffe!$M$3)*F1033","v":0},{"$f":"+(Tariffe!$I$3+Tariffe!$J$3+Tariffe!$K$3+Tariffe!$L$3+Tariffe!$M$3)*F1033*F1031","v":0},{"$f":"+(Tariffe!$I$3+Tariffe!$J$3+Tariffe!$K$3+Tariffe!$L$3+Tariffe!$M$3)*F1033*F1032","v":0},{"$f":"+ROUND(M1045+N1045+O1045,2)","v":0}]
[null,null,null,null,null,null,null,null,null,null,null,null,null,null,null,{"$f":"SUM(P1039:P1045)","v":0},"Imponibile"]
[null,null,null,null,null,null,null,null,null,null,null,null,null,null,null,{"$f":"+ROUND(P1046*0.1,2)","v":0},"IVA (10%)"]
[null,null,null,null,null,null,null,null,null,null,null,null,null,null,null,{"$f":"+P1047+P1046","v":0},"Totale corrispettivi"]
[]
[]
[{"$f":"+A1026+1","v":43},null,null,null,null,null,"Impoto"]
[{"$f":"CONCATENATE(\"Unità domestica residente #\",A1051)","v":"Unità domestica residente #43"},null,null,null,null,null,{"$f":"+P1073","v":0}]
["Data inizio periodo consumo",null,null,null,null,{"$f":"+'Tabella ripartizione'!$C$3","v":"00:00:00"}]
["Data fine periodo consumo",null,null,null,null,{"$f":"+'Tabella ripartizione'!$C$4","v":"00:00:00"}]
["Giorni di consumo",null,null,null,null,{"$f":"+F1054-F1053+1","v":1}]
["Fognatura",null,null,null,null,{"$f":"+'Tabella ripartizione'!$C$6","v":1},"(0 = esente, 1=assoggettato)"]
["Depurazione",null,null,null,null,{"$f":"+'Tabella ripartizione'!$C$7","v":1},"(0 = esente, 1=assoggettato)"]
["Consumo misurato",null,null,null,null,{"$f":"SUMIF('Tabella ripartizione'!$B:$B,A1052,'Tabella ripartizione'!$C:$C)","v":0}]
["Numero di componenti nucleo familiare",null,null,null,null,{"$f":"SUMIF('Tabella ripartizione'!$B:$B,A1052,'Tabella ripartizione'!$D:$D)","v":0}]
[]
["Tariffe TICSI 2022"]
["Domestico Residente","Fasce anno (m3)",null,"Fasce pro-die (m3)",null,"mc riarticolati","Importi servizio",null,null,"Importi Quota fissa",null,null,"Importi perequazione"]
[null,"da","a","da","a",{"$f":"+F1068+F1067+F1066+F1065+F1064","v":0},"Acqua","Fogna","Depurazione","Acqua","Fogna","Depurazione","Acqua","Fogna","Depurazione","Totali"]
[null,0,{"$f":"IF(F1058=0,0,VLOOKUP(F1059,Fasce!A:B,2,FALSE))","v":0},0,{"$f":"+ROUND(C1064/365*F1055,0)","v":0},{"$f":"+IF(F1058>=E1064,E1064,F1058)","v":0},{"$f":"+Tariffe!$A$3*F1064","v":0},{"$f":"+Tariffe!$B$3*F1064*$F$6","v":0},{"$f":"+Tariffe!$C$3*F1064*$F$7","v":0},null,null,null,null,null,null,{"$f":"+ROUND((G1064+H1064+I1064),2)","v":0}]
[null,{"$f":"+C1064+1","v":1},{"$f":"IF(F1058=0,0,VLOOKUP(F1059,Fasce!A:C,3,FALSE))","v":0},{"$f":"+E1064","v":0},{"$f":"+ROUND(C1065/365*F1055,0)","v":0},{"$f":"+IF(F1058>=E1065,E1065-E1064,IF(F1058>=E1064,F1058-E1064,IF(F1058<E1064,0)))","v":0},{"$f":"+Tariffe!$A$4*F1065","v":0},{"$f":"+Tariffe!$B$3*F1065*$F$6","v":0},{"$f":"+Tariffe!$C$3*F1065*$F$7","v":0},null,null,null,null,null,null,0]
[null,1,{"$f":"IF(F1058=0,0,VLOOKUP(F1059,Fasce!A:D,4,FALSE))","v":0},0,{"$f":"+ROUND(C1066/365*F1055,0)","v":0},{"$f":"+IF(F1058>=E1066,E1066-E1065,IF(F1058>=E1065,F1058-E1065,IF(F1058<E1065,0)))","v":0},{"$f":"+Tariffe!$A$5*F1066","v":0},{"$f":"+Tariffe!$B$3*F1066*$F$6","v":0},{"$f":"+Tariffe!$C$3*F1066*$F$7","v":0},null,null,null,null,null,null,0]
[null,1,{"$f":"IF(F1058=0,0,VLOOKUP(F1059,Fasce!A:E,5,FALSE))","v":0},0,{"$f":"+ROUND(C1067/365*F1055,0)","v":0},{"$f":"+IF(F1058>=E1067,E1067-E1066,IF(F1058>=E1066,F1058-E1066,IF(F1058<E1066,0)))","v":0},{"$f":"+Tariffe!$A$6*F1067","v":0},{"$f":"+Tariffe!$B$3*F1067*$F$6","v":0},{"$f":"+Tariffe!$C$3*F1067*$F$7","v":0},null,null,null,null,null,null,0]
[null,1,999999,0,999999,{"$f":"+IF(F1058>=E1068,E1068-E1067,IF(F1058>=E1067,F1058-E1067,IF(F1058<E1067,0,F1058-E1067)))","v":0},{"$f":"+Tariffe!$A$7*F1068","v":0},{"$f":"+Tariffe!$B$3*F1068*$F$6","v":0},{"$f":"+Tariffe!$C$3*F1068*$F$7","v":0},null,null,null,null,null,null,0]
[null,null,null,null,null,null,null,null,null,{"$f":"+IF(A1051>'Tabella ripartizione'!$L$3,0,Tariffe!$E$3*F1055/365)","v":0},{"$f":"+IF(A1051>'Tabella ripartizione'!$L$3,0,Tariffe!$F$3*F1055/365*F1056)","v":0},{"$f":"+IF(A1051>'Tabella ripartizione'!$L$3,0,Tariffe!$G$3*F1055/365*F1057)","v":0},null,null,null,{"$f":"+ROUND(J1069+K1069+L1069,2)","v":0}]
[null,null,null,null,null,null,null,null,null,null,null,null,{"$f":"+(Tariffe!$I$3+Tariffe!$J$3+Tariffe!$K$3+Tariffe!$L$3+Tariffe!$M$3)*F1058","v":0},{"$f":"+(Tariffe!$I$3+Tariffe!$J$3+Tariffe!$K$3+Tariffe!$L$3+Tariffe!$M$3)*F1058*F1056","v":0},{"$f":"+(Tariffe!$I$3+Tariffe!$J$3+Tariffe!$K$3+Tariffe!$L$3+Tariffe!$M$3)*F1058*F1057","v":0},{"$f":"+ROUND(M1070+N1070+O1070,2)","v":0}]
[null,null,null,null,null,null,null,null,null,null,null,null,null,null,null,{"$f":"SUM(P1064:P1070)","v":0},"Imponibile"]
[null,null,null,null,null,null,null,null,null,null,null,null,null,null,null,{"$f":"+ROUND(P1071*0.1,2)","v":0},"IVA (10%)"]
[null,null,null,null,null,null,null,null,null,null,null,null,null,null,null,{"$f":"+P1072+P1071","v":0},"Totale corrispettivi"]
[]
[]
[{"$f":"+A1051+1","v":44},null,null,null,null,null,"Impoto"]
[{"$f":"CONCATENATE(\"Unità domestica residente #\",A1076)","v":"Unità domestica residente #44"},null,null,null,null,null,{"$f":"+P1098","v":0}]
["Data inizio periodo consumo",null,null,null,null,{"$f":"+'Tabella ripartizione'!$C$3","v":"00:00:00"}]
["Data fine periodo consumo",null,null,null,null,{"$f":"+'Tabella ripartizione'!$C$4","v":"00:00:00"}]
["Giorni di consumo",null,null,null,null,{"$f":"+F1079-F1078+1","v":1}]
["Fognatura",null,null,null,null,{"$f":"+'Tabella ripartizione'!$C$6","v":1},"(0 = esente, 1=assoggettato)"]
["Depurazione",null,null,null,null,{"$f":"+'Tabella ripartizione'!$C$7","v":1},"(0 = esente, 1=assoggettato)"]
["Consumo misurato",null,null,null,null,{"$f":"SUMIF('Tabella ripartizione'!$B:$B,A1077,'Tabella ripartizione'!$C:$C)","v":0}]
["Numero di componenti nucleo familiare",null,null,null,null,{"$f":"SUMIF('Tabella ripartizione'!$B:$B,A1077,'Tabella ripartizione'!$D:$D)","v":0}]
[]
["Tariffe TICSI 2022"]
["Domestico Residente","Fasce anno (m3)",null,"Fasce pro-die (m3)",null,"mc riarticolati","Importi servizio",null,null,"Importi Quota fissa",null,null,"Importi perequazione"]
[null,"da","a","da","a",{"$f":"+F1093+F1092+F1091+F1090+F1089","v":0},"Acqua","Fogna","Depurazione","Acqua","Fogna","Depurazione","Acqua","Fogna","Depurazione","Totali"]
[null,0,{"$f":"IF(F1083=0,0,VLOOKUP(F1084,Fasce!A:B,2,FALSE))","v":0},0,{"$f":"+ROUND(C1089/365*F1080,0)","v":0},{"$f":"+IF(F1083>=E1089,E1089,F1083)","v":0},{"$f":"+Tariffe!$A$3*F1089","v":0},{"$f":"+Tariffe!$B$3*F1089*$F$6","v":0},{"$f":"+Tariffe!$C$3*F1089*$F$7","v":0},null,null,null,null,null,null,{"$f":"+ROUND((G1089+H1089+I1089),2)","v":0}]
[null,{"$f":"+C1089+1","v":1},{"$f":"IF(F1083=0,0,VLOOKUP(F1084,Fasce!A:C,3,FALSE))","v":0},{"$f":"+E1089","v":0},{"$f":"+ROUND(C1090/365*F1080,0)","v":0},{"$f":"+IF(F1083>=E1090,E1090-E1089,IF(F1083>=E1089,F1083-E1089,IF(F1083<E1089,0)))","v":0},{"$f":"+Tariffe!$A$4*F1090","v":0},{"$f":"+Tariffe!$B$3*F1090*$F$6","v":0},{"$f":"+Tariffe!$C$3*F1090*$F$7","v":0},null,null,null,null,null,null,0]
[null,1,{"$f":"IF(F1083=0,0,VLOOKUP(F1084,Fasce!A:D,4,FALSE))","v":0},0,{"$f":"+ROUND(C1091/365*F1080,0)","v":0},{"$f":"+IF(F1083>=E1091,E1091-E1090,IF(F1083>=E1090,F1083-E1090,IF(F1083<E1090,0)))","v":0},{"$f":"+Tariffe!$A$5*F1091","v":0},{"$f":"+Tariffe!$B$3*F1091*$F$6","v":0},{"$f":"+Tariffe!$C$3*F1091*$F$7","v":0},null,null,null,null,null,null,0]
[null,1,{"$f":"IF(F1083=0,0,VLOOKUP(F1084,Fasce!A:E,5,FALSE))","v":0},0,{"$f":"+ROUND(C1092/365*F1080,0)","v":0},{"$f":"+IF(F1083>=E1092,E1092-E1091,IF(F1083>=E1091,F1083-E1091,IF(F1083<E1091,0)))","v":0},{"$f":"+Tariffe!$A$6*F1092","v":0},{"$f":"+Tariffe!$B$3*F1092*$F$6","v":0},{"$f":"+Tariffe!$C$3*F1092*$F$7","v":0},null,null,null,null,null,null,0]
[null,1,999999,0,999999,{"$f":"+IF(F1083>=E1093,E1093-E1092,IF(F1083>=E1092,F1083-E1092,IF(F1083<E1092,0,F1083-E1092)))","v":0},{"$f":"+Tariffe!$A$7*F1093","v":0},{"$f":"+Tariffe!$B$3*F1093*$F$6","v":0},{"$f":"+Tariffe!$C$3*F1093*$F$7","v":0},null,null,null,null,null,null,0]
[null,null,null,null,null,null,null,null,null,{"$f":"+IF(A1076>'Tabella ripartizione'!$L$3,0,Tariffe!$E$3*F1080/365)","v":0},{"$f":"+IF(A1076>'Tabella ripartizione'!$L$3,0,Tariffe!$F$3*F1080/365*F1081)","v":0},{"$f":"+IF(A1076>'Tabella ripartizione'!$L$3,0,Tariffe!$G$3*F1080/365*F1082)","v":0},null,null,null,{"$f":"+ROUND(J1094+K1094+L1094,2)","v":0}]
[null,null,null,null,null,null,null,null,null,null,null,null,{"$f":"+(Tariffe!$I$3+Tariffe!$J$3+Tariffe!$K$3+Tariffe!$L$3+Tariffe!$M$3)*F1083","v":0},{"$f":"+(Tariffe!$I$3+Tariffe!$J$3+Tariffe!$K$3+Tariffe!$L$3+Tariffe!$M$3)*F1083*F1081","v":0},{"$f":"+(Tariffe!$I$3+Tariffe!$J$3+Tariffe!$K$3+Tariffe!$L$3+Tariffe!$M$3)*F1083*F1082","v":0},{"$f":"+ROUND(M1095+N1095+O1095,2)","v":0}]
[null,null,null,null,null,null,null,null,null,null,null,null,null,null,null,{"$f":"SUM(P1089:P1095)","v":0},"Imponibile"]
[null,null,null,null,null,null,null,null,null,null,null,null,null,null,null,{"$f":"+ROUND(P1096*0.1,2)","v":0},"IVA (10%)"]
[null,null,null,null,null,null,null,null,null,null,null,null,null,null,null,{"$f":"+P1097+P1096","v":0},"Totale corrispettivi"]
[]
[]
[{"$f":"+A1076+1","v":45},null,null,null,null,null,"Impoto"]
[{"$f":"CONCATENATE(\"Unità domestica residente #\",A1101)","v":"Unità domestica residente #45"},null,null,null,null,null,{"$f":"+P1123","v":0}]
["Data inizio periodo consumo",null,null,null,null,{"$f":"+'Tabella ripartizione'!$C$3","v":"00:00:00"}]
["Data fine periodo consumo",null,null,null,null,{"$f":"+'Tabella ripartizione'!$C$4","v":"00:00:00"}]
["Giorni di consumo",null,null,null,null,{"$f":"+F1104-F1103+1","v":1}]
["Fognatura",null,null,null,null,{"$f":"+'Tabella ripartizione'!$C$6","v":1},"(0 = esente, 1=assoggettato)"]
["Depurazione",null,null,null,null,{"$f":"+'Tabella ripartizione'!$C$7","v":1},"(0 = esente, 1=assoggettato)"]
["Consumo misurato",null,null,null,null,{"$f":"SUMIF('Tabella ripartizione'!$B:$B,A1102,'Tabella ripartizione'!$C:$C)","v":0}]
["Numero di componenti nucleo familiare",null,null,null,null,{"$f":"SUMIF('Tabella ripartizione'!$B:$B,A1102,'Tabella ripartizione'!$D:$D)","v":0}]
[]
["Tariffe TICSI 2022"]
["Domestico Residente","Fasce anno (m3)",null,"Fasce pro-die (m3)",null,"mc riarticolati","Importi servizio",null,null,"Importi Quota fissa",null,null,"Importi perequazione"]
[null,"da","a","da","a",{"$f":"+F1118+F1117+F1116+F1115+F1114","v":0},"Acqua","Fogna","Depurazione","Acqua","Fogna","Depurazione","Acqua","Fogna","Depurazione","Totali"]
[null,0,{"$f":"IF(F1108=0,0,VLOOKUP(F1109,Fasce!A:B,2,FALSE))","v":0},0,{"$f":"+ROUND(C1114/365*F1105,0)","v":0},{"$f":"+IF(F1108>=E1114,E1114,F1108)","v":0},{"$f":"+Tariffe!$A$3*F1114","v":0},{"$f":"+Tariffe!$B$3*F1114*$F$6","v":0},{"$f":"+Tariffe!$C$3*F1114*$F$7","v":0},null,null,null,null,null,null,{"$f":"+ROUND((G1114+H1114+I1114),2)","v":0}]
[null,{"$f":"+C1114+1","v":1},{"$f":"IF(F1108=0,0,VLOOKUP(F1109,Fasce!A:C,3,FALSE))","v":0},{"$f":"+E1114","v":0},{"$f":"+ROUND(C1115/365*F1105,0)","v":0},{"$f":"+IF(F1108>=E1115,E1115-E1114,IF(F1108>=E1114,F1108-E1114,IF(F1108<E1114,0)))","v":0},{"$f":"+Tariffe!$A$4*F1115","v":0},{"$f":"+Tariffe!$B$3*F1115*$F$6","v":0},{"$f":"+Tariffe!$C$3*F1115*$F$7","v":0},null,null,null,null,null,null,0]
[null,1,{"$f":"IF(F1108=0,0,VLOOKUP(F1109,Fasce!A:D,4,FALSE))","v":0},0,{"$f":"+ROUND(C1116/365*F1105,0)","v":0},{"$f":"+IF(F1108>=E1116,E1116-E1115,IF(F1108>=E1115,F1108-E1115,IF(F1108<E1115,0)))","v":0},{"$f":"+Tariffe!$A$5*F1116","v":0},{"$f":"+Tariffe!$B$3*F1116*$F$6","v":0},{"$f":"+Tariffe!$C$3*F1116*$F$7","v":0},null,null,null,null,null,null,0]
[null,1,{"$f":"IF(F1108=0,0,VLOOKUP(F1109,Fasce!A:E,5,FALSE))","v":0},0,{"$f":"+ROUND(C1117/365*F1105,0)","v":0},{"$f":"+IF(F1108>=E1117,E1117-E1116,IF(F1108>=E1116,F1108-E1116,IF(F1108<E1116,0)))","v":0},{"$f":"+Tariffe!$A$6*F1117","v":0},{"$f":"+Tariffe!$B$3*F1117*$F$6","v":0},{"$f":"+Tariffe!$C$3*F1117*$F$7","v":0},null,null,null,null,null,null,0]
[null,1,999999,0,999999,{"$f":"+IF(F1108>=E1118,E1118-E1117,IF(F1108>=E1117,F1108-E1117,IF(F1108<E1117,0,F1108-E1117)))","v":0},{"$f":"+Tariffe!$A$7*F1118","v":0},{"$f":"+Tariffe!$B$3*F1118*$F$6","v":0},{"$f":"+Tariffe!$C$3*F1118*$F$7","v":0},null,null,null,null,null,null,0]
[null,null,null,null,null,null,null,null,null,{"$f":"+IF(A1101>'Tabella ripartizione'!$L$3,0,Tariffe!$E$3*F1105/365)","v":0},{"$f":"+IF(A1101>'Tabella ripartizione'!$L$3,0,Tariffe!$F$3*F1105/365*F1106)","v":0},{"$f":"+IF(A1101>'Tabella ripartizione'!$L$3,0,Tariffe!$G$3*F1105/365*F1107)","v":0},null,null,null,{"$f":"+ROUND(J1119+K1119+L1119,2)","v":0}]
[null,null,null,null,null,null,null,null,null,null,null,null,{"$f":"+(Tariffe!$I$3+Tariffe!$J$3+Tariffe!$K$3+Tariffe!$L$3+Tariffe!$M$3)*F1108","v":0},{"$f":"+(Tariffe!$I$3+Tariffe!$J$3+Tariffe!$K$3+Tariffe!$L$3+Tariffe!$M$3)*F1108*F1106","v":0},{"$f":"+(Tariffe!$I$3+Tariffe!$J$3+Tariffe!$K$3+Tariffe!$L$3+Tariffe!$M$3)*F1108*F1107","v":0},{"$f":"+ROUND(M1120+N1120+O1120,2)","v":0}]
[null,null,null,null,null,null,null,null,null,null,null,null,null,null,null,{"$f":"SUM(P1114:P1120)","v":0},"Imponibile"]
[null,null,null,null,null,null,null,null,null,null,null,null,null,null,null,{"$f":"+ROUND(P1121*0.1,2)","v":0},"IVA (10%)"]
[null,null,null,null,null,null,null,null,null,null,null,null,null,null,null,{"$f":"+P1122+P1121","v":0},"Totale corrispettivi"]
[]
[]
[{"$f":"+A1101+1","v":46},null,null,null,null,null,"Impoto"]
[{"$f":"CONCATENATE(\"Unità domestica residente #\",A1126)","v":"Unità domestica residente #46"},null,null,null,null,null,{"$f":"+P1148","v":0}]
["Data inizio periodo consumo",null,null,null,null,{"$f":"+'Tabella ripartizione'!$C$3","v":"00:00:00"}]
["Data fine periodo consumo",null,null,null,null,{"$f":"+'Tabella ripartizione'!$C$4","v":"00:00:00"}]
["Giorni di consumo",null,null,null,null,{"$f":"+F1129-F1128+1","v":1}]
["Fognatura",null,null,null,null,{"$f":"+'Tabella ripartizione'!$C$6","v":1},"(0 = esente, 1=assoggettato)"]
["Depurazione",null,null,null,null,{"$f":"+'Tabella ripartizione'!$C$7","v":1},"(0 = esente, 1=assoggettato)"]
["Consumo misurato",null,null,null,null,{"$f":"SUMIF('Tabella ripartizione'!$B:$B,A1127,'Tabella ripartizione'!$C:$C)","v":0}]
["Numero di componenti nucleo familiare",null,null,null,null,{"$f":"SUMIF('Tabella ripartizione'!$B:$B,A1127,'Tabella ripartizione'!$D:$D)","v":0}]
[]
["Tariffe TICSI 2022"]
["Domestico Residente","Fasce anno (m3)",null,"Fasce pro-die (m3)",null,"mc riarticolati","Importi servizio",null,null,"Importi Quota fissa",null,null,"Importi perequazione"]
[null,"da","a","da","a",{"$f":"+F1143+F1142+F1141+F1140+F1139","v":0},"Acqua","Fogna","Depurazione","Acqua","Fogna","Depurazione","Acqua","Fogna","Depurazione","Totali"]
[null,0,{"$f":"IF(F1133=0,0,VLOOKUP(F1134,Fasce!A:B,2,FALSE))","v":0},0,{"$f":"+ROUND(C1139/365*F1130,0)","v":0},{"$f":"+IF(F1133>=E1139,E1139,F1133)","v":0},{"$f":"+Tariffe!$A$3*F1139","v":0},{"$f":"+Tariffe!$B$3*F1139*$F$6","v":0},{"$f":"+Tariffe!$C$3*F1139*$F$7","v":0},null,null,null,null,null,null,{"$f":"+ROUND((G1139+H1139+I1139),2)","v":0}]
[null,{"$f":"+C1139+1","v":1},{"$f":"IF(F1133=0,0,VLOOKUP(F1134,Fasce!A:C,3,FALSE))","v":0},{"$f":"+E1139","v":0},{"$f":"+ROUND(C1140/365*F1130,0)","v":0},{"$f":"+IF(F1133>=E1140,E1140-E1139,IF(F1133>=E1139,F1133-E1139,IF(F1133<E1139,0)))","v":0},{"$f":"+Tariffe!$A$4*F1140","v":0},{"$f":"+Tariffe!$B$3*F1140*$F$6","v":0},{"$f":"+Tariffe!$C$3*F1140*$F$7","v":0},null,null,null,null,null,null,0]
[null,1,{"$f":"IF(F1133=0,0,VLOOKUP(F1134,Fasce!A:D,4,FALSE))","v":0},0,{"$f":"+ROUND(C1141/365*F1130,0)","v":0},{"$f":"+IF(F1133>=E1141,E1141-E1140,IF(F1133>=E1140,F1133-E1140,IF(F1133<E1140,0)))","v":0},{"$f":"+Tariffe!$A$5*F1141","v":0},{"$f":"+Tariffe!$B$3*F1141*$F$6","v":0},{"$f":"+Tariffe!$C$3*F1141*$F$7","v":0},null,null,null,null,null,null,0]
[null,1,{"$f":"IF(F1133=0,0,VLOOKUP(F1134,Fasce!A:E,5,FALSE))","v":0},0,{"$f":"+ROUND(C1142/365*F1130,0)","v":0},{"$f":"+IF(F1133>=E1142,E1142-E1141,IF(F1133>=E1141,F1133-E1141,IF(F1133<E1141,0)))","v":0},{"$f":"+Tariffe!$A$6*F1142","v":0},{"$f":"+Tariffe!$B$3*F1142*$F$6","v":0},{"$f":"+Tariffe!$C$3*F1142*$F$7","v":0},null,null,null,null,null,null,0]
[null,1,999999,0,999999,{"$f":"+IF(F1133>=E1143,E1143-E1142,IF(F1133>=E1142,F1133-E1142,IF(F1133<E1142,0,F1133-E1142)))","v":0},{"$f":"+Tariffe!$A$7*F1143","v":0},{"$f":"+Tariffe!$B$3*F1143*$F$6","v":0},{"$f":"+Tariffe!$C$3*F1143*$F$7","v":0},null,null,null,null,null,null,0]
[null,null,null,null,null,null,null,null,null,{"$f":"+IF(A1126>'Tabella ripartizione'!$L$3,0,Tariffe!$E$3*F1130/365)","v":0},{"$f":"+IF(A1126>'Tabella ripartizione'!$L$3,0,Tariffe!$F$3*F1130/365*F1131)","v":0},{"$f":"+IF(A1126>'Tabella ripartizione'!$L$3,0,Tariffe!$G$3*F1130/365*F1132)","v":0},null,null,null,{"$f":"+ROUND(J1144+K1144+L1144,2)","v":0}]
[null,null,null,null,null,null,null,null,null,null,null,null,{"$f":"+(Tariffe!$I$3+Tariffe!$J$3+Tariffe!$K$3+Tariffe!$L$3+Tariffe!$M$3)*F1133","v":0},{"$f":"+(Tariffe!$I$3+Tariffe!$J$3+Tariffe!$K$3+Tariffe!$L$3+Tariffe!$M$3)*F1133*F1131","v":0},{"$f":"+(Tariffe!$I$3+Tariffe!$J$3+Tariffe!$K$3+Tariffe!$L$3+Tariffe!$M$3)*F1133*F1132","v":0},{"$f":"+ROUND(M1145+N1145+O1145,2)","v":0}]
[null,null,null,null,null,null,null,null,null,null,null,null,null,null,null,{"$f":"SUM(P1139:P1145)","v":0},"Imponibile"]
[null,null,null,null,null,null,null,null,null,null,null,null,null,null,null,{"$f":"+ROUND(P1146*0.1,2)","v":0},"IVA (10%)"]
[null,null,null,null,null,null,null,null,null,null,null,null,null,null,null,{"$f":"+P1147+P1146","v":0},"Totale corrispettivi"]
[]
[]
[{"$f":"+A1126+1","v":47},null,null,null,null,null,"Impoto"]
[{"$f":"CONCATENATE(\"Unità domestica residente #\",A1151)","v":"Unità domestica residente #47"},null,null,null,null,null,{"$f":"+P1173","v":0}]
["Data inizio periodo consumo",null,null,null,null,{"$f":"+'Tabella ripartizione'!$C$3","v":"00:00:00"}]
["Data fine periodo consumo",null,null,null,null,{"$f":"+'Tabella ripartizione'!$C$4","v":"00:00:00"}]
["Giorni di consumo",null,null,null,null,{"$f":"+F1154-F1153+1","v":1}]
["Fognatura",null,null,null,null,{"$f":"+'Tabella ripartizione'!$C$6","v":1},"(0 = esente, 1=assoggettato)"]
["Depurazione",null,null,null,null,{"$f":"+'Tabella ripartizione'!$C$7","v":1},"(0 = esente, 1=assoggettato)"]
["Consumo misurato",null,null,null,null,{"$f":"SUMIF('Tabella ripartizione'!$B:$B,A1152,'Tabella ripartizione'!$C:$C)","v":0}]
["Numero di componenti nucleo familiare",null,null,null,null,{"$f":"SUMIF('Tabella ripartizione'!$B:$B,A1152,'Tabella ripartizione'!$D:$D)","v":0}]
[]
["Tariffe TICSI 2022"]
["Domestico Residente","Fasce anno (m3)",null,"Fasce pro-die (m3)",null,"mc riarticolati","Importi servizio",null,null,"Importi Quota fissa",null,null,"Importi perequazione"]
[null,"da","a","da","a",{"$f":"+F1168+F1167+F1166+F1165+F1164","v":0},"Acqua","Fogna","Depurazione","Acqua","Fogna","Depurazione","Acqua","Fogna","Depurazione","Totali"]
[null,0,{"$f":"IF(F1158=0,0,VLOOKUP(F1159,Fasce!A:B,2,FALSE))","v":0},0,{"$f":"+ROUND(C1164/365*F1155,0)","v":0},{"$f":"+IF(F1158>=E1164,E1164,F1158)","v":0},{"$f":"+Tariffe!$A$3*F1164","v":0},{"$f":"+Tariffe!$B$3*F1164*$F$6","v":0},{"$f":"+Tariffe!$C$3*F1164*$F$7","v":0},null,null,null,null,null,null,{"$f":"+ROUND((G1164+H1164+I1164),2)","v":0}]
[null,{"$f":"+C1164+1","v":1},{"$f":"IF(F1158=0,0,VLOOKUP(F1159,Fasce!A:C,3,FALSE))","v":0},{"$f":"+E1164","v":0},{"$f":"+ROUND(C1165/365*F1155,0)","v":0},{"$f":"+IF(F1158>=E1165,E1165-E1164,IF(F1158>=E1164,F1158-E1164,IF(F1158<E1164,0)))","v":0},{"$f":"+Tariffe!$A$4*F1165","v":0},{"$f":"+Tariffe!$B$3*F1165*$F$6","v":0},{"$f":"+Tariffe!$C$3*F1165*$F$7","v":0},null,null,null,null,null,null,0]
[null,1,{"$f":"IF(F1158=0,0,VLOOKUP(F1159,Fasce!A:D,4,FALSE))","v":0},0,{"$f":"+ROUND(C1166/365*F1155,0)","v":0},{"$f":"+IF(F1158>=E1166,E1166-E1165,IF(F1158>=E1165,F1158-E1165,IF(F1158<E1165,0)))","v":0},{"$f":"+Tariffe!$A$5*F1166","v":0},{"$f":"+Tariffe!$B$3*F1166*$F$6","v":0},{"$f":"+Tariffe!$C$3*F1166*$F$7","v":0},null,null,null,null,null,null,0]
[null,1,{"$f":"IF(F1158=0,0,VLOOKUP(F1159,Fasce!A:E,5,FALSE))","v":0},0,{"$f":"+ROUND(C1167/365*F1155,0)","v":0},{"$f":"+IF(F1158>=E1167,E1167-E1166,IF(F1158>=E1166,F1158-E1166,IF(F1158<E1166,0)))","v":0},{"$f":"+Tariffe!$A$6*F1167","v":0},{"$f":"+Tariffe!$B$3*F1167*$F$6","v":0},{"$f":"+Tariffe!$C$3*F1167*$F$7","v":0},null,null,null,null,null,null,0]
[null,1,999999,0,999999,{"$f":"+IF(F1158>=E1168,E1168-E1167,IF(F1158>=E1167,F1158-E1167,IF(F1158<E1167,0,F1158-E1167)))","v":0},{"$f":"+Tariffe!$A$7*F1168","v":0},{"$f":"+Tariffe!$B$3*F1168*$F$6","v":0},{"$f":"+Tariffe!$C$3*F1168*$F$7","v":0},null,null,null,null,null,null,0]
[null,null,null,null,null,null,null,null,null,{"$f":"+IF(A1151>'Tabella ripartizione'!$L$3,0,Tariffe!$E$3*F1155/365)","v":0},{"$f":"+IF(A1151>'Tabella ripartizione'!$L$3,0,Tariffe!$F$3*F1155/365*F1156)","v":0},{"$f":"+IF(A1151>'Tabella ripartizione'!$L$3,0,Tariffe!$G$3*F1155/365*F1157)","v":0},null,null,null,{"$f":"+ROUND(J1169+K1169+L1169,2)","v":0}]
[null,null,null,null,null,null,null,null,null,null,null,null,{"$f":"+(Tariffe!$I$3+Tariffe!$J$3+Tariffe!$K$3+Tariffe!$L$3+Tariffe!$M$3)*F1158","v":0},{"$f":"+(Tariffe!$I$3+Tariffe!$J$3+Tariffe!$K$3+Tariffe!$L$3+Tariffe!$M$3)*F1158*F1156","v":0},{"$f":"+(Tariffe!$I$3+Tariffe!$J$3+Tariffe!$K$3+Tariffe!$L$3+Tariffe!$M$3)*F1158*F1157","v":0},{"$f":"+ROUND(M1170+N1170+O1170,2)","v":0}]
[null,null,null,null,null,null,null,null,null,null,null,null,null,null,null,{"$f":"SUM(P1164:P1170)","v":0},"Imponibile"]
[null,null,null,null,null,null,null,null,null,null,null,null,null,null,null,{"$f":"+ROUND(P1171*0.1,2)","v":0},"IVA (10%)"]
[null,null,null,null,null,null,null,null,null,null,null,null,null,null,null,{"$f":"+P1172+P1171","v":0},"Totale corrispettivi"]
[]
[]
[{"$f":"+A1151+1","v":48},null,null,null,null,null,"Impoto"]
[{"$f":"CONCATENATE(\"Unità domestica residente #\",A1176)","v":"Unità domestica residente #48"},null,null,null,null,null,{"$f":"+P1198","v":0}]
["Data inizio periodo consumo",null,null,null,null,{"$f":"+'Tabella ripartizione'!$C$3","v":"00:00:00"}]
["Data fine periodo consumo",null,null,null,null,{"$f":"+'Tabella ripartizione'!$C$4","v":"00:00:00"}]
["Giorni di consumo",null,null,null,null,{"$f":"+F1179-F1178+1","v":1}]
["Fognatura",null,null,null,null,{"$f":"+'Tabella ripartizione'!$C$6","v":1},"(0 = esente, 1=assoggettato)"]
["Depurazione",null,null,null,null,{"$f":"+'Tabella ripartizione'!$C$7","v":1},"(0 = esente, 1=assoggettato)"]
["Consumo misurato",null,null,null,null,{"$f":"SUMIF('Tabella ripartizione'!$B:$B,A1177,'Tabella ripartizione'!$C:$C)","v":0}]
["Numero di componenti nucleo familiare",null,null,null,null,{"$f":"SUMIF('Tabella ripartizione'!$B:$B,A1177,'Tabella ripartizione'!$D:$D)","v":0}]
[]
["Tariffe TICSI 2022"]
["Domestico Residente","Fasce anno (m3)",null,"Fasce pro-die (m3)",null,"mc riarticolati","Importi servizio",null,null,"Importi Quota fissa",null,null,"Importi perequazione"]
[null,"da","a","da","a",{"$f":"+F1193+F1192+F1191+F1190+F1189","v":0},"Acqua","Fogna","Depurazione","Acqua","Fogna","Depurazione","Acqua","Fogna","Depurazione","Totali"]
[null,0,{"$f":"IF(F1183=0,0,VLOOKUP(F1184,Fasce!A:B,2,FALSE))","v":0},0,{"$f":"+ROUND(C1189/365*F1180,0)","v":0},{"$f":"+IF(F1183>=E1189,E1189,F1183)","v":0},{"$f":"+Tariffe!$A$3*F1189","v":0},{"$f":"+Tariffe!$B$3*F1189*$F$6","v":0},{"$f":"+Tariffe!$C$3*F1189*$F$7","v":0},null,null,null,null,null,null,{"$f":"+ROUND((G1189+H1189+I1189),2)","v":0}]
[null,{"$f":"+C1189+1","v":1},{"$f":"IF(F1183=0,0,VLOOKUP(F1184,Fasce!A:C,3,FALSE))","v":0},{"$f":"+E1189","v":0},{"$f":"+ROUND(C1190/365*F1180,0)","v":0},{"$f":"+IF(F1183>=E1190,E1190-E1189,IF(F1183>=E1189,F1183-E1189,IF(F1183<E1189,0)))","v":0},{"$f":"+Tariffe!$A$4*F1190","v":0},{"$f":"+Tariffe!$B$3*F1190*$F$6","v":0},{"$f":"+Tariffe!$C$3*F1190*$F$7","v":0},null,null,null,null,null,null,0]
[null,1,{"$f":"IF(F1183=0,0,VLOOKUP(F1184,Fasce!A:D,4,FALSE))","v":0},0,{"$f":"+ROUND(C1191/365*F1180,0)","v":0},{"$f":"+IF(F1183>=E1191,E1191-E1190,IF(F1183>=E1190,F1183-E1190,IF(F1183<E1190,0)))","v":0},{"$f":"+Tariffe!$A$5*F1191","v":0},{"$f":"+Tariffe!$B$3*F1191*$F$6","v":0},{"$f":"+Tariffe!$C$3*F1191*$F$7","v":0},null,null,null,null,null,null,0]
[null,1,{"$f":"IF(F1183=0,0,VLOOKUP(F1184,Fasce!A:E,5,FALSE))","v":0},0,{"$f":"+ROUND(C1192/365*F1180,0)","v":0},{"$f":"+IF(F1183>=E1192,E1192-E1191,IF(F1183>=E1191,F1183-E1191,IF(F1183<E1191,0)))","v":0},{"$f":"+Tariffe!$A$6*F1192","v":0},{"$f":"+Tariffe!$B$3*F1192*$F$6","v":0},{"$f":"+Tariffe!$C$3*F1192*$F$7","v":0},null,null,null,null,null,null,0]
[null,1,999999,0,999999,{"$f":"+IF(F1183>=E1193,E1193-E1192,IF(F1183>=E1192,F1183-E1192,IF(F1183<E1192,0,F1183-E1192)))","v":0},{"$f":"+Tariffe!$A$7*F1193","v":0},{"$f":"+Tariffe!$B$3*F1193*$F$6","v":0},{"$f":"+Tariffe!$C$3*F1193*$F$7","v":0},null,null,null,null,null,null,0]
[null,null,null,null,null,null,null,null,null,{"$f":"+IF(A1176>'Tabella ripartizione'!$L$3,0,Tariffe!$E$3*F1180/365)","v":0},{"$f":"+IF(A1176>'Tabella ripartizione'!$L$3,0,Tariffe!$F$3*F1180/365*F1181)","v":0},{"$f":"+IF(A1176>'Tabella ripartizione'!$L$3,0,Tariffe!$G$3*F1180/365*F1182)","v":0},null,null,null,{"$f":"+ROUND(J1194+K1194+L1194,2)","v":0}]
[null,null,null,null,null,null,null,null,null,null,null,null,{"$f":"+(Tariffe!$I$3+Tariffe!$J$3+Tariffe!$K$3+Tariffe!$L$3+Tariffe!$M$3)*F1183","v":0},{"$f":"+(Tariffe!$I$3+Tariffe!$J$3+Tariffe!$K$3+Tariffe!$L$3+Tariffe!$M$3)*F1183*F1181","v":0},{"$f":"+(Tariffe!$I$3+Tariffe!$J$3+Tariffe!$K$3+Tariffe!$L$3+Tariffe!$M$3)*F1183*F1182","v":0},{"$f":"+ROUND(M1195+N1195+O1195,2)","v":0}]
[null,null,null,null,null,null,null,null,null,null,null,null,null,null,null,{"$f":"SUM(P1189:P1195)","v":0},"Imponibile"]
[null,null,null,null,null,null,null,null,null,null,null,null,null,null,null,{"$f":"+ROUND(P1196*0.1,2)","v":0},"IVA (10%)"]
[null,null,null,null,null,null,null,null,null,null,null,null,null,null,null,{"$f":"+P1197+P1196","v":0},"Totale corrispettivi"]
[]
[]
[{"$f":"+A1176+1","v":49},null,null,null,null,null,"Impoto"]
[{"$f":"CONCATENATE(\"Unità domestica residente #\",A1201)","v":"Unità domestica residente #49"},null,null,null,null,null,{"$f":"+P1223","v":0}]
["Data inizio periodo consumo",null,null,null,null,{"$f":"+'Tabella ripartizione'!$C$3","v":"00:00:00"}]
["Data fine periodo consumo",null,null,null,null,{"$f":"+'Tabella ripartizione'!$C$4","v":"00:00:00"}]
["Giorni di consumo",null,null,null,null,{"$f":"+F1204-F1203+1","v":1}]
["Fognatura",null,null,null,null,{"$f":"+'Tabella ripartizione'!$C$6","v":1},"(0 = esente, 1=assoggettato)"]
["Depurazione",null,null,null,null,{"$f":"+'Tabella ripartizione'!$C$7","v":1},"(0 = esente, 1=assoggettato)"]
["Consumo misurato",null,null,null,null,{"$f":"SUMIF('Tabella ripartizione'!$B:$B,A1202,'Tabella ripartizione'!$C:$C)","v":0}]
["Numero di componenti nucleo familiare",null,null,null,null,{"$f":"SUMIF('Tabella ripartizione'!$B:$B,A1202,'Tabella ripartizione'!$D:$D)","v":0}]
[]
["Tariffe TICSI 2022"]
["Domestico Residente","Fasce anno (m3)",null,"Fasce pro-die (m3)",null,"mc riarticolati","Importi servizio",null,null,"Importi Quota fissa",null,null,"Importi perequazione"]
[null,"da","a","da","a",{"$f":"+F1218+F1217+F1216+F1215+F1214","v":0},"Acqua","Fogna","Depurazione","Acqua","Fogna","Depurazione","Acqua","Fogna","Depurazione","Totali"]
[null,0,{"$f":"IF(F1208=0,0,VLOOKUP(F1209,Fasce!A:B,2,FALSE))","v":0},0,{"$f":"+ROUND(C1214/365*F1205,0)","v":0},{"$f":"+IF(F1208>=E1214,E1214,F1208)","v":0},{"$f":"+Tariffe!$A$3*F1214","v":0},{"$f":"+Tariffe!$B$3*F1214*$F$6","v":0},{"$f":"+Tariffe!$C$3*F1214*$F$7","v":0},null,null,null,null,null,null,{"$f":"+ROUND((G1214+H1214+I1214),2)","v":0}]
[null,{"$f":"+C1214+1","v":1},{"$f":"IF(F1208=0,0,VLOOKUP(F1209,Fasce!A:C,3,FALSE))","v":0},{"$f":"+E1214","v":0},{"$f":"+ROUND(C1215/365*F1205,0)","v":0},{"$f":"+IF(F1208>=E1215,E1215-E1214,IF(F1208>=E1214,F1208-E1214,IF(F1208<E1214,0)))","v":0},{"$f":"+Tariffe!$A$4*F1215","v":0},{"$f":"+Tariffe!$B$3*F1215*$F$6","v":0},{"$f":"+Tariffe!$C$3*F1215*$F$7","v":0},null,null,null,null,null,null,0]
[null,1,{"$f":"IF(F1208=0,0,VLOOKUP(F1209,Fasce!A:D,4,FALSE))","v":0},0,{"$f":"+ROUND(C1216/365*F1205,0)","v":0},{"$f":"+IF(F1208>=E1216,E1216-E1215,IF(F1208>=E1215,F1208-E1215,IF(F1208<E1215,0)))","v":0},{"$f":"+Tariffe!$A$5*F1216","v":0},{"$f":"+Tariffe!$B$3*F1216*$F$6","v":0},{"$f":"+Tariffe!$C$3*F1216*$F$7","v":0},null,null,null,null,null,null,0]
[null,1,{"$f":"IF(F1208=0,0,VLOOKUP(F1209,Fasce!A:E,5,FALSE))","v":0},0,{"$f":"+ROUND(C1217/365*F1205,0)","v":0},{"$f":"+IF(F1208>=E1217,E1217-E1216,IF(F1208>=E1216,F1208-E1216,IF(F1208<E1216,0)))","v":0},{"$f":"+Tariffe!$A$6*F1217","v":0},{"$f":"+Tariffe!$B$3*F1217*$F$6","v":0},{"$f":"+Tariffe!$C$3*F1217*$F$7","v":0},null,null,null,null,null,null,0]
[null,1,999999,0,999999,{"$f":"+IF(F1208>=E1218,E1218-E1217,IF(F1208>=E1217,F1208-E1217,IF(F1208<E1217,0,F1208-E1217)))","v":0},{"$f":"+Tariffe!$A$7*F1218","v":0},{"$f":"+Tariffe!$B$3*F1218*$F$6","v":0},{"$f":"+Tariffe!$C$3*F1218*$F$7","v":0},null,null,null,null,null,null,0]
[null,null,null,null,null,null,null,null,null,{"$f":"+IF(A1201>'Tabella ripartizione'!$L$3,0,Tariffe!$E$3*F1205/365)","v":0},{"$f":"+IF(A1201>'Tabella ripartizione'!$L$3,0,Tariffe!$F$3*F1205/365*F1206)","v":0},{"$f":"+IF(A1201>'Tabella ripartizione'!$L$3,0,Tariffe!$G$3*F1205/365*F1207)","v":0},null,null,null,{"$f":"+ROUND(J1219+K1219+L1219,2)","v":0}]
[null,null,null,null,null,null,null,null,null,null,null,null,{"$f":"+(Tariffe!$I$3+Tariffe!$J$3+Tariffe!$K$3+Tariffe!$L$3+Tariffe!$M$3)*F1208","v":0},{"$f":"+(Tariffe!$I$3+Tariffe!$J$3+Tariffe!$K$3+Tariffe!$L$3+Tariffe!$M$3)*F1208*F1206","v":0},{"$f":"+(Tariffe!$I$3+Tariffe!$J$3+Tariffe!$K$3+Tariffe!$L$3+Tariffe!$M$3)*F1208*F1207","v":0},{"$f":"+ROUND(M1220+N1220+O1220,2)","v":0}]
[null,null,null,null,null,null,null,null,null,null,null,null,null,null,null,{"$f":"SUM(P1214:P1220)","v":0},"Imponibile"]
[null,null,null,null,null,null,null,null,null,null,null,null,null,null,null,{"$f":"+ROUND(P1221*0.1,2)","v":0},"IVA (10%)"]
[null,null,null,null,null,null,null,null,null,null,null,null,null,null,null,{"$f":"+P1222+P1221","v":0},"Totale corrispettivi"]
[]
[]
[{"$f":"+A1201+1","v":50},null,null,null,null,null,"Impoto"]
[{"$f":"CONCATENATE(\"Unità domestica residente #\",A1226)","v":"Unità domestica residente #50"},null,null,null,null,null,{"$f":"+P1248","v":0}]
["Data inizio periodo consumo",null,null,null,null,{"$f":"+'Tabella ripartizione'!$C$3","v":"00:00:00"}]
["Data fine periodo consumo",null,null,null,null,{"$f":"+'Tabella ripartizione'!$C$4","v":"00:00:00"}]
["Giorni di consumo",null,null,null,null,{"$f":"+F1229-F1228+1","v":1}]
["Fognatura",null,null,null,null,{"$f":"+'Tabella ripartizione'!$C$6","v":1},"(0 = esente, 1=assoggettato)"]
["Depurazione",null,null,null,null,{"$f":"+'Tabella ripartizione'!$C$7","v":1},"(0 = esente, 1=assoggettato)"]
["Consumo misurato",null,null,null,null,{"$f":"SUMIF('Tabella ripartizione'!$B:$B,A1227,'Tabella ripartizione'!$C:$C)","v":0}]
["Numero di componenti nucleo familiare",null,null,null,null,{"$f":"SUMIF('Tabella ripartizione'!$B:$B,A1227,'Tabella ripartizione'!$D:$D)","v":0}]
[]
["Tariffe TICSI 2022"]
["Domestico Residente","Fasce anno (m3)",null,"Fasce pro-die (m3)",null,"mc riarticolati","Importi servizio",null,null,"Importi Quota fissa",null,null,"Importi perequazione"]
[null,"da","a","da","a",{"$f":"+F1243+F1242+F1241+F1240+F1239","v":0},"Acqua","Fogna","Depurazione","Acqua","Fogna","Depurazione","Acqua","Fogna","Depurazione","Totali"]
[null,0,{"$f":"IF(F1233=0,0,VLOOKUP(F1234,Fasce!A:B,2,FALSE))","v":0},0,{"$f":"+ROUND(C1239/365*F1230,0)","v":0},{"$f":"+IF(F1233>=E1239,E1239,F1233)","v":0},{"$f":"+Tariffe!$A$3*F1239","v":0},{"$f":"+Tariffe!$B$3*F1239*$F$6","v":0},{"$f":"+Tariffe!$C$3*F1239*$F$7","v":0},null,null,null,null,null,null,{"$f":"+ROUND((G1239+H1239+I1239),2)","v":0}]
[null,{"$f":"+C1239+1","v":1},{"$f":"IF(F1233=0,0,VLOOKUP(F1234,Fasce!A:C,3,FALSE))","v":0},{"$f":"+E1239","v":0},{"$f":"+ROUND(C1240/365*F1230,0)","v":0},{"$f":"+IF(F1233>=E1240,E1240-E1239,IF(F1233>=E1239,F1233-E1239,IF(F1233<E1239,0)))","v":0},{"$f":"+Tariffe!$A$4*F1240","v":0},{"$f":"+Tariffe!$B$3*F1240*$F$6","v":0},{"$f":"+Tariffe!$C$3*F1240*$F$7","v":0},null,null,null,null,null,null,0]
[null,1,{"$f":"IF(F1233=0,0,VLOOKUP(F1234,Fasce!A:D,4,FALSE))","v":0},0,{"$f":"+ROUND(C1241/365*F1230,0)","v":0},{"$f":"+IF(F1233>=E1241,E1241-E1240,IF(F1233>=E1240,F1233-E1240,IF(F1233<E1240,0)))","v":0},{"$f":"+Tariffe!$A$5*F1241","v":0},{"$f":"+Tariffe!$B$3*F1241*$F$6","v":0},{"$f":"+Tariffe!$C$3*F1241*$F$7","v":0},null,null,null,null,null,null,0]
[null,1,{"$f":"IF(F1233=0,0,VLOOKUP(F1234,Fasce!A:E,5,FALSE))","v":0},0,{"$f":"+ROUND(C1242/365*F1230,0)","v":0},{"$f":"+IF(F1233>=E1242,E1242-E1241,IF(F1233>=E1241,F1233-E1241,IF(F1233<E1241,0)))","v":0},{"$f":"+Tariffe!$A$6*F1242","v":0},{"$f":"+Tariffe!$B$3*F1242*$F$6","v":0},{"$f":"+Tariffe!$C$3*F1242*$F$7","v":0},null,null,null,null,null,null,0]
[null,1,999999,0,999999,{"$f":"+IF(F1233>=E1243,E1243-E1242,IF(F1233>=E1242,F1233-E1242,IF(F1233<E1242,0,F1233-E1242)))","v":0},{"$f":"+Tariffe!$A$7*F1243","v":0},{"$f":"+Tariffe!$B$3*F1243*$F$6","v":0},{"$f":"+Tariffe!$C$3*F1243*$F$7","v":0},null,null,null,null,null,null,0]
[null,null,null,null,null,null,null,null,null,{"$f":"+IF(A1226>'Tabella ripartizione'!$L$3,0,Tariffe!$E$3*F1230/365)","v":0},{"$f":"+IF(A1226>'Tabella ripartizione'!$L$3,0,Tariffe!$F$3*F1230/365*F1231)","v":0},{"$f":"+IF(A1226>'Tabella ripartizione'!$L$3,0,Tariffe!$G$3*F1230/365*F1232)","v":0},null,null,null,{"$f":"+ROUND(J1244+K1244+L1244,2)","v":0}]
[null,null,null,null,null,null,null,null,null,null,null,null,{"$f":"+(Tariffe!$I$3+Tariffe!$J$3+Tariffe!$K$3+Tariffe!$L$3+Tariffe!$M$3)*F1233","v":0},{"$f":"+(Tariffe!$I$3+Tariffe!$J$3+Tariffe!$K$3+Tariffe!$L$3+Tariffe!$M$3)*F1233*F1231","v":0},{"$f":"+(Tariffe!$I$3+Tariffe!$J$3+Tariffe!$K$3+Tariffe!$L$3+Tariffe!$M$3)*F1233*F1232","v":0},{"$f":"+ROUND(M1245+N1245+O1245,2)","v":0}]
[null,null,null,null,null,null,null,null,null,null,null,null,null,null,null,{"$f":"SUM(P1239:P1245)","v":0},"Imponibile"]
[null,null,null,null,null,null,null,null,null,null,null,null,null,null,null,{"$f":"+ROUND(P1246*0.1,2)","v":0},"IVA (10%)"]
[null,null,null,null,null,null,null,null,null,null,null,null,null,null,null,{"$f":"+P1247+P1246","v":0},"Totale corrispettivi"]
[]
[]
[{"$f":"+A1226+1","v":51},null,null,null,null,null,"Impoto"]
[{"$f":"CONCATENATE(\"Unità domestica residente #\",A1251)","v":"Unità domestica residente #51"},null,null,null,null,null,{"$f":"+P1273","v":0}]
["Data inizio periodo consumo",null,null,null,null,{"$f":"+'Tabella ripartizione'!$C$3","v":"00:00:00"}]
["Data fine periodo consumo",null,null,null,null,{"$f":"+'Tabella ripartizione'!$C$4","v":"00:00:00"}]
["Giorni di consumo",null,null,null,null,{"$f":"+F1254-F1253+1","v":1}]
["Fognatura",null,null,null,null,{"$f":"+'Tabella ripartizione'!$C$6","v":1},"(0 = esente, 1=assoggettato)"]
["Depurazione",null,null,null,null,{"$f":"+'Tabella ripartizione'!$C$7","v":1},"(0 = esente, 1=assoggettato)"]
["Consumo misurato",null,null,null,null,{"$f":"SUMIF('Tabella ripartizione'!$B:$B,A1252,'Tabella ripartizione'!$C:$C)","v":0}]
["Numero di componenti nucleo familiare",null,null,null,null,{"$f":"SUMIF('Tabella ripartizione'!$B:$B,A1252,'Tabella ripartizione'!$D:$D)","v":0}]
[]
["Tariffe TICSI 2022"]
["Domestico Residente","Fasce anno (m3)",null,"Fasce pro-die (m3)",null,"mc riarticolati","Importi servizio",null,null,"Importi Quota fissa",null,null,"Importi perequazione"]
[null,"da","a","da","a",{"$f":"+F1268+F1267+F1266+F1265+F1264","v":0},"Acqua","Fogna","Depurazione","Acqua","Fogna","Depurazione","Acqua","Fogna","Depurazione","Totali"]
[null,0,{"$f":"IF(F1258=0,0,VLOOKUP(F1259,Fasce!A:B,2,FALSE))","v":0},0,{"$f":"+ROUND(C1264/365*F1255,0)","v":0},{"$f":"+IF(F1258>=E1264,E1264,F1258)","v":0},{"$f":"+Tariffe!$A$3*F1264","v":0},{"$f":"+Tariffe!$B$3*F1264*$F$6","v":0},{"$f":"+Tariffe!$C$3*F1264*$F$7","v":0},null,null,null,null,null,null,{"$f":"+ROUND((G1264+H1264+I1264),2)","v":0}]
[null,{"$f":"+C1264+1","v":1},{"$f":"IF(F1258=0,0,VLOOKUP(F1259,Fasce!A:C,3,FALSE))","v":0},{"$f":"+E1264","v":0},{"$f":"+ROUND(C1265/365*F1255,0)","v":0},{"$f":"+IF(F1258>=E1265,E1265-E1264,IF(F1258>=E1264,F1258-E1264,IF(F1258<E1264,0)))","v":0},{"$f":"+Tariffe!$A$4*F1265","v":0},{"$f":"+Tariffe!$B$3*F1265*$F$6","v":0},{"$f":"+Tariffe!$C$3*F1265*$F$7","v":0},null,null,null,null,null,null,0]
[null,1,{"$f":"IF(F1258=0,0,VLOOKUP(F1259,Fasce!A:D,4,FALSE))","v":0},0,{"$f":"+ROUND(C1266/365*F1255,0)","v":0},{"$f":"+IF(F1258>=E1266,E1266-E1265,IF(F1258>=E1265,F1258-E1265,IF(F1258<E1265,0)))","v":0},{"$f":"+Tariffe!$A$5*F1266","v":0},{"$f":"+Tariffe!$B$3*F1266*$F$6","v":0},{"$f":"+Tariffe!$C$3*F1266*$F$7","v":0},null,null,null,null,null,null,0]
[null,1,{"$f":"IF(F1258=0,0,VLOOKUP(F1259,Fasce!A:E,5,FALSE))","v":0},0,{"$f":"+ROUND(C1267/365*F1255,0)","v":0},{"$f":"+IF(F1258>=E1267,E1267-E1266,IF(F1258>=E1266,F1258-E1266,IF(F1258<E1266,0)))","v":0},{"$f":"+Tariffe!$A$6*F1267","v":0},{"$f":"+Tariffe!$B$3*F1267*$F$6","v":0},{"$f":"+Tariffe!$C$3*F1267*$F$7","v":0},null,null,null,null,null,null,0]
[null,1,999999,0,999999,{"$f":"+IF(F1258>=E1268,E1268-E1267,IF(F1258>=E1267,F1258-E1267,IF(F1258<E1267,0,F1258-E1267)))","v":0},{"$f":"+Tariffe!$A$7*F1268","v":0},{"$f":"+Tariffe!$B$3*F1268*$F$6","v":0},{"$f":"+Tariffe!$C$3*F1268*$F$7","v":0},null,null,null,null,null,null,0]
[null,null,null,null,null,null,null,null,null,{"$f":"+IF(A1251>'Tabella ripartizione'!$L$3,0,Tariffe!$E$3*F1255/365)","v":0},{"$f":"+IF(A1251>'Tabella ripartizione'!$L$3,0,Tariffe!$F$3*F1255/365*F1256)","v":0},{"$f":"+IF(A1251>'Tabella ripartizione'!$L$3,0,Tariffe!$G$3*F1255/365*F1257)","v":0},null,null,null,{"$f":"+ROUND(J1269+K1269+L1269,2)","v":0}]
[null,null,null,null,null,null,null,null,null,null,null,null,{"$f":"+(Tariffe!$I$3+Tariffe!$J$3+Tariffe!$K$3+Tariffe!$L$3+Tariffe!$M$3)*F1258","v":0},{"$f":"+(Tariffe!$I$3+Tariffe!$J$3+Tariffe!$K$3+Tariffe!$L$3+Tariffe!$M$3)*F1258*F1256","v":0},{"$f":"+(Tariffe!$I$3+Tariffe!$J$3+Tariffe!$K$3+Tariffe!$L$3+Tariffe!$M$3)*F1258*F1257","v":0},{"$f":"+ROUND(M1270+N1270+O1270,2)","v":0}]
[null,null,null,null,null,null,null,null,null,null,null,null,null,null,null,{"$f":"SUM(P1264:P1270)","v":0},"Imponibile"]
[null,null,null,null,null,null,null,null,null,null,null,null,null,null,null,{"$f":"+ROUND(P1271*0.1,2)","v":0},"IVA (10%)"]
[null,null,null,null,null,null,null,null,null,null,null,null,null,null,null,{"$f":"+P1272+P1271","v":0},"Totale corrispettivi"]
[]
[]
[{"$f":"+A1251+1","v":52},null,null,null,null,null,"Impoto"]
[{"$f":"CONCATENATE(\"Unità domestica residente #\",A1276)","v":"Unità domestica residente #52"},null,null,null,null,null,{"$f":"+P1298","v":0}]
["Data inizio periodo consumo",null,null,null,null,{"$f":"+'Tabella ripartizione'!$C$3","v":"00:00:00"}]
["Data fine periodo consumo",null,null,null,null,{"$f":"+'Tabella ripartizione'!$C$4","v":"00:00:00"}]
["Giorni di consumo",null,null,null,null,{"$f":"+F1279-F1278+1","v":1}]
["Fognatura",null,null,null,null,{"$f":"+'Tabella ripartizione'!$C$6","v":1},"(0 = esente, 1=assoggettato)"]
["Depurazione",null,null,null,null,{"$f":"+'Tabella ripartizione'!$C$7","v":1},"(0 = esente, 1=assoggettato)"]
["Consumo misurato",null,null,null,null,{"$f":"SUMIF('Tabella ripartizione'!$B:$B,A1277,'Tabella ripartizione'!$C:$C)","v":0}]
["Numero di componenti nucleo familiare",null,null,null,null,{"$f":"SUMIF('Tabella ripartizione'!$B:$B,A1277,'Tabella ripartizione'!$D:$D)","v":0}]
[]
["Tariffe TICSI 2022"]
["Domestico Residente","Fasce anno (m3)",null,"Fasce pro-die (m3)",null,"mc riarticolati","Importi servizio",null,null,"Importi Quota fissa",null,null,"Importi perequazione"]
[null,"da","a","da","a",{"$f":"+F1293+F1292+F1291+F1290+F1289","v":0},"Acqua","Fogna","Depurazione","Acqua","Fogna","Depurazione","Acqua","Fogna","Depurazione","Totali"]
[null,0,{"$f":"IF(F1283=0,0,VLOOKUP(F1284,Fasce!A:B,2,FALSE))","v":0},0,{"$f":"+ROUND(C1289/365*F1280,0)","v":0},{"$f":"+IF(F1283>=E1289,E1289,F1283)","v":0},{"$f":"+Tariffe!$A$3*F1289","v":0},{"$f":"+Tariffe!$B$3*F1289*$F$6","v":0},{"$f":"+Tariffe!$C$3*F1289*$F$7","v":0},null,null,null,null,null,null,{"$f":"+ROUND((G1289+H1289+I1289),2)","v":0}]
[null,{"$f":"+C1289+1","v":1},{"$f":"IF(F1283=0,0,VLOOKUP(F1284,Fasce!A:C,3,FALSE))","v":0},{"$f":"+E1289","v":0},{"$f":"+ROUND(C1290/365*F1280,0)","v":0},{"$f":"+IF(F1283>=E1290,E1290-E1289,IF(F1283>=E1289,F1283-E1289,IF(F1283<E1289,0)))","v":0},{"$f":"+Tariffe!$A$4*F1290","v":0},{"$f":"+Tariffe!$B$3*F1290*$F$6","v":0},{"$f":"+Tariffe!$C$3*F1290*$F$7","v":0},null,null,null,null,null,null,0]
[null,1,{"$f":"IF(F1283=0,0,VLOOKUP(F1284,Fasce!A:D,4,FALSE))","v":0},0,{"$f":"+ROUND(C1291/365*F1280,0)","v":0},{"$f":"+IF(F1283>=E1291,E1291-E1290,IF(F1283>=E1290,F1283-E1290,IF(F1283<E1290,0)))","v":0},{"$f":"+Tariffe!$A$5*F1291","v":0},{"$f":"+Tariffe!$B$3*F1291*$F$6","v":0},{"$f":"+Tariffe!$C$3*F1291*$F$7","v":0},null,null,null,null,null,null,0]
[null,1,{"$f":"IF(F1283=0,0,VLOOKUP(F1284,Fasce!A:E,5,FALSE))","v":0},0,{"$f":"+ROUND(C1292/365*F1280,0)","v":0},{"$f":"+IF(F1283>=E1292,E1292-E1291,IF(F1283>=E1291,F1283-E1291,IF(F1283<E1291,0)))","v":0},{"$f":"+Tariffe!$A$6*F1292","v":0},{"$f":"+Tariffe!$B$3*F1292*$F$6","v":0},{"$f":"+Tariffe!$C$3*F1292*$F$7","v":0},null,null,null,null,null,null,0]
[null,1,999999,0,999999,{"$f":"+IF(F1283>=E1293,E1293-E1292,IF(F1283>=E1292,F1283-E1292,IF(F1283<E1292,0,F1283-E1292)))","v":0},{"$f":"+Tariffe!$A$7*F1293","v":0},{"$f":"+Tariffe!$B$3*F1293*$F$6","v":0},{"$f":"+Tariffe!$C$3*F1293*$F$7","v":0},null,null,null,null,null,null,0]
[null,null,null,null,null,null,null,null,null,{"$f":"+IF(A1276>'Tabella ripartizione'!$L$3,0,Tariffe!$E$3*F1280/365)","v":0},{"$f":"+IF(A1276>'Tabella ripartizione'!$L$3,0,Tariffe!$F$3*F1280/365*F1281)","v":0},{"$f":"+IF(A1276>'Tabella ripartizione'!$L$3,0,Tariffe!$G$3*F1280/365*F1282)","v":0},null,null,null,{"$f":"+ROUND(J1294+K1294+L1294,2)","v":0}]
[null,null,null,null,null,null,null,null,null,null,null,null,{"$f":"+(Tariffe!$I$3+Tariffe!$J$3+Tariffe!$K$3+Tariffe!$L$3+Tariffe!$M$3)*F1283","v":0},{"$f":"+(Tariffe!$I$3+Tariffe!$J$3+Tariffe!$K$3+Tariffe!$L$3+Tariffe!$M$3)*F1283*F1281","v":0},{"$f":"+(Tariffe!$I$3+Tariffe!$J$3+Tariffe!$K$3+Tariffe!$L$3+Tariffe!$M$3)*F1283*F1282","v":0},{"$f":"+ROUND(M1295+N1295+O1295,2)","v":0}]
[null,null,null,null,null,null,null,null,null,null,null,null,null,null,null,{"$f":"SUM(P1289:P1295)","v":0},"Imponibile"]
[null,null,null,null,null,null,null,null,null,null,null,null,null,null,null,{"$f":"+ROUND(P1296*0.1,2)","v":0},"IVA (10%)"]
[null,null,null,null,null,null,null,null,null,null,null,null,null,null,null,{"$f":"+P1297+P1296","v":0},"Totale corrispettivi"]
[]
[]
[{"$f":"+A1276+1","v":53},null,null,null,null,null,"Impoto"]
[{"$f":"CONCATENATE(\"Unità domestica residente #\",A1301)","v":"Unità domestica residente #53"},null,null,null,null,null,{"$f":"+P1323","v":0}]
["Data inizio periodo consumo",null,null,null,null,{"$f":"+'Tabella ripartizione'!$C$3","v":"00:00:00"}]
["Data fine periodo consumo",null,null,null,null,{"$f":"+'Tabella ripartizione'!$C$4","v":"00:00:00"}]
["Giorni di consumo",null,null,null,null,{"$f":"+F1304-F1303+1","v":1}]
["Fognatura",null,null,null,null,{"$f":"+'Tabella ripartizione'!$C$6","v":1},"(0 = esente, 1=assoggettato)"]
["Depurazione",null,null,null,null,{"$f":"+'Tabella ripartizione'!$C$7","v":1},"(0 = esente, 1=assoggettato)"]
["Consumo misurato",null,null,null,null,{"$f":"SUMIF('Tabella ripartizione'!$B:$B,A1302,'Tabella ripartizione'!$C:$C)","v":0}]
["Numero di componenti nucleo familiare",null,null,null,null,{"$f":"SUMIF('Tabella ripartizione'!$B:$B,A1302,'Tabella ripartizione'!$D:$D)","v":0}]
[]
["Tariffe TICSI 2022"]
["Domestico Residente","Fasce anno (m3)",null,"Fasce pro-die (m3)",null,"mc riarticolati","Importi servizio",null,null,"Importi Quota fissa",null,null,"Importi perequazione"]
[null,"da","a","da","a",{"$f":"+F1318+F1317+F1316+F1315+F1314","v":0},"Acqua","Fogna","Depurazione","Acqua","Fogna","Depurazione","Acqua","Fogna","Depurazione","Totali"]
[null,0,{"$f":"IF(F1308=0,0,VLOOKUP(F1309,Fasce!A:B,2,FALSE))","v":0},0,{"$f":"+ROUND(C1314/365*F1305,0)","v":0},{"$f":"+IF(F1308>=E1314,E1314,F1308)","v":0},{"$f":"+Tariffe!$A$3*F1314","v":0},{"$f":"+Tariffe!$B$3*F1314*$F$6","v":0},{"$f":"+Tariffe!$C$3*F1314*$F$7","v":0},null,null,null,null,null,null,{"$f":"+ROUND((G1314+H1314+I1314),2)","v":0}]
[null,{"$f":"+C1314+1","v":1},{"$f":"IF(F1308=0,0,VLOOKUP(F1309,Fasce!A:C,3,FALSE))","v":0},{"$f":"+E1314","v":0},{"$f":"+ROUND(C1315/365*F1305,0)","v":0},{"$f":"+IF(F1308>=E1315,E1315-E1314,IF(F1308>=E1314,F1308-E1314,IF(F1308<E1314,0)))","v":0},{"$f":"+Tariffe!$A$4*F1315","v":0},{"$f":"+Tariffe!$B$3*F1315*$F$6","v":0},{"$f":"+Tariffe!$C$3*F1315*$F$7","v":0},null,null,null,null,null,null,0]
[null,1,{"$f":"IF(F1308=0,0,VLOOKUP(F1309,Fasce!A:D,4,FALSE))","v":0},0,{"$f":"+ROUND(C1316/365*F1305,0)","v":0},{"$f":"+IF(F1308>=E1316,E1316-E1315,IF(F1308>=E1315,F1308-E1315,IF(F1308<E1315,0)))","v":0},{"$f":"+Tariffe!$A$5*F1316","v":0},{"$f":"+Tariffe!$B$3*F1316*$F$6","v":0},{"$f":"+Tariffe!$C$3*F1316*$F$7","v":0},null,null,null,null,null,null,0]
[null,1,{"$f":"IF(F1308=0,0,VLOOKUP(F1309,Fasce!A:E,5,FALSE))","v":0},0,{"$f":"+ROUND(C1317/365*F1305,0)","v":0},{"$f":"+IF(F1308>=E1317,E1317-E1316,IF(F1308>=E1316,F1308-E1316,IF(F1308<E1316,0)))","v":0},{"$f":"+Tariffe!$A$6*F1317","v":0},{"$f":"+Tariffe!$B$3*F1317*$F$6","v":0},{"$f":"+Tariffe!$C$3*F1317*$F$7","v":0},null,null,null,null,null,null,0]
[null,1,999999,0,999999,{"$f":"+IF(F1308>=E1318,E1318-E1317,IF(F1308>=E1317,F1308-E1317,IF(F1308<E1317,0,F1308-E1317)))","v":0},{"$f":"+Tariffe!$A$7*F1318","v":0},{"$f":"+Tariffe!$B$3*F1318*$F$6","v":0},{"$f":"+Tariffe!$C$3*F1318*$F$7","v":0},null,null,null,null,null,null,0]
[null,null,null,null,null,null,null,null,null,{"$f":"+IF(A1301>'Tabella ripartizione'!$L$3,0,Tariffe!$E$3*F1305/365)","v":0},{"$f":"+IF(A1301>'Tabella ripartizione'!$L$3,0,Tariffe!$F$3*F1305/365*F1306)","v":0},{"$f":"+IF(A1301>'Tabella ripartizione'!$L$3,0,Tariffe!$G$3*F1305/365*F1307)","v":0},null,null,null,{"$f":"+ROUND(J1319+K1319+L1319,2)","v":0}]
[null,null,null,null,null,null,null,null,null,null,null,null,{"$f":"+(Tariffe!$I$3+Tariffe!$J$3+Tariffe!$K$3+Tariffe!$L$3+Tariffe!$M$3)*F1308","v":0},{"$f":"+(Tariffe!$I$3+Tariffe!$J$3+Tariffe!$K$3+Tariffe!$L$3+Tariffe!$M$3)*F1308*F1306","v":0},{"$f":"+(Tariffe!$I$3+Tariffe!$J$3+Tariffe!$K$3+Tariffe!$L$3+Tariffe!$M$3)*F1308*F1307","v":0},{"$f":"+ROUND(M1320+N1320+O1320,2)","v":0}]
[null,null,null,null,null,null,null,null,null,null,null,null,null,null,null,{"$f":"SUM(P1314:P1320)","v":0},"Imponibile"]
[null,null,null,null,null,null,null,null,null,null,null,null,null,null,null,{"$f":"+ROUND(P1321*0.1,2)","v":0},"IVA (10%)"]
[null,null,null,null,null,null,null,null,null,null,null,null,null,null,null,{"$f":"+P1322+P1321","v":0},"Totale corrispettivi"]
[]
[]
[{"$f":"+A1301+1","v":54},null,null,null,null,null,"Impoto"]
[{"$f":"CONCATENATE(\"Unità domestica residente #\",A1326)","v":"Unità domestica residente #54"},null,null,null,null,null,{"$f":"+P1348","v":0}]
["Data inizio periodo consumo",null,null,null,null,{"$f":"+'Tabella ripartizione'!$C$3","v":"00:00:00"}]
["Data fine periodo consumo",null,null,null,null,{"$f":"+'Tabella ripartizione'!$C$4","v":"00:00:00"}]
["Giorni di consumo",null,null,null,null,{"$f":"+F1329-F1328+1","v":1}]
["Fognatura",null,null,null,null,{"$f":"+'Tabella ripartizione'!$C$6","v":1},"(0 = esente, 1=assoggettato)"]
["Depurazione",null,null,null,null,{"$f":"+'Tabella ripartizione'!$C$7","v":1},"(0 = esente, 1=assoggettato)"]
["Consumo misurato",null,null,null,null,{"$f":"SUMIF('Tabella ripartizione'!$B:$B,A1327,'Tabella ripartizione'!$C:$C)","v":0}]
["Numero di componenti nucleo familiare",null,null,null,null,{"$f":"SUMIF('Tabella ripartizione'!$B:$B,A1327,'Tabella ripartizione'!$D:$D)","v":0}]
[]
["Tariffe TICSI 2022"]
["Domestico Residente","Fasce anno (m3)",null,"Fasce pro-die (m3)",null,"mc riarticolati","Importi servizio",null,null,"Importi Quota fissa",null,null,"Importi perequazione"]
[null,"da","a","da","a",{"$f":"+F1343+F1342+F1341+F1340+F1339","v":0},"Acqua","Fogna","Depurazione","Acqua","Fogna","Depurazione","Acqua","Fogna","Depurazione","Totali"]
[null,0,{"$f":"IF(F1333=0,0,VLOOKUP(F1334,Fasce!A:B,2,FALSE))","v":0},0,{"$f":"+ROUND(C1339/365*F1330,0)","v":0},{"$f":"+IF(F1333>=E1339,E1339,F1333)","v":0},{"$f":"+Tariffe!$A$3*F1339","v":0},{"$f":"+Tariffe!$B$3*F1339*$F$6","v":0},{"$f":"+Tariffe!$C$3*F1339*$F$7","v":0},null,null,null,null,null,null,{"$f":"+ROUND((G1339+H1339+I1339),2)","v":0}]
[null,{"$f":"+C1339+1","v":1},{"$f":"IF(F1333=0,0,VLOOKUP(F1334,Fasce!A:C,3,FALSE))","v":0},{"$f":"+E1339","v":0},{"$f":"+ROUND(C1340/365*F1330,0)","v":0},{"$f":"+IF(F1333>=E1340,E1340-E1339,IF(F1333>=E1339,F1333-E1339,IF(F1333<E1339,0)))","v":0},{"$f":"+Tariffe!$A$4*F1340","v":0},{"$f":"+Tariffe!$B$3*F1340*$F$6","v":0},{"$f":"+Tariffe!$C$3*F1340*$F$7","v":0},null,null,null,null,null,null,0]
[null,1,{"$f":"IF(F1333=0,0,VLOOKUP(F1334,Fasce!A:D,4,FALSE))","v":0},0,{"$f":"+ROUND(C1341/365*F1330,0)","v":0},{"$f":"+IF(F1333>=E1341,E1341-E1340,IF(F1333>=E1340,F1333-E1340,IF(F1333<E1340,0)))","v":0},{"$f":"+Tariffe!$A$5*F1341","v":0},{"$f":"+Tariffe!$B$3*F1341*$F$6","v":0},{"$f":"+Tariffe!$C$3*F1341*$F$7","v":0},null,null,null,null,null,null,0]
[null,1,{"$f":"IF(F1333=0,0,VLOOKUP(F1334,Fasce!A:E,5,FALSE))","v":0},0,{"$f":"+ROUND(C1342/365*F1330,0)","v":0},{"$f":"+IF(F1333>=E1342,E1342-E1341,IF(F1333>=E1341,F1333-E1341,IF(F1333<E1341,0)))","v":0},{"$f":"+Tariffe!$A$6*F1342","v":0},{"$f":"+Tariffe!$B$3*F1342*$F$6","v":0},{"$f":"+Tariffe!$C$3*F1342*$F$7","v":0},null,null,null,null,null,null,0]
[null,1,999999,0,999999,{"$f":"+IF(F1333>=E1343,E1343-E1342,IF(F1333>=E1342,F1333-E1342,IF(F1333<E1342,0,F1333-E1342)))","v":0},{"$f":"+Tariffe!$A$7*F1343","v":0},{"$f":"+Tariffe!$B$3*F1343*$F$6","v":0},{"$f":"+Tariffe!$C$3*F1343*$F$7","v":0},null,null,null,null,null,null,0]
[null,null,null,null,null,null,null,null,null,{"$f":"+IF(A1326>'Tabella ripartizione'!$L$3,0,Tariffe!$E$3*F1330/365)","v":0},{"$f":"+IF(A1326>'Tabella ripartizione'!$L$3,0,Tariffe!$F$3*F1330/365*F1331)","v":0},{"$f":"+IF(A1326>'Tabella ripartizione'!$L$3,0,Tariffe!$G$3*F1330/365*F1332)","v":0},null,null,null,{"$f":"+ROUND(J1344+K1344+L1344,2)","v":0}]
[null,null,null,null,null,null,null,null,null,null,null,null,{"$f":"+(Tariffe!$I$3+Tariffe!$J$3+Tariffe!$K$3+Tariffe!$L$3+Tariffe!$M$3)*F1333","v":0},{"$f":"+(Tariffe!$I$3+Tariffe!$J$3+Tariffe!$K$3+Tariffe!$L$3+Tariffe!$M$3)*F1333*F1331","v":0},{"$f":"+(Tariffe!$I$3+Tariffe!$J$3+Tariffe!$K$3+Tariffe!$L$3+Tariffe!$M$3)*F1333*F1332","v":0},{"$f":"+ROUND(M1345+N1345+O1345,2)","v":0}]
[null,null,null,null,null,null,null,null,null,null,null,null,null,null,null,{"$f":"SUM(P1339:P1345)","v":0},"Imponibile"]
[null,null,null,null,null,null,null,null,null,null,null,null,null,null,null,{"$f":"+ROUND(P1346*0.1,2)","v":0},"IVA (10%)"]
[null,null,null,null,null,null,null,null,null,null,null,null,null,null,null,{"$f":"+P1347+P1346","v":0},"Totale corrispettivi"]
[]
[]
[{"$f":"+A1326+1","v":55},null,null,null,null,null,"Impoto"]
[{"$f":"CONCATENATE(\"Unità domestica residente #\",A1351)","v":"Unità domestica residente #55"},null,null,null,null,null,{"$f":"+P1373","v":0}]
["Data inizio periodo consumo",null,null,null,null,{"$f":"+'Tabella ripartizione'!$C$3","v":"00:00:00"}]
["Data fine periodo consumo",null,null,null,null,{"$f":"+'Tabella ripartizione'!$C$4","v":"00:00:00"}]
["Giorni di consumo",null,null,null,null,{"$f":"+F1354-F1353+1","v":1}]
["Fognatura",null,null,null,null,{"$f":"+'Tabella ripartizione'!$C$6","v":1},"(0 = esente, 1=assoggettato)"]
["Depurazione",null,null,null,null,{"$f":"+'Tabella ripartizione'!$C$7","v":1},"(0 = esente, 1=assoggettato)"]
["Consumo misurato",null,null,null,null,{"$f":"SUMIF('Tabella ripartizione'!$B:$B,A1352,'Tabella ripartizione'!$C:$C)","v":0}]
["Numero di componenti nucleo familiare",null,null,null,null,{"$f":"SUMIF('Tabella ripartizione'!$B:$B,A1352,'Tabella ripartizione'!$D:$D)","v":0}]
[]
["Tariffe TICSI 2022"]
["Domestico Residente","Fasce anno (m3)",null,"Fasce pro-die (m3)",null,"mc riarticolati","Importi servizio",null,null,"Importi Quota fissa",null,null,"Importi perequazione"]
[null,"da","a","da","a",{"$f":"+F1368+F1367+F1366+F1365+F1364","v":0},"Acqua","Fogna","Depurazione","Acqua","Fogna","Depurazione","Acqua","Fogna","Depurazione","Totali"]
[null,0,{"$f":"IF(F1358=0,0,VLOOKUP(F1359,Fasce!A:B,2,FALSE))","v":0},0,{"$f":"+ROUND(C1364/365*F1355,0)","v":0},{"$f":"+IF(F1358>=E1364,E1364,F1358)","v":0},{"$f":"+Tariffe!$A$3*F1364","v":0},{"$f":"+Tariffe!$B$3*F1364*$F$6","v":0},{"$f":"+Tariffe!$C$3*F1364*$F$7","v":0},null,null,null,null,null,null,{"$f":"+ROUND((G1364+H1364+I1364),2)","v":0}]
[null,{"$f":"+C1364+1","v":1},{"$f":"IF(F1358=0,0,VLOOKUP(F1359,Fasce!A:C,3,FALSE))","v":0},{"$f":"+E1364","v":0},{"$f":"+ROUND(C1365/365*F1355,0)","v":0},{"$f":"+IF(F1358>=E1365,E1365-E1364,IF(F1358>=E1364,F1358-E1364,IF(F1358<E1364,0)))","v":0},{"$f":"+Tariffe!$A$4*F1365","v":0},{"$f":"+Tariffe!$B$3*F1365*$F$6","v":0},{"$f":"+Tariffe!$C$3*F1365*$F$7","v":0},null,null,null,null,null,null,0]
[null,1,{"$f":"IF(F1358=0,0,VLOOKUP(F1359,Fasce!A:D,4,FALSE))","v":0},0,{"$f":"+ROUND(C1366/365*F1355,0)","v":0},{"$f":"+IF(F1358>=E1366,E1366-E1365,IF(F1358>=E1365,F1358-E1365,IF(F1358<E1365,0)))","v":0},{"$f":"+Tariffe!$A$5*F1366","v":0},{"$f":"+Tariffe!$B$3*F1366*$F$6","v":0},{"$f":"+Tariffe!$C$3*F1366*$F$7","v":0},null,null,null,null,null,null,0]
[null,1,{"$f":"IF(F1358=0,0,VLOOKUP(F1359,Fasce!A:E,5,FALSE))","v":0},0,{"$f":"+ROUND(C1367/365*F1355,0)","v":0},{"$f":"+IF(F1358>=E1367,E1367-E1366,IF(F1358>=E1366,F1358-E1366,IF(F1358<E1366,0)))","v":0},{"$f":"+Tariffe!$A$6*F1367","v":0},{"$f":"+Tariffe!$B$3*F1367*$F$6","v":0},{"$f":"+Tariffe!$C$3*F1367*$F$7","v":0},null,null,null,null,null,null,0]
[null,1,999999,0,999999,{"$f":"+IF(F1358>=E1368,E1368-E1367,IF(F1358>=E1367,F1358-E1367,IF(F1358<E1367,0,F1358-E1367)))","v":0},{"$f":"+Tariffe!$A$7*F1368","v":0},{"$f":"+Tariffe!$B$3*F1368*$F$6","v":0},{"$f":"+Tariffe!$C$3*F1368*$F$7","v":0},null,null,null,null,null,null,0]
[null,null,null,null,null,null,null,null,null,{"$f":"+IF(A1351>'Tabella ripartizione'!$L$3,0,Tariffe!$E$3*F1355/365)","v":0},{"$f":"+IF(A1351>'Tabella ripartizione'!$L$3,0,Tariffe!$F$3*F1355/365*F1356)","v":0},{"$f":"+IF(A1351>'Tabella ripartizione'!$L$3,0,Tariffe!$G$3*F1355/365*F1357)","v":0},null,null,null,{"$f":"+ROUND(J1369+K1369+L1369,2)","v":0}]
[null,null,null,null,null,null,null,null,null,null,null,null,{"$f":"+(Tariffe!$I$3+Tariffe!$J$3+Tariffe!$K$3+Tariffe!$L$3+Tariffe!$M$3)*F1358","v":0},{"$f":"+(Tariffe!$I$3+Tariffe!$J$3+Tariffe!$K$3+Tariffe!$L$3+Tariffe!$M$3)*F1358*F1356","v":0},{"$f":"+(Tariffe!$I$3+Tariffe!$J$3+Tariffe!$K$3+Tariffe!$L$3+Tariffe!$M$3)*F1358*F1357","v":0},{"$f":"+ROUND(M1370+N1370+O1370,2)","v":0}]
[null,null,null,null,null,null,null,null,null,null,null,null,null,null,null,{"$f":"SUM(P1364:P1370)","v":0},"Imponibile"]
[null,null,null,null,null,null,null,null,null,null,null,null,null,null,null,{"$f":"+ROUND(P1371*0.1,2)","v":0},"IVA (10%)"]
[null,null,null,null,null,null,null,null,null,null,null,null,null,null,null,{"$f":"+P1372+P1371","v":0},"Totale corrispettivi"]
[]
[]
[{"$f":"+A1351+1","v":56},null,null,null,null,null,"Impoto"]
[{"$f":"CONCATENATE(\"Unità domestica residente #\",A1376)","v":"Unità domestica residente #56"},null,null,null,null,null,{"$f":"+P1398","v":0}]
["Data inizio periodo consumo",null,null,null,null,{"$f":"+'Tabella ripartizione'!$C$3","v":"00:00:00"}]
["Data fine periodo consumo",null,null,null,null,{"$f":"+'Tabella ripartizione'!$C$4","v":"00:00:00"}]
["Giorni di consumo",null,null,null,null,{"$f":"+F1379-F1378+1","v":1}]
["Fognatura",null,null,null,null,{"$f":"+'Tabella ripartizione'!$C$6","v":1},"(0 = esente, 1=assoggettato)"]
["Depurazione",null,null,null,null,{"$f":"+'Tabella ripartizione'!$C$7","v":1},"(0 = esente, 1=assoggettato)"]
["Consumo misurato",null,null,null,null,{"$f":"SUMIF('Tabella ripartizione'!$B:$B,A1377,'Tabella ripartizione'!$C:$C)","v":0}]
["Numero di componenti nucleo familiare",null,null,null,null,{"$f":"SUMIF('Tabella ripartizione'!$B:$B,A1377,'Tabella ripartizione'!$D:$D)","v":0}]
[]
["Tariffe TICSI 2022"]
["Domestico Residente","Fasce anno (m3)",null,"Fasce pro-die (m3)",null,"mc riarticolati","Importi servizio",null,null,"Importi Quota fissa",null,null,"Importi perequazione"]
[null,"da","a","da","a",{"$f":"+F1393+F1392+F1391+F1390+F1389","v":0},"Acqua","Fogna","Depurazione","Acqua","Fogna","Depurazione","Acqua","Fogna","Depurazione","Totali"]
[null,0,{"$f":"IF(F1383=0,0,VLOOKUP(F1384,Fasce!A:B,2,FALSE))","v":0},0,{"$f":"+ROUND(C1389/365*F1380,0)","v":0},{"$f":"+IF(F1383>=E1389,E1389,F1383)","v":0},{"$f":"+Tariffe!$A$3*F1389","v":0},{"$f":"+Tariffe!$B$3*F1389*$F$6","v":0},{"$f":"+Tariffe!$C$3*F1389*$F$7","v":0},null,null,null,null,null,null,{"$f":"+ROUND((G1389+H1389+I1389),2)","v":0}]
[null,{"$f":"+C1389+1","v":1},{"$f":"IF(F1383=0,0,VLOOKUP(F1384,Fasce!A:C,3,FALSE))","v":0},{"$f":"+E1389","v":0},{"$f":"+ROUND(C1390/365*F1380,0)","v":0},{"$f":"+IF(F1383>=E1390,E1390-E1389,IF(F1383>=E1389,F1383-E1389,IF(F1383<E1389,0)))","v":0},{"$f":"+Tariffe!$A$4*F1390","v":0},{"$f":"+Tariffe!$B$3*F1390*$F$6","v":0},{"$f":"+Tariffe!$C$3*F1390*$F$7","v":0},null,null,null,null,null,null,0]
[null,1,{"$f":"IF(F1383=0,0,VLOOKUP(F1384,Fasce!A:D,4,FALSE))","v":0},0,{"$f":"+ROUND(C1391/365*F1380,0)","v":0},{"$f":"+IF(F1383>=E1391,E1391-E1390,IF(F1383>=E1390,F1383-E1390,IF(F1383<E1390,0)))","v":0},{"$f":"+Tariffe!$A$5*F1391","v":0},{"$f":"+Tariffe!$B$3*F1391*$F$6","v":0},{"$f":"+Tariffe!$C$3*F1391*$F$7","v":0},null,null,null,null,null,null,0]
[null,1,{"$f":"IF(F1383=0,0,VLOOKUP(F1384,Fasce!A:E,5,FALSE))","v":0},0,{"$f":"+ROUND(C1392/365*F1380,0)","v":0},{"$f":"+IF(F1383>=E1392,E1392-E1391,IF(F1383>=E1391,F1383-E1391,IF(F1383<E1391,0)))","v":0},{"$f":"+Tariffe!$A$6*F1392","v":0},{"$f":"+Tariffe!$B$3*F1392*$F$6","v":0},{"$f":"+Tariffe!$C$3*F1392*$F$7","v":0},null,null,null,null,null,null,0]
[null,1,999999,0,999999,{"$f":"+IF(F1383>=E1393,E1393-E1392,IF(F1383>=E1392,F1383-E1392,IF(F1383<E1392,0,F1383-E1392)))","v":0},{"$f":"+Tariffe!$A$7*F1393","v":0},{"$f":"+Tariffe!$B$3*F1393*$F$6","v":0},{"$f":"+Tariffe!$C$3*F1393*$F$7","v":0},null,null,null,null,null,null,0]
[null,null,null,null,null,null,null,null,null,{"$f":"+IF(A1376>'Tabella ripartizione'!$L$3,0,Tariffe!$E$3*F1380/365)","v":0},{"$f":"+IF(A1376>'Tabella ripartizione'!$L$3,0,Tariffe!$F$3*F1380/365*F1381)","v":0},{"$f":"+IF(A1376>'Tabella ripartizione'!$L$3,0,Tariffe!$G$3*F1380/365*F1382)","v":0},null,null,null,{"$f":"+ROUND(J1394+K1394+L1394,2)","v":0}]
[null,null,null,null,null,null,null,null,null,null,null,null,{"$f":"+(Tariffe!$I$3+Tariffe!$J$3+Tariffe!$K$3+Tariffe!$L$3+Tariffe!$M$3)*F1383","v":0},{"$f":"+(Tariffe!$I$3+Tariffe!$J$3+Tariffe!$K$3+Tariffe!$L$3+Tariffe!$M$3)*F1383*F1381","v":0},{"$f":"+(Tariffe!$I$3+Tariffe!$J$3+Tariffe!$K$3+Tariffe!$L$3+Tariffe!$M$3)*F1383*F1382","v":0},{"$f":"+ROUND(M1395+N1395+O1395,2)","v":0}]
[null,null,null,null,null,null,null,null,null,null,null,null,null,null,null,{"$f":"SUM(P1389:P1395)","v":0},"Imponibile"]
[null,null,null,null,null,null,null,null,null,null,null,null,null,null,null,{"$f":"+ROUND(P1396*0.1,2)","v":0},"IVA (10%)"]
[null,null,null,null,null,null,null,null,null,null,null,null,null,null,null,{"$f":"+P1397+P1396","v":0},"Totale corrispettivi"]
[]
[]
[{"$f":"+A1376+1","v":57},null,null,null,null,null,"Impoto"]
[{"$f":"CONCATENATE(\"Unità domestica residente #\",A1401)","v":"Unità domestica residente #57"},null,null,null,null,null,{"$f":"+P1423","v":0}]
["Data inizio periodo consumo",null,null,null,null,{"$f":"+'Tabella ripartizione'!$C$3","v":"00:00:00"}]
["Data fine periodo consumo",null,null,null,null,{"$f":"+'Tabella ripartizione'!$C$4","v":"00:00:00"}]
["Giorni di consumo",null,null,null,null,{"$f":"+F1404-F1403+1","v":1}]
["Fognatura",null,null,null,null,{"$f":"+'Tabella ripartizione'!$C$6","v":1},"(0 = esente, 1=assoggettato)"]
["Depurazione",null,null,null,null,{"$f":"+'Tabella ripartizione'!$C$7","v":1},"(0 = esente, 1=assoggettato)"]
["Consumo misurato",null,null,null,null,{"$f":"SUMIF('Tabella ripartizione'!$B:$B,A1402,'Tabella ripartizione'!$C:$C)","v":0}]
["Numero di componenti nucleo familiare",null,null,null,null,{"$f":"SUMIF('Tabella ripartizione'!$B:$B,A1402,'Tabella ripartizione'!$D:$D)","v":0}]
[]
["Tariffe TICSI 2022"]
["Domestico Residente","Fasce anno (m3)",null,"Fasce pro-die (m3)",null,"mc riarticolati","Importi servizio",null,null,"Importi Quota fissa",null,null,"Importi perequazione"]
[null,"da","a","da","a",{"$f":"+F1418+F1417+F1416+F1415+F1414","v":0},"Acqua","Fogna","Depurazione","Acqua","Fogna","Depurazione","Acqua","Fogna","Depurazione","Totali"]
[null,0,{"$f":"IF(F1408=0,0,VLOOKUP(F1409,Fasce!A:B,2,FALSE))","v":0},0,{"$f":"+ROUND(C1414/365*F1405,0)","v":0},{"$f":"+IF(F1408>=E1414,E1414,F1408)","v":0},{"$f":"+Tariffe!$A$3*F1414","v":0},{"$f":"+Tariffe!$B$3*F1414*$F$6","v":0},{"$f":"+Tariffe!$C$3*F1414*$F$7","v":0},null,null,null,null,null,null,{"$f":"+ROUND((G1414+H1414+I1414),2)","v":0}]
[null,{"$f":"+C1414+1","v":1},{"$f":"IF(F1408=0,0,VLOOKUP(F1409,Fasce!A:C,3,FALSE))","v":0},{"$f":"+E1414","v":0},{"$f":"+ROUND(C1415/365*F1405,0)","v":0},{"$f":"+IF(F1408>=E1415,E1415-E1414,IF(F1408>=E1414,F1408-E1414,IF(F1408<E1414,0)))","v":0},{"$f":"+Tariffe!$A$4*F1415","v":0},{"$f":"+Tariffe!$B$3*F1415*$F$6","v":0},{"$f":"+Tariffe!$C$3*F1415*$F$7","v":0},null,null,null,null,null,null,0]
[null,1,{"$f":"IF(F1408=0,0,VLOOKUP(F1409,Fasce!A:D,4,FALSE))","v":0},0,{"$f":"+ROUND(C1416/365*F1405,0)","v":0},{"$f":"+IF(F1408>=E1416,E1416-E1415,IF(F1408>=E1415,F1408-E1415,IF(F1408<E1415,0)))","v":0},{"$f":"+Tariffe!$A$5*F1416","v":0},{"$f":"+Tariffe!$B$3*F1416*$F$6","v":0},{"$f":"+Tariffe!$C$3*F1416*$F$7","v":0},null,null,null,null,null,null,0]
[null,1,{"$f":"IF(F1408=0,0,VLOOKUP(F1409,Fasce!A:E,5,FALSE))","v":0},0,{"$f":"+ROUND(C1417/365*F1405,0)","v":0},{"$f":"+IF(F1408>=E1417,E1417-E1416,IF(F1408>=E1416,F1408-E1416,IF(F1408<E1416,0)))","v":0},{"$f":"+Tariffe!$A$6*F1417","v":0},{"$f":"+Tariffe!$B$3*F1417*$F$6","v":0},{"$f":"+Tariffe!$C$3*F1417*$F$7","v":0},null,null,null,null,null,null,0]
[null,1,999999,0,999999,{"$f":"+IF(F1408>=E1418,E1418-E1417,IF(F1408>=E1417,F1408-E1417,IF(F1408<E1417,0,F1408-E1417)))","v":0},{"$f":"+Tariffe!$A$7*F1418","v":0},{"$f":"+Tariffe!$B$3*F1418*$F$6","v":0},{"$f":"+Tariffe!$C$3*F1418*$F$7","v":0},null,null,null,null,null,null,0]
[null,null,null,null,null,null,null,null,null,{"$f":"+IF(A1401>'Tabella ripartizione'!$L$3,0,Tariffe!$E$3*F1405/365)","v":0},{"$f":"+IF(A1401>'Tabella ripartizione'!$L$3,0,Tariffe!$F$3*F1405/365*F1406)","v":0},{"$f":"+IF(A1401>'Tabella ripartizione'!$L$3,0,Tariffe!$G$3*F1405/365*F1407)","v":0},null,null,null,{"$f":"+ROUND(J1419+K1419+L1419,2)","v":0}]
[null,null,null,null,null,null,null,null,null,null,null,null,{"$f":"+(Tariffe!$I$3+Tariffe!$J$3+Tariffe!$K$3+Tariffe!$L$3+Tariffe!$M$3)*F1408","v":0},{"$f":"+(Tariffe!$I$3+Tariffe!$J$3+Tariffe!$K$3+Tariffe!$L$3+Tariffe!$M$3)*F1408*F1406","v":0},{"$f":"+(Tariffe!$I$3+Tariffe!$J$3+Tariffe!$K$3+Tariffe!$L$3+Tariffe!$M$3)*F1408*F1407","v":0},{"$f":"+ROUND(M1420+N1420+O1420,2)","v":0}]
[null,null,null,null,null,null,null,null,null,null,null,null,null,null,null,{"$f":"SUM(P1414:P1420)","v":0},"Imponibile"]
[null,null,null,null,null,null,null,null,null,null,null,null,null,null,null,{"$f":"+ROUND(P1421*0.1,2)","v":0},"IVA (10%)"]
[null,null,null,null,null,null,null,null,null,null,null,null,null,null,null,{"$f":"+P1422+P1421","v":0},"Totale corrispettivi"]
[]
[]
[{"$f":"+A1401+1","v":58},null,null,null,null,null,"Impoto"]
[{"$f":"CONCATENATE(\"Unità domestica residente #\",A1426)","v":"Unità domestica residente #58"},null,null,null,null,null,{"$f":"+P1448","v":0}]
["Data inizio periodo consumo",null,null,null,null,{"$f":"+'Tabella ripartizione'!$C$3","v":"00:00:00"}]
["Data fine periodo consumo",null,null,null,null,{"$f":"+'Tabella ripartizione'!$C$4","v":"00:00:00"}]
["Giorni di consumo",null,null,null,null,{"$f":"+F1429-F1428+1","v":1}]
["Fognatura",null,null,null,null,{"$f":"+'Tabella ripartizione'!$C$6","v":1},"(0 = esente, 1=assoggettato)"]
["Depurazione",null,null,null,null,{"$f":"+'Tabella ripartizione'!$C$7","v":1},"(0 = esente, 1=assoggettato)"]
["Consumo misurato",null,null,null,null,{"$f":"SUMIF('Tabella ripartizione'!$B:$B,A1427,'Tabella ripartizione'!$C:$C)","v":0}]
["Numero di componenti nucleo familiare",null,null,null,null,{"$f":"SUMIF('Tabella ripartizione'!$B:$B,A1427,'Tabella ripartizione'!$D:$D)","v":0}]
[]
["Tariffe TICSI 2022"]
["Domestico Residente","Fasce anno (m3)",null,"Fasce pro-die (m3)",null,"mc riarticolati","Importi servizio",null,null,"Importi Quota fissa",null,null,"Importi perequazione"]
[null,"da","a","da","a",{"$f":"+F1443+F1442+F1441+F1440+F1439","v":0},"Acqua","Fogna","Depurazione","Acqua","Fogna","Depurazione","Acqua","Fogna","Depurazione","Totali"]
[null,0,{"$f":"IF(F1433=0,0,VLOOKUP(F1434,Fasce!A:B,2,FALSE))","v":0},0,{"$f":"+ROUND(C1439/365*F1430,0)","v":0},{"$f":"+IF(F1433>=E1439,E1439,F1433)","v":0},{"$f":"+Tariffe!$A$3*F1439","v":0},{"$f":"+Tariffe!$B$3*F1439*$F$6","v":0},{"$f":"+Tariffe!$C$3*F1439*$F$7","v":0},null,null,null,null,null,null,{"$f":"+ROUND((G1439+H1439+I1439),2)","v":0}]
[null,{"$f":"+C1439+1","v":1},{"$f":"IF(F1433=0,0,VLOOKUP(F1434,Fasce!A:C,3,FALSE))","v":0},{"$f":"+E1439","v":0},{"$f":"+ROUND(C1440/365*F1430,0)","v":0},{"$f":"+IF(F1433>=E1440,E1440-E1439,IF(F1433>=E1439,F1433-E1439,IF(F1433<E1439,0)))","v":0},{"$f":"+Tariffe!$A$4*F1440","v":0},{"$f":"+Tariffe!$B$3*F1440*$F$6","v":0},{"$f":"+Tariffe!$C$3*F1440*$F$7","v":0},null,null,null,null,null,null,0]
[null,1,{"$f":"IF(F1433=0,0,VLOOKUP(F1434,Fasce!A:D,4,FALSE))","v":0},0,{"$f":"+ROUND(C1441/365*F1430,0)","v":0},{"$f":"+IF(F1433>=E1441,E1441-E1440,IF(F1433>=E1440,F1433-E1440,IF(F1433<E1440,0)))","v":0},{"$f":"+Tariffe!$A$5*F1441","v":0},{"$f":"+Tariffe!$B$3*F1441*$F$6","v":0},{"$f":"+Tariffe!$C$3*F1441*$F$7","v":0},null,null,null,null,null,null,0]
[null,1,{"$f":"IF(F1433=0,0,VLOOKUP(F1434,Fasce!A:E,5,FALSE))","v":0},0,{"$f":"+ROUND(C1442/365*F1430,0)","v":0},{"$f":"+IF(F1433>=E1442,E1442-E1441,IF(F1433>=E1441,F1433-E1441,IF(F1433<E1441,0)))","v":0},{"$f":"+Tariffe!$A$6*F1442","v":0},{"$f":"+Tariffe!$B$3*F1442*$F$6","v":0},{"$f":"+Tariffe!$C$3*F1442*$F$7","v":0},null,null,null,null,null,null,0]
[null,1,999999,0,999999,{"$f":"+IF(F1433>=E1443,E1443-E1442,IF(F1433>=E1442,F1433-E1442,IF(F1433<E1442,0,F1433-E1442)))","v":0},{"$f":"+Tariffe!$A$7*F1443","v":0},{"$f":"+Tariffe!$B$3*F1443*$F$6","v":0},{"$f":"+Tariffe!$C$3*F1443*$F$7","v":0},null,null,null,null,null,null,0]
[null,null,null,null,null,null,null,null,null,{"$f":"+IF(A1426>'Tabella ripartizione'!$L$3,0,Tariffe!$E$3*F1430/365)","v":0},{"$f":"+IF(A1426>'Tabella ripartizione'!$L$3,0,Tariffe!$F$3*F1430/365*F1431)","v":0},{"$f":"+IF(A1426>'Tabella ripartizione'!$L$3,0,Tariffe!$G$3*F1430/365*F1432)","v":0},null,null,null,{"$f":"+ROUND(J1444+K1444+L1444,2)","v":0}]
[null,null,null,null,null,null,null,null,null,null,null,null,{"$f":"+(Tariffe!$I$3+Tariffe!$J$3+Tariffe!$K$3+Tariffe!$L$3+Tariffe!$M$3)*F1433","v":0},{"$f":"+(Tariffe!$I$3+Tariffe!$J$3+Tariffe!$K$3+Tariffe!$L$3+Tariffe!$M$3)*F1433*F1431","v":0},{"$f":"+(Tariffe!$I$3+Tariffe!$J$3+Tariffe!$K$3+Tariffe!$L$3+Tariffe!$M$3)*F1433*F1432","v":0},{"$f":"+ROUND(M1445+N1445+O1445,2)","v":0}]
[null,null,null,null,null,null,null,null,null,null,null,null,null,null,null,{"$f":"SUM(P1439:P1445)","v":0},"Imponibile"]
[null,null,null,null,null,null,null,null,null,null,null,null,null,null,null,{"$f":"+ROUND(P1446*0.1,2)","v":0},"IVA (10%)"]
[null,null,null,null,null,null,null,null,null,null,null,null,null,null,null,{"$f":"+P1447+P1446","v":0},"Totale corrispettivi"]
[]
[]
[{"$f":"+A1426+1","v":59},null,null,null,null,null,"Impoto"]
[{"$f":"CONCATENATE(\"Unità domestica residente #\",A1451)","v":"Unità domestica residente #59"},null,null,null,null,null,{"$f":"+P1473","v":0}]
["Data inizio periodo consumo",null,null,null,null,{"$f":"+'Tabella ripartizione'!$C$3","v":"00:00:00"}]
["Data fine periodo consumo",null,null,null,null,{"$f":"+'Tabella ripartizione'!$C$4","v":"00:00:00"}]
["Giorni di consumo",null,null,null,null,{"$f":"+F1454-F1453+1","v":1}]
["Fognatura",null,null,null,null,{"$f":"+'Tabella ripartizione'!$C$6","v":1},"(0 = esente, 1=assoggettato)"]
["Depurazione",null,null,null,null,{"$f":"+'Tabella ripartizione'!$C$7","v":1},"(0 = esente, 1=assoggettato)"]
["Consumo misurato",null,null,null,null,{"$f":"SUMIF('Tabella ripartizione'!$B:$B,A1452,'Tabella ripartizione'!$C:$C)","v":0}]
["Numero di componenti nucleo familiare",null,null,null,null,{"$f":"SUMIF('Tabella ripartizione'!$B:$B,A1452,'Tabella ripartizione'!$D:$D)","v":0}]
[]
["Tariffe TICSI 2022"]
["Domestico Residente","Fasce anno (m3)",null,"Fasce pro-die (m3)",null,"mc riarticolati","Importi servizio",null,null,"Importi Quota fissa",null,null,"Importi perequazione"]
[null,"da","a","da","a",{"$f":"+F1468+F1467+F1466+F1465+F1464","v":0},"Acqua","Fogna","Depurazione","Acqua","Fogna","Depurazione","Acqua","Fogna","Depurazione","Totali"]
[null,0,{"$f":"IF(F1458=0,0,VLOOKUP(F1459,Fasce!A:B,2,FALSE))","v":0},0,{"$f":"+ROUND(C1464/365*F1455,0)","v":0},{"$f":"+IF(F1458>=E1464,E1464,F1458)","v":0},{"$f":"+Tariffe!$A$3*F1464","v":0},{"$f":"+Tariffe!$B$3*F1464*$F$6","v":0},{"$f":"+Tariffe!$C$3*F1464*$F$7","v":0},null,null,null,null,null,null,{"$f":"+ROUND((G1464+H1464+I1464),2)","v":0}]
[null,{"$f":"+C1464+1","v":1},{"$f":"IF(F1458=0,0,VLOOKUP(F1459,Fasce!A:C,3,FALSE))","v":0},{"$f":"+E1464","v":0},{"$f":"+ROUND(C1465/365*F1455,0)","v":0},{"$f":"+IF(F1458>=E1465,E1465-E1464,IF(F1458>=E1464,F1458-E1464,IF(F1458<E1464,0)))","v":0},{"$f":"+Tariffe!$A$4*F1465","v":0},{"$f":"+Tariffe!$B$3*F1465*$F$6","v":0},{"$f":"+Tariffe!$C$3*F1465*$F$7","v":0},null,null,null,null,null,null,0]
[null,1,{"$f":"IF(F1458=0,0,VLOOKUP(F1459,Fasce!A:D,4,FALSE))","v":0},0,{"$f":"+ROUND(C1466/365*F1455,0)","v":0},{"$f":"+IF(F1458>=E1466,E1466-E1465,IF(F1458>=E1465,F1458-E1465,IF(F1458<E1465,0)))","v":0},{"$f":"+Tariffe!$A$5*F1466","v":0},{"$f":"+Tariffe!$B$3*F1466*$F$6","v":0},{"$f":"+Tariffe!$C$3*F1466*$F$7","v":0},null,null,null,null,null,null,0]
[null,1,{"$f":"IF(F1458=0,0,VLOOKUP(F1459,Fasce!A:E,5,FALSE))","v":0},0,{"$f":"+ROUND(C1467/365*F1455,0)","v":0},{"$f":"+IF(F1458>=E1467,E1467-E1466,IF(F1458>=E1466,F1458-E1466,IF(F1458<E1466,0)))","v":0},{"$f":"+Tariffe!$A$6*F1467","v":0},{"$f":"+Tariffe!$B$3*F1467*$F$6","v":0},{"$f":"+Tariffe!$C$3*F1467*$F$7","v":0},null,null,null,null,null,null,0]
[null,1,999999,0,999999,{"$f":"+IF(F1458>=E1468,E1468-E1467,IF(F1458>=E1467,F1458-E1467,IF(F1458<E1467,0,F1458-E1467)))","v":0},{"$f":"+Tariffe!$A$7*F1468","v":0},{"$f":"+Tariffe!$B$3*F1468*$F$6","v":0},{"$f":"+Tariffe!$C$3*F1468*$F$7","v":0},null,null,null,null,null,null,0]
[null,null,null,null,null,null,null,null,null,{"$f":"+IF(A1451>'Tabella ripartizione'!$L$3,0,Tariffe!$E$3*F1455/365)","v":0},{"$f":"+IF(A1451>'Tabella ripartizione'!$L$3,0,Tariffe!$F$3*F1455/365*F1456)","v":0},{"$f":"+IF(A1451>'Tabella ripartizione'!$L$3,0,Tariffe!$G$3*F1455/365*F1457)","v":0},null,null,null,{"$f":"+ROUND(J1469+K1469+L1469,2)","v":0}]
[null,null,null,null,null,null,null,null,null,null,null,null,{"$f":"+(Tariffe!$I$3+Tariffe!$J$3+Tariffe!$K$3+Tariffe!$L$3+Tariffe!$M$3)*F1458","v":0},{"$f":"+(Tariffe!$I$3+Tariffe!$J$3+Tariffe!$K$3+Tariffe!$L$3+Tariffe!$M$3)*F1458*F1456","v":0},{"$f":"+(Tariffe!$I$3+Tariffe!$J$3+Tariffe!$K$3+Tariffe!$L$3+Tariffe!$M$3)*F1458*F1457","v":0},{"$f":"+ROUND(M1470+N1470+O1470,2)","v":0}]
[null,null,null,null,null,null,null,null,null,null,null,null,null,null,null,{"$f":"SUM(P1464:P1470)","v":0},"Imponibile"]
[null,null,null,null,null,null,null,null,null,null,null,null,null,null,null,{"$f":"+ROUND(P1471*0.1,2)","v":0},"IVA (10%)"]
[null,null,null,null,null,null,null,null,null,null,null,null,null,null,null,{"$f":"+P1472+P1471","v":0},"Totale corrispettivi"]
[]
[]
[{"$f":"+A1451+1","v":60},null,null,null,null,null,"Impoto"]
[{"$f":"CONCATENATE(\"Unità domestica residente #\",A1476)","v":"Unità domestica residente #60"},null,null,null,null,null,{"$f":"+P1498","v":0}]
["Data inizio periodo consumo",null,null,null,null,{"$f":"+'Tabella ripartizione'!$C$3","v":"00:00:00"}]
["Data fine periodo consumo",null,null,null,null,{"$f":"+'Tabella ripartizione'!$C$4","v":"00:00:00"}]
["Giorni di consumo",null,null,null,null,{"$f":"+F1479-F1478+1","v":1}]
["Fognatura",null,null,null,null,{"$f":"+'Tabella ripartizione'!$C$6","v":1},"(0 = esente, 1=assoggettato)"]
["Depurazione",null,null,null,null,{"$f":"+'Tabella ripartizione'!$C$7","v":1},"(0 = esente, 1=assoggettato)"]
["Consumo misurato",null,null,null,null,{"$f":"SUMIF('Tabella ripartizione'!$B:$B,A1477,'Tabella ripartizione'!$C:$C)","v":0}]
["Numero di componenti nucleo familiare",null,null,null,null,{"$f":"SUMIF('Tabella ripartizione'!$B:$B,A1477,'Tabella ripartizione'!$D:$D)","v":0}]
[]
["Tariffe TICSI 2022"]
["Domestico Residente","Fasce anno (m3)",null,"Fasce pro-die (m3)",null,"mc riarticolati","Importi servizio",null,null,"Importi Quota fissa",null,null,"Importi perequazione"]
[null,"da","a","da","a",{"$f":"+F1493+F1492+F1491+F1490+F1489","v":0},"Acqua","Fogna","Depurazione","Acqua","Fogna","Depurazione","Acqua","Fogna","Depurazione","Totali"]
[null,0,{"$f":"IF(F1483=0,0,VLOOKUP(F1484,Fasce!A:B,2,FALSE))","v":0},0,{"$f":"+ROUND(C1489/365*F1480,0)","v":0},{"$f":"+IF(F1483>=E1489,E1489,F1483)","v":0},{"$f":"+Tariffe!$A$3*F1489","v":0},{"$f":"+Tariffe!$B$3*F1489*$F$6","v":0},{"$f":"+Tariffe!$C$3*F1489*$F$7","v":0},null,null,null,null,null,null,{"$f":"+ROUND((G1489+H1489+I1489),2)","v":0}]
[null,{"$f":"+C1489+1","v":1},{"$f":"IF(F1483=0,0,VLOOKUP(F1484,Fasce!A:C,3,FALSE))","v":0},{"$f":"+E1489","v":0},{"$f":"+ROUND(C1490/365*F1480,0)","v":0},{"$f":"+IF(F1483>=E1490,E1490-E1489,IF(F1483>=E1489,F1483-E1489,IF(F1483<E1489,0)))","v":0},{"$f":"+Tariffe!$A$4*F1490","v":0},{"$f":"+Tariffe!$B$3*F1490*$F$6","v":0},{"$f":"+Tariffe!$C$3*F1490*$F$7","v":0},null,null,null,null,null,null,0]
[null,1,{"$f":"IF(F1483=0,0,VLOOKUP(F1484,Fasce!A:D,4,FALSE))","v":0},0,{"$f":"+ROUND(C1491/365*F1480,0)","v":0},{"$f":"+IF(F1483>=E1491,E1491-E1490,IF(F1483>=E1490,F1483-E1490,IF(F1483<E1490,0)))","v":0},{"$f":"+Tariffe!$A$5*F1491","v":0},{"$f":"+Tariffe!$B$3*F1491*$F$6","v":0},{"$f":"+Tariffe!$C$3*F1491*$F$7","v":0},null,null,null,null,null,null,0]
[null,1,{"$f":"IF(F1483=0,0,VLOOKUP(F1484,Fasce!A:E,5,FALSE))","v":0},0,{"$f":"+ROUND(C1492/365*F1480,0)","v":0},{"$f":"+IF(F1483>=E1492,E1492-E1491,IF(F1483>=E1491,F1483-E1491,IF(F1483<E1491,0)))","v":0},{"$f":"+Tariffe!$A$6*F1492","v":0},{"$f":"+Tariffe!$B$3*F1492*$F$6","v":0},{"$f":"+Tariffe!$C$3*F1492*$F$7","v":0},null,null,null,null,null,null,0]
[null,1,999999,0,999999,{"$f":"+IF(F1483>=E1493,E1493-E1492,IF(F1483>=E1492,F1483-E1492,IF(F1483<E1492,0,F1483-E1492)))","v":0},{"$f":"+Tariffe!$A$7*F1493","v":0},{"$f":"+Tariffe!$B$3*F1493*$F$6","v":0},{"$f":"+Tariffe!$C$3*F1493*$F$7","v":0},null,null,null,null,null,null,0]
[null,null,null,null,null,null,null,null,null,{"$f":"+IF(A1476>'Tabella ripartizione'!$L$3,0,Tariffe!$E$3*F1480/365)","v":0},{"$f":"+IF(A1476>'Tabella ripartizione'!$L$3,0,Tariffe!$F$3*F1480/365*F1481)","v":0},{"$f":"+IF(A1476>'Tabella ripartizione'!$L$3,0,Tariffe!$G$3*F1480/365*F1482)","v":0},null,null,null,{"$f":"+ROUND(J1494+K1494+L1494,2)","v":0}]
[null,null,null,null,null,null,null,null,null,null,null,null,{"$f":"+(Tariffe!$I$3+Tariffe!$J$3+Tariffe!$K$3+Tariffe!$L$3+Tariffe!$M$3)*F1483","v":0},{"$f":"+(Tariffe!$I$3+Tariffe!$J$3+Tariffe!$K$3+Tariffe!$L$3+Tariffe!$M$3)*F1483*F1481","v":0},{"$f":"+(Tariffe!$I$3+Tariffe!$J$3+Tariffe!$K$3+Tariffe!$L$3+Tariffe!$M$3)*F1483*F1482","v":0},{"$f":"+ROUND(M1495+N1495+O1495,2)","v":0}]
[null,null,null,null,null,null,null,null,null,null,null,null,null,null,null,{"$f":"SUM(P1489:P1495)","v":0},"Imponibile"]
[null,null,null,null,null,null,null,null,null,null,null,null,null,null,null,{"$f":"+ROUND(P1496*0.1,2)","v":0},"IVA (10%)"]
[null,null,null,null,null,null,null,null,null,null,null,null,null,null,null,{"$f":"+P1497+P1496","v":0},"Totale corrispettivi"]
[]
[]
[{"$f":"+A1476+1","v":61},null,null,null,null,null,"Impoto"]
[{"$f":"CONCATENATE(\"Unità domestica residente #\",A1501)","v":"Unità domestica residente #61"},null,null,null,null,null,{"$f":"+P1523","v":0}]
["Data inizio periodo consumo",null,null,null,null,{"$f":"+'Tabella ripartizione'!$C$3","v":"00:00:00"}]
["Data fine periodo consumo",null,null,null,null,{"$f":"+'Tabella ripartizione'!$C$4","v":"00:00:00"}]
["Giorni di consumo",null,null,null,null,{"$f":"+F1504-F1503+1","v":1}]
["Fognatura",null,null,null,null,{"$f":"+'Tabella ripartizione'!$C$6","v":1},"(0 = esente, 1=assoggettato)"]
["Depurazione",null,null,null,null,{"$f":"+'Tabella ripartizione'!$C$7","v":1},"(0 = esente, 1=assoggettato)"]
["Consumo misurato",null,null,null,null,{"$f":"SUMIF('Tabella ripartizione'!$B:$B,A1502,'Tabella ripartizione'!$C:$C)","v":0}]
["Numero di componenti nucleo familiare",null,null,null,null,{"$f":"SUMIF('Tabella ripartizione'!$B:$B,A1502,'Tabella ripartizione'!$D:$D)","v":0}]
[]
["Tariffe TICSI 2022"]
["Domestico Residente","Fasce anno (m3)",null,"Fasce pro-die (m3)",null,"mc riarticolati","Importi servizio",null,null,"Importi Quota fissa",null,null,"Importi perequazione"]
[null,"da","a","da","a",{"$f":"+F1518+F1517+F1516+F1515+F1514","v":0},"Acqua","Fogna","Depurazione","Acqua","Fogna","Depurazione","Acqua","Fogna","Depurazione","Totali"]
[null,0,{"$f":"IF(F1508=0,0,VLOOKUP(F1509,Fasce!A:B,2,FALSE))","v":0},0,{"$f":"+ROUND(C1514/365*F1505,0)","v":0},{"$f":"+IF(F1508>=E1514,E1514,F1508)","v":0},{"$f":"+Tariffe!$A$3*F1514","v":0},{"$f":"+Tariffe!$B$3*F1514*$F$6","v":0},{"$f":"+Tariffe!$C$3*F1514*$F$7","v":0},null,null,null,null,null,null,{"$f":"+ROUND((G1514+H1514+I1514),2)","v":0}]
[null,{"$f":"+C1514+1","v":1},{"$f":"IF(F1508=0,0,VLOOKUP(F1509,Fasce!A:C,3,FALSE))","v":0},{"$f":"+E1514","v":0},{"$f":"+ROUND(C1515/365*F1505,0)","v":0},{"$f":"+IF(F1508>=E1515,E1515-E1514,IF(F1508>=E1514,F1508-E1514,IF(F1508<E1514,0)))","v":0},{"$f":"+Tariffe!$A$4*F1515","v":0},{"$f":"+Tariffe!$B$3*F1515*$F$6","v":0},{"$f":"+Tariffe!$C$3*F1515*$F$7","v":0},null,null,null,null,null,null,0]
[null,1,{"$f":"IF(F1508=0,0,VLOOKUP(F1509,Fasce!A:D,4,FALSE))","v":0},0,{"$f":"+ROUND(C1516/365*F1505,0)","v":0},{"$f":"+IF(F1508>=E1516,E1516-E1515,IF(F1508>=E1515,F1508-E1515,IF(F1508<E1515,0)))","v":0},{"$f":"+Tariffe!$A$5*F1516","v":0},{"$f":"+Tariffe!$B$3*F1516*$F$6","v":0},{"$f":"+Tariffe!$C$3*F1516*$F$7","v":0},null,null,null,null,null,null,0]
[null,1,{"$f":"IF(F1508=0,0,VLOOKUP(F1509,Fasce!A:E,5,FALSE))","v":0},0,{"$f":"+ROUND(C1517/365*F1505,0)","v":0},{"$f":"+IF(F1508>=E1517,E1517-E1516,IF(F1508>=E1516,F1508-E1516,IF(F1508<E1516,0)))","v":0},{"$f":"+Tariffe!$A$6*F1517","v":0},{"$f":"+Tariffe!$B$3*F1517*$F$6","v":0},{"$f":"+Tariffe!$C$3*F1517*$F$7","v":0},null,null,null,null,null,null,0]
[null,1,999999,0,999999,{"$f":"+IF(F1508>=E1518,E1518-E1517,IF(F1508>=E1517,F1508-E1517,IF(F1508<E1517,0,F1508-E1517)))","v":0},{"$f":"+Tariffe!$A$7*F1518","v":0},{"$f":"+Tariffe!$B$3*F1518*$F$6","v":0},{"$f":"+Tariffe!$C$3*F1518*$F$7","v":0},null,null,null,null,null,null,0]
[null,null,null,null,null,null,null,null,null,{"$f":"+IF(A1501>'Tabella ripartizione'!$L$3,0,Tariffe!$E$3*F1505/365)","v":0},{"$f":"+IF(A1501>'Tabella ripartizione'!$L$3,0,Tariffe!$F$3*F1505/365*F1506)","v":0},{"$f":"+IF(A1501>'Tabella ripartizione'!$L$3,0,Tariffe!$G$3*F1505/365*F1507)","v":0},null,null,null,{"$f":"+ROUND(J1519+K1519+L1519,2)","v":0}]
[null,null,null,null,null,null,null,null,null,null,null,null,{"$f":"+(Tariffe!$I$3+Tariffe!$J$3+Tariffe!$K$3+Tariffe!$L$3+Tariffe!$M$3)*F1508","v":0},{"$f":"+(Tariffe!$I$3+Tariffe!$J$3+Tariffe!$K$3+Tariffe!$L$3+Tariffe!$M$3)*F1508*F1506","v":0},{"$f":"+(Tariffe!$I$3+Tariffe!$J$3+Tariffe!$K$3+Tariffe!$L$3+Tariffe!$M$3)*F1508*F1507","v":0},{"$f":"+ROUND(M1520+N1520+O1520,2)","v":0}]
[null,null,null,null,null,null,null,null,null,null,null,null,null,null,null,{"$f":"SUM(P1514:P1520)","v":0},"Imponibile"]
[null,null,null,null,null,null,null,null,null,null,null,null,null,null,null,{"$f":"+ROUND(P1521*0.1,2)","v":0},"IVA (10%)"]
[null,null,null,null,null,null,null,null,null,null,null,null,null,null,null,{"$f":"+P1522+P1521","v":0},"Totale corrispettivi"]
[]
[]
[{"$f":"+A1501+1","v":62},null,null,null,null,null,"Impoto"]
[{"$f":"CONCATENATE(\"Unità domestica residente #\",A1526)","v":"Unità domestica residente #62"},null,null,null,null,null,{"$f":"+P1548","v":0}]
["Data inizio periodo consumo",null,null,null,null,{"$f":"+'Tabella ripartizione'!$C$3","v":"00:00:00"}]
["Data fine periodo consumo",null,null,null,null,{"$f":"+'Tabella ripartizione'!$C$4","v":"00:00:00"}]
["Giorni di consumo",null,null,null,null,{"$f":"+F1529-F1528+1","v":1}]
["Fognatura",null,null,null,null,{"$f":"+'Tabella ripartizione'!$C$6","v":1},"(0 = esente, 1=assoggettato)"]
["Depurazione",null,null,null,null,{"$f":"+'Tabella ripartizione'!$C$7","v":1},"(0 = esente, 1=assoggettato)"]
["Consumo misurato",null,null,null,null,{"$f":"SUMIF('Tabella ripartizione'!$B:$B,A1527,'Tabella ripartizione'!$C:$C)","v":0}]
["Numero di componenti nucleo familiare",null,null,null,null,{"$f":"SUMIF('Tabella ripartizione'!$B:$B,A1527,'Tabella ripartizione'!$D:$D)","v":0}]
[]
["Tariffe TICSI 2022"]
["Domestico Residente","Fasce anno (m3)",null,"Fasce pro-die (m3)",null,"mc riarticolati","Importi servizio",null,null,"Importi Quota fissa",null,null,"Importi perequazione"]
[null,"da","a","da","a",{"$f":"+F1543+F1542+F1541+F1540+F1539","v":0},"Acqua","Fogna","Depurazione","Acqua","Fogna","Depurazione","Acqua","Fogna","Depurazione","Totali"]
[null,0,{"$f":"IF(F1533=0,0,VLOOKUP(F1534,Fasce!A:B,2,FALSE))","v":0},0,{"$f":"+ROUND(C1539/365*F1530,0)","v":0},{"$f":"+IF(F1533>=E1539,E1539,F1533)","v":0},{"$f":"+Tariffe!$A$3*F1539","v":0},{"$f":"+Tariffe!$B$3*F1539*$F$6","v":0},{"$f":"+Tariffe!$C$3*F1539*$F$7","v":0},null,null,null,null,null,null,{"$f":"+ROUND((G1539+H1539+I1539),2)","v":0}]
[null,{"$f":"+C1539+1","v":1},{"$f":"IF(F1533=0,0,VLOOKUP(F1534,Fasce!A:C,3,FALSE))","v":0},{"$f":"+E1539","v":0},{"$f":"+ROUND(C1540/365*F1530,0)","v":0},{"$f":"+IF(F1533>=E1540,E1540-E1539,IF(F1533>=E1539,F1533-E1539,IF(F1533<E1539,0)))","v":0},{"$f":"+Tariffe!$A$4*F1540","v":0},{"$f":"+Tariffe!$B$3*F1540*$F$6","v":0},{"$f":"+Tariffe!$C$3*F1540*$F$7","v":0},null,null,null,null,null,null,0]
[null,1,{"$f":"IF(F1533=0,0,VLOOKUP(F1534,Fasce!A:D,4,FALSE))","v":0},0,{"$f":"+ROUND(C1541/365*F1530,0)","v":0},{"$f":"+IF(F1533>=E1541,E1541-E1540,IF(F1533>=E1540,F1533-E1540,IF(F1533<E1540,0)))","v":0},{"$f":"+Tariffe!$A$5*F1541","v":0},{"$f":"+Tariffe!$B$3*F1541*$F$6","v":0},{"$f":"+Tariffe!$C$3*F1541*$F$7","v":0},null,null,null,null,null,null,0]
[null,1,{"$f":"IF(F1533=0,0,VLOOKUP(F1534,Fasce!A:E,5,FALSE))","v":0},0,{"$f":"+ROUND(C1542/365*F1530,0)","v":0},{"$f":"+IF(F1533>=E1542,E1542-E1541,IF(F1533>=E1541,F1533-E1541,IF(F1533<E1541,0)))","v":0},{"$f":"+Tariffe!$A$6*F1542","v":0},{"$f":"+Tariffe!$B$3*F1542*$F$6","v":0},{"$f":"+Tariffe!$C$3*F1542*$F$7","v":0},null,null,null,null,null,null,0]
[null,1,999999,0,999999,{"$f":"+IF(F1533>=E1543,E1543-E1542,IF(F1533>=E1542,F1533-E1542,IF(F1533<E1542,0,F1533-E1542)))","v":0},{"$f":"+Tariffe!$A$7*F1543","v":0},{"$f":"+Tariffe!$B$3*F1543*$F$6","v":0},{"$f":"+Tariffe!$C$3*F1543*$F$7","v":0},null,null,null,null,null,null,0]
[null,null,null,null,null,null,null,null,null,{"$f":"+IF(A1526>'Tabella ripartizione'!$L$3,0,Tariffe!$E$3*F1530/365)","v":0},{"$f":"+IF(A1526>'Tabella ripartizione'!$L$3,0,Tariffe!$F$3*F1530/365*F1531)","v":0},{"$f":"+IF(A1526>'Tabella ripartizione'!$L$3,0,Tariffe!$G$3*F1530/365*F1532)","v":0},null,null,null,{"$f":"+ROUND(J1544+K1544+L1544,2)","v":0}]
[null,null,null,null,null,null,null,null,null,null,null,null,{"$f":"+(Tariffe!$I$3+Tariffe!$J$3+Tariffe!$K$3+Tariffe!$L$3+Tariffe!$M$3)*F1533","v":0},{"$f":"+(Tariffe!$I$3+Tariffe!$J$3+Tariffe!$K$3+Tariffe!$L$3+Tariffe!$M$3)*F1533*F1531","v":0},{"$f":"+(Tariffe!$I$3+Tariffe!$J$3+Tariffe!$K$3+Tariffe!$L$3+Tariffe!$M$3)*F1533*F1532","v":0},{"$f":"+ROUND(M1545+N1545+O1545,2)","v":0}]
[null,null,null,null,null,null,null,null,null,null,null,null,null,null,null,{"$f":"SUM(P1539:P1545)","v":0},"Imponibile"]
[null,null,null,null,null,null,null,null,null,null,null,null,null,null,null,{"$f":"+ROUND(P1546*0.1,2)","v":0},"IVA (10%)"]
[null,null,null,null,null,null,null,null,null,null,null,null,null,null,null,{"$f":"+P1547+P1546","v":0},"Totale corrispettivi"]
[]
[]
[{"$f":"+A1526+1","v":63},null,null,null,null,null,"Impoto"]
[{"$f":"CONCATENATE(\"Unità domestica residente #\",A1551)","v":"Unità domestica residente #63"},null,null,null,null,null,{"$f":"+P1573","v":0}]
["Data inizio periodo consumo",null,null,null,null,{"$f":"+'Tabella ripartizione'!$C$3","v":"00:00:00"}]
["Data fine periodo consumo",null,null,null,null,{"$f":"+'Tabella ripartizione'!$C$4","v":"00:00:00"}]
["Giorni di consumo",null,null,null,null,{"$f":"+F1554-F1553+1","v":1}]
["Fognatura",null,null,null,null,{"$f":"+'Tabella ripartizione'!$C$6","v":1},"(0 = esente, 1=assoggettato)"]
["Depurazione",null,null,null,null,{"$f":"+'Tabella ripartizione'!$C$7","v":1},"(0 = esente, 1=assoggettato)"]
["Consumo misurato",null,null,null,null,{"$f":"SUMIF('Tabella ripartizione'!$B:$B,A1552,'Tabella ripartizione'!$C:$C)","v":0}]
["Numero di componenti nucleo familiare",null,null,null,null,{"$f":"SUMIF('Tabella ripartizione'!$B:$B,A1552,'Tabella ripartizione'!$D:$D)","v":0}]
[]
["Tariffe TICSI 2022"]
["Domestico Residente","Fasce anno (m3)",null,"Fasce pro-die (m3)",null,"mc riarticolati","Importi servizio",null,null,"Importi Quota fissa",null,null,"Importi perequazione"]
[null,"da","a","da","a",{"$f":"+F1568+F1567+F1566+F1565+F1564","v":0},"Acqua","Fogna","Depurazione","Acqua","Fogna","Depurazione","Acqua","Fogna","Depurazione","Totali"]
[null,0,{"$f":"IF(F1558=0,0,VLOOKUP(F1559,Fasce!A:B,2,FALSE))","v":0},0,{"$f":"+ROUND(C1564/365*F1555,0)","v":0},{"$f":"+IF(F1558>=E1564,E1564,F1558)","v":0},{"$f":"+Tariffe!$A$3*F1564","v":0},{"$f":"+Tariffe!$B$3*F1564*$F$6","v":0},{"$f":"+Tariffe!$C$3*F1564*$F$7","v":0},null,null,null,null,null,null,{"$f":"+ROUND((G1564+H1564+I1564),2)","v":0}]
[null,{"$f":"+C1564+1","v":1},{"$f":"IF(F1558=0,0,VLOOKUP(F1559,Fasce!A:C,3,FALSE))","v":0},{"$f":"+E1564","v":0},{"$f":"+ROUND(C1565/365*F1555,0)","v":0},{"$f":"+IF(F1558>=E1565,E1565-E1564,IF(F1558>=E1564,F1558-E1564,IF(F1558<E1564,0)))","v":0},{"$f":"+Tariffe!$A$4*F1565","v":0},{"$f":"+Tariffe!$B$3*F1565*$F$6","v":0},{"$f":"+Tariffe!$C$3*F1565*$F$7","v":0},null,null,null,null,null,null,0]
[null,1,{"$f":"IF(F1558=0,0,VLOOKUP(F1559,Fasce!A:D,4,FALSE))","v":0},0,{"$f":"+ROUND(C1566/365*F1555,0)","v":0},{"$f":"+IF(F1558>=E1566,E1566-E1565,IF(F1558>=E1565,F1558-E1565,IF(F1558<E1565,0)))","v":0},{"$f":"+Tariffe!$A$5*F1566","v":0},{"$f":"+Tariffe!$B$3*F1566*$F$6","v":0},{"$f":"+Tariffe!$C$3*F1566*$F$7","v":0},null,null,null,null,null,null,0]
[null,1,{"$f":"IF(F1558=0,0,VLOOKUP(F1559,Fasce!A:E,5,FALSE))","v":0},0,{"$f":"+ROUND(C1567/365*F1555,0)","v":0},{"$f":"+IF(F1558>=E1567,E1567-E1566,IF(F1558>=E1566,F1558-E1566,IF(F1558<E1566,0)))","v":0},{"$f":"+Tariffe!$A$6*F1567","v":0},{"$f":"+Tariffe!$B$3*F1567*$F$6","v":0},{"$f":"+Tariffe!$C$3*F1567*$F$7","v":0},null,null,null,null,null,null,0]
[null,1,999999,0,999999,{"$f":"+IF(F1558>=E1568,E1568-E1567,IF(F1558>=E1567,F1558-E1567,IF(F1558<E1567,0,F1558-E1567)))","v":0},{"$f":"+Tariffe!$A$7*F1568","v":0},{"$f":"+Tariffe!$B$3*F1568*$F$6","v":0},{"$f":"+Tariffe!$C$3*F1568*$F$7","v":0},null,null,null,null,null,null,0]
[null,null,null,null,null,null,null,null,null,{"$f":"+IF(A1551>'Tabella ripartizione'!$L$3,0,Tariffe!$E$3*F1555/365)","v":0},{"$f":"+IF(A1551>'Tabella ripartizione'!$L$3,0,Tariffe!$F$3*F1555/365*F1556)","v":0},{"$f":"+IF(A1551>'Tabella ripartizione'!$L$3,0,Tariffe!$G$3*F1555/365*F1557)","v":0},null,null,null,{"$f":"+ROUND(J1569+K1569+L1569,2)","v":0}]
[null,null,null,null,null,null,null,null,null,null,null,null,{"$f":"+(Tariffe!$I$3+Tariffe!$J$3+Tariffe!$K$3+Tariffe!$L$3+Tariffe!$M$3)*F1558","v":0},{"$f":"+(Tariffe!$I$3+Tariffe!$J$3+Tariffe!$K$3+Tariffe!$L$3+Tariffe!$M$3)*F1558*F1556","v":0},{"$f":"+(Tariffe!$I$3+Tariffe!$J$3+Tariffe!$K$3+Tariffe!$L$3+Tariffe!$M$3)*F1558*F1557","v":0},{"$f":"+ROUND(M1570+N1570+O1570,2)","v":0}]
[null,null,null,null,null,null,null,null,null,null,null,null,null,null,null,{"$f":"SUM(P1564:P1570)","v":0},"Imponibile"]
[null,null,null,null,null,null,null,null,null,null,null,null,null,null,null,{"$f":"+ROUND(P1571*0.1,2)","v":0},"IVA (10%)"]
[null,null,null,null,null,null,null,null,null,null,null,null,null,null,null,{"$f":"+P1572+P1571","v":0},"Totale corrispettivi"]
[]
[]
[{"$f":"+A1551+1","v":64},null,null,null,null,null,"Impoto"]
[{"$f":"CONCATENATE(\"Unità domestica residente #\",A1576)","v":"Unità domestica residente #64"},null,null,null,null,null,{"$f":"+P1598","v":0}]
["Data inizio periodo consumo",null,null,null,null,{"$f":"+'Tabella ripartizione'!$C$3","v":"00:00:00"}]
["Data fine periodo consumo",null,null,null,null,{"$f":"+'Tabella ripartizione'!$C$4","v":"00:00:00"}]
["Giorni di consumo",null,null,null,null,{"$f":"+F1579-F1578+1","v":1}]
["Fognatura",null,null,null,null,{"$f":"+'Tabella ripartizione'!$C$6","v":1},"(0 = esente, 1=assoggettato)"]
["Depurazione",null,null,null,null,{"$f":"+'Tabella ripartizione'!$C$7","v":1},"(0 = esente, 1=assoggettato)"]
["Consumo misurato",null,null,null,null,{"$f":"SUMIF('Tabella ripartizione'!$B:$B,A1577,'Tabella ripartizione'!$C:$C)","v":0}]
["Numero di componenti nucleo familiare",null,null,null,null,{"$f":"SUMIF('Tabella ripartizione'!$B:$B,A1577,'Tabella ripartizione'!$D:$D)","v":0}]
[]
["Tariffe TICSI 2022"]
["Domestico Residente","Fasce anno (m3)",null,"Fasce pro-die (m3)",null,"mc riarticolati","Importi servizio",null,null,"Importi Quota fissa",null,null,"Importi perequazione"]
[null,"da","a","da","a",{"$f":"+F1593+F1592+F1591+F1590+F1589","v":0},"Acqua","Fogna","Depurazione","Acqua","Fogna","Depurazione","Acqua","Fogna","Depurazione","Totali"]
[null,0,{"$f":"IF(F1583=0,0,VLOOKUP(F1584,Fasce!A:B,2,FALSE))","v":0},0,{"$f":"+ROUND(C1589/365*F1580,0)","v":0},{"$f":"+IF(F1583>=E1589,E1589,F1583)","v":0},{"$f":"+Tariffe!$A$3*F1589","v":0},{"$f":"+Tariffe!$B$3*F1589*$F$6","v":0},{"$f":"+Tariffe!$C$3*F1589*$F$7","v":0},null,null,null,null,null,null,{"$f":"+ROUND((G1589+H1589+I1589),2)","v":0}]
[null,{"$f":"+C1589+1","v":1},{"$f":"IF(F1583=0,0,VLOOKUP(F1584,Fasce!A:C,3,FALSE))","v":0},{"$f":"+E1589","v":0},{"$f":"+ROUND(C1590/365*F1580,0)","v":0},{"$f":"+IF(F1583>=E1590,E1590-E1589,IF(F1583>=E1589,F1583-E1589,IF(F1583<E1589,0)))","v":0},{"$f":"+Tariffe!$A$4*F1590","v":0},{"$f":"+Tariffe!$B$3*F1590*$F$6","v":0},{"$f":"+Tariffe!$C$3*F1590*$F$7","v":0},null,null,null,null,null,null,0]
[null,1,{"$f":"IF(F1583=0,0,VLOOKUP(F1584,Fasce!A:D,4,FALSE))","v":0},0,{"$f":"+ROUND(C1591/365*F1580,0)","v":0},{"$f":"+IF(F1583>=E1591,E1591-E1590,IF(F1583>=E1590,F1583-E1590,IF(F1583<E1590,0)))","v":0},{"$f":"+Tariffe!$A$5*F1591","v":0},{"$f":"+Tariffe!$B$3*F1591*$F$6","v":0},{"$f":"+Tariffe!$C$3*F1591*$F$7","v":0},null,null,null,null,null,null,0]
[null,1,{"$f":"IF(F1583=0,0,VLOOKUP(F1584,Fasce!A:E,5,FALSE))","v":0},0,{"$f":"+ROUND(C1592/365*F1580,0)","v":0},{"$f":"+IF(F1583>=E1592,E1592-E1591,IF(F1583>=E1591,F1583-E1591,IF(F1583<E1591,0)))","v":0},{"$f":"+Tariffe!$A$6*F1592","v":0},{"$f":"+Tariffe!$B$3*F1592*$F$6","v":0},{"$f":"+Tariffe!$C$3*F1592*$F$7","v":0},null,null,null,null,null,null,0]
[null,1,999999,0,999999,{"$f":"+IF(F1583>=E1593,E1593-E1592,IF(F1583>=E1592,F1583-E1592,IF(F1583<E1592,0,F1583-E1592)))","v":0},{"$f":"+Tariffe!$A$7*F1593","v":0},{"$f":"+Tariffe!$B$3*F1593*$F$6","v":0},{"$f":"+Tariffe!$C$3*F1593*$F$7","v":0},null,null,null,null,null,null,0]
[null,null,null,null,null,null,null,null,null,{"$f":"+IF(A1576>'Tabella ripartizione'!$L$3,0,Tariffe!$E$3*F1580/365)","v":0},{"$f":"+IF(A1576>'Tabella ripartizione'!$L$3,0,Tariffe!$F$3*F1580/365*F1581)","v":0},{"$f":"+IF(A1576>'Tabella ripartizione'!$L$3,0,Tariffe!$G$3*F1580/365*F1582)","v":0},null,null,null,{"$f":"+ROUND(J1594+K1594+L1594,2)","v":0}]
[null,null,null,null,null,null,null,null,null,null,null,null,{"$f":"+(Tariffe!$I$3+Tariffe!$J$3+Tariffe!$K$3+Tariffe!$L$3+Tariffe!$M$3)*F1583","v":0},{"$f":"+(Tariffe!$I$3+Tariffe!$J$3+Tariffe!$K$3+Tariffe!$L$3+Tariffe!$M$3)*F1583*F1581","v":0},{"$f":"+(Tariffe!$I$3+Tariffe!$J$3+Tariffe!$K$3+Tariffe!$L$3+Tariffe!$M$3)*F1583*F1582","v":0},{"$f":"+ROUND(M1595+N1595+O1595,2)","v":0}]
[null,null,null,null,null,null,null,null,null,null,null,null,null,null,null,{"$f":"SUM(P1589:P1595)","v":0},"Imponibile"]
[null,null,null,null,null,null,null,null,null,null,null,null,null,null,null,{"$f":"+ROUND(P1596*0.1,2)","v":0},"IVA (10%)"]
[null,null,null,null,null,null,null,null,null,null,null,null,null,null,null,{"$f":"+P1597+P1596","v":0},"Totale corrispettivi"]
[]
[]
[{"$f":"+A1576+1","v":65},null,null,null,null,null,"Impoto"]
[{"$f":"CONCATENATE(\"Unità domestica residente #\",A1601)","v":"Unità domestica residente #65"},null,null,null,null,null,{"$f":"+P1623","v":0}]
["Data inizio periodo consumo",null,null,null,null,{"$f":"+'Tabella ripartizione'!$C$3","v":"00:00:00"}]
["Data fine periodo consumo",null,null,null,null,{"$f":"+'Tabella ripartizione'!$C$4","v":"00:00:00"}]
["Giorni di consumo",null,null,null,null,{"$f":"+F1604-F1603+1","v":1}]
["Fognatura",null,null,null,null,{"$f":"+'Tabella ripartizione'!$C$6","v":1},"(0 = esente, 1=assoggettato)"]
["Depurazione",null,null,null,null,{"$f":"+'Tabella ripartizione'!$C$7","v":1},"(0 = esente, 1=assoggettato)"]
["Consumo misurato",null,null,null,null,{"$f":"SUMIF('Tabella ripartizione'!$B:$B,A1602,'Tabella ripartizione'!$C:$C)","v":0}]
["Numero di componenti nucleo familiare",null,null,null,null,{"$f":"SUMIF('Tabella ripartizione'!$B:$B,A1602,'Tabella ripartizione'!$D:$D)","v":0}]
[]
["Tariffe TICSI 2022"]
["Domestico Residente","Fasce anno (m3)",null,"Fasce pro-die (m3)",null,"mc riarticolati","Importi servizio",null,null,"Importi Quota fissa",null,null,"Importi perequazione"]
[null,"da","a","da","a",{"$f":"+F1618+F1617+F1616+F1615+F1614","v":0},"Acqua","Fogna","Depurazione","Acqua","Fogna","Depurazione","Acqua","Fogna","Depurazione","Totali"]
[null,0,{"$f":"IF(F1608=0,0,VLOOKUP(F1609,Fasce!A:B,2,FALSE))","v":0},0,{"$f":"+ROUND(C1614/365*F1605,0)","v":0},{"$f":"+IF(F1608>=E1614,E1614,F1608)","v":0},{"$f":"+Tariffe!$A$3*F1614","v":0},{"$f":"+Tariffe!$B$3*F1614*$F$6","v":0},{"$f":"+Tariffe!$C$3*F1614*$F$7","v":0},null,null,null,null,null,null,{"$f":"+ROUND((G1614+H1614+I1614),2)","v":0}]
[null,{"$f":"+C1614+1","v":1},{"$f":"IF(F1608=0,0,VLOOKUP(F1609,Fasce!A:C,3,FALSE))","v":0},{"$f":"+E1614","v":0},{"$f":"+ROUND(C1615/365*F1605,0)","v":0},{"$f":"+IF(F1608>=E1615,E1615-E1614,IF(F1608>=E1614,F1608-E1614,IF(F1608<E1614,0)))","v":0},{"$f":"+Tariffe!$A$4*F1615","v":0},{"$f":"+Tariffe!$B$3*F1615*$F$6","v":0},{"$f":"+Tariffe!$C$3*F1615*$F$7","v":0},null,null,null,null,null,null,0]
[null,1,{"$f":"IF(F1608=0,0,VLOOKUP(F1609,Fasce!A:D,4,FALSE))","v":0},0,{"$f":"+ROUND(C1616/365*F1605,0)","v":0},{"$f":"+IF(F1608>=E1616,E1616-E1615,IF(F1608>=E1615,F1608-E1615,IF(F1608<E1615,0)))","v":0},{"$f":"+Tariffe!$A$5*F1616","v":0},{"$f":"+Tariffe!$B$3*F1616*$F$6","v":0},{"$f":"+Tariffe!$C$3*F1616*$F$7","v":0},null,null,null,null,null,null,0]
[null,1,{"$f":"IF(F1608=0,0,VLOOKUP(F1609,Fasce!A:E,5,FALSE))","v":0},0,{"$f":"+ROUND(C1617/365*F1605,0)","v":0},{"$f":"+IF(F1608>=E1617,E1617-E1616,IF(F1608>=E1616,F1608-E1616,IF(F1608<E1616,0)))","v":0},{"$f":"+Tariffe!$A$6*F1617","v":0},{"$f":"+Tariffe!$B$3*F1617*$F$6","v":0},{"$f":"+Tariffe!$C$3*F1617*$F$7","v":0},null,null,null,null,null,null,0]
[null,1,999999,0,999999,{"$f":"+IF(F1608>=E1618,E1618-E1617,IF(F1608>=E1617,F1608-E1617,IF(F1608<E1617,0,F1608-E1617)))","v":0},{"$f":"+Tariffe!$A$7*F1618","v":0},{"$f":"+Tariffe!$B$3*F1618*$F$6","v":0},{"$f":"+Tariffe!$C$3*F1618*$F$7","v":0},null,null,null,null,null,null,0]
[null,null,null,null,null,null,null,null,null,{"$f":"+IF(A1601>'Tabella ripartizione'!$L$3,0,Tariffe!$E$3*F1605/365)","v":0},{"$f":"+IF(A1601>'Tabella ripartizione'!$L$3,0,Tariffe!$F$3*F1605/365*F1606)","v":0},{"$f":"+IF(A1601>'Tabella ripartizione'!$L$3,0,Tariffe!$G$3*F1605/365*F1607)","v":0},null,null,null,{"$f":"+ROUND(J1619+K1619+L1619,2)","v":0}]
[null,null,null,null,null,null,null,null,null,null,null,null,{"$f":"+(Tariffe!$I$3+Tariffe!$J$3+Tariffe!$K$3+Tariffe!$L$3+Tariffe!$M$3)*F1608","v":0},{"$f":"+(Tariffe!$I$3+Tariffe!$J$3+Tariffe!$K$3+Tariffe!$L$3+Tariffe!$M$3)*F1608*F1606","v":0},{"$f":"+(Tariffe!$I$3+Tariffe!$J$3+Tariffe!$K$3+Tariffe!$L$3+Tariffe!$M$3)*F1608*F1607","v":0},{"$f":"+ROUND(M1620+N1620+O1620,2)","v":0}]
[null,null,null,null,null,null,null,null,null,null,null,null,null,null,null,{"$f":"SUM(P1614:P1620)","v":0},"Imponibile"]
[null,null,null,null,null,null,null,null,null,null,null,null,null,null,null,{"$f":"+ROUND(P1621*0.1,2)","v":0},"IVA (10%)"]
[null,null,null,null,null,null,null,null,null,null,null,null,null,null,null,{"$f":"+P1622+P1621","v":0},"Totale corrispettivi"]
[]
[]
[{"$f":"+A1601+1","v":66},null,null,null,null,null,"Impoto"]
[{"$f":"CONCATENATE(\"Unità domestica residente #\",A1626)","v":"Unità domestica residente #66"},null,null,null,null,null,{"$f":"+P1648","v":0}]
["Data inizio periodo consumo",null,null,null,null,{"$f":"+'Tabella ripartizione'!$C$3","v":"00:00:00"}]
["Data fine periodo consumo",null,null,null,null,{"$f":"+'Tabella ripartizione'!$C$4","v":"00:00:00"}]
["Giorni di consumo",null,null,null,null,{"$f":"+F1629-F1628+1","v":1}]
["Fognatura",null,null,null,null,{"$f":"+'Tabella ripartizione'!$C$6","v":1},"(0 = esente, 1=assoggettato)"]
["Depurazione",null,null,null,null,{"$f":"+'Tabella ripartizione'!$C$7","v":1},"(0 = esente, 1=assoggettato)"]
["Consumo misurato",null,null,null,null,{"$f":"SUMIF('Tabella ripartizione'!$B:$B,A1627,'Tabella ripartizione'!$C:$C)","v":0}]
["Numero di componenti nucleo familiare",null,null,null,null,{"$f":"SUMIF('Tabella ripartizione'!$B:$B,A1627,'Tabella ripartizione'!$D:$D)","v":0}]
[]
["Tariffe TICSI 2022"]
["Domestico Residente","Fasce anno (m3)",null,"Fasce pro-die (m3)",null,"mc riarticolati","Importi servizio",null,null,"Importi Quota fissa",null,null,"Importi perequazione"]
[null,"da","a","da","a",{"$f":"+F1643+F1642+F1641+F1640+F1639","v":0},"Acqua","Fogna","Depurazione","Acqua","Fogna","Depurazione","Acqua","Fogna","Depurazione","Totali"]
[null,0,{"$f":"IF(F1633=0,0,VLOOKUP(F1634,Fasce!A:B,2,FALSE))","v":0},0,{"$f":"+ROUND(C1639/365*F1630,0)","v":0},{"$f":"+IF(F1633>=E1639,E1639,F1633)","v":0},{"$f":"+Tariffe!$A$3*F1639","v":0},{"$f":"+Tariffe!$B$3*F1639*$F$6","v":0},{"$f":"+Tariffe!$C$3*F1639*$F$7","v":0},null,null,null,null,null,null,{"$f":"+ROUND((G1639+H1639+I1639),2)","v":0}]
[null,{"$f":"+C1639+1","v":1},{"$f":"IF(F1633=0,0,VLOOKUP(F1634,Fasce!A:C,3,FALSE))","v":0},{"$f":"+E1639","v":0},{"$f":"+ROUND(C1640/365*F1630,0)","v":0},{"$f":"+IF(F1633>=E1640,E1640-E1639,IF(F1633>=E1639,F1633-E1639,IF(F1633<E1639,0)))","v":0},{"$f":"+Tariffe!$A$4*F1640","v":0},{"$f":"+Tariffe!$B$3*F1640*$F$6","v":0},{"$f":"+Tariffe!$C$3*F1640*$F$7","v":0},null,null,null,null,null,null,0]
[null,1,{"$f":"IF(F1633=0,0,VLOOKUP(F1634,Fasce!A:D,4,FALSE))","v":0},0,{"$f":"+ROUND(C1641/365*F1630,0)","v":0},{"$f":"+IF(F1633>=E1641,E1641-E1640,IF(F1633>=E1640,F1633-E1640,IF(F1633<E1640,0)))","v":0},{"$f":"+Tariffe!$A$5*F1641","v":0},{"$f":"+Tariffe!$B$3*F1641*$F$6","v":0},{"$f":"+Tariffe!$C$3*F1641*$F$7","v":0},null,null,null,null,null,null,0]
[null,1,{"$f":"IF(F1633=0,0,VLOOKUP(F1634,Fasce!A:E,5,FALSE))","v":0},0,{"$f":"+ROUND(C1642/365*F1630,0)","v":0},{"$f":"+IF(F1633>=E1642,E1642-E1641,IF(F1633>=E1641,F1633-E1641,IF(F1633<E1641,0)))","v":0},{"$f":"+Tariffe!$A$6*F1642","v":0},{"$f":"+Tariffe!$B$3*F1642*$F$6","v":0},{"$f":"+Tariffe!$C$3*F1642*$F$7","v":0},null,null,null,null,null,null,0]
[null,1,999999,0,999999,{"$f":"+IF(F1633>=E1643,E1643-E1642,IF(F1633>=E1642,F1633-E1642,IF(F1633<E1642,0,F1633-E1642)))","v":0},{"$f":"+Tariffe!$A$7*F1643","v":0},{"$f":"+Tariffe!$B$3*F1643*$F$6","v":0},{"$f":"+Tariffe!$C$3*F1643*$F$7","v":0},null,null,null,null,null,null,0]
[null,null,null,null,null,null,null,null,null,{"$f":"+IF(A1626>'Tabella ripartizione'!$L$3,0,Tariffe!$E$3*F1630/365)","v":0},{"$f":"+IF(A1626>'Tabella ripartizione'!$L$3,0,Tariffe!$F$3*F1630/365*F1631)","v":0},{"$f":"+IF(A1626>'Tabella ripartizione'!$L$3,0,Tariffe!$G$3*F1630/365*F1632)","v":0},null,null,null,{"$f":"+ROUND(J1644+K1644+L1644,2)","v":0}]
[null,null,null,null,null,null,null,null,null,null,null,null,{"$f":"+(Tariffe!$I$3+Tariffe!$J$3+Tariffe!$K$3+Tariffe!$L$3+Tariffe!$M$3)*F1633","v":0},{"$f":"+(Tariffe!$I$3+Tariffe!$J$3+Tariffe!$K$3+Tariffe!$L$3+Tariffe!$M$3)*F1633*F1631","v":0},{"$f":"+(Tariffe!$I$3+Tariffe!$J$3+Tariffe!$K$3+Tariffe!$L$3+Tariffe!$M$3)*F1633*F1632","v":0},{"$f":"+ROUND(M1645+N1645+O1645,2)","v":0}]
[null,null,null,null,null,null,null,null,null,null,null,null,null,null,null,{"$f":"SUM(P1639:P1645)","v":0},"Imponibile"]
[null,null,null,null,null,null,null,null,null,null,null,null,null,null,null,{"$f":"+ROUND(P1646*0.1,2)","v":0},"IVA (10%)"]
[null,null,null,null,null,null,null,null,null,null,null,null,null,null,null,{"$f":"+P1647+P1646","v":0},"Totale corrispettivi"]
[]
[]
[{"$f":"+A1626+1","v":67},null,null,null,null,null,"Impoto"]
[{"$f":"CONCATENATE(\"Unità domestica residente #\",A1651)","v":"Unità domestica residente #67"},null,null,null,null,null,{"$f":"+P1673","v":0}]
["Data inizio periodo consumo",null,null,null,null,{"$f":"+'Tabella ripartizione'!$C$3","v":"00:00:00"}]
["Data fine periodo consumo",null,null,null,null,{"$f":"+'Tabella ripartizione'!$C$4","v":"00:00:00"}]
["Giorni di consumo",null,null,null,null,{"$f":"+F1654-F1653+1","v":1}]
["Fognatura",null,null,null,null,{"$f":"+'Tabella ripartizione'!$C$6","v":1},"(0 = esente, 1=assoggettato)"]
["Depurazione",null,null,null,null,{"$f":"+'Tabella ripartizione'!$C$7","v":1},"(0 = esente, 1=assoggettato)"]
["Consumo misurato",null,null,null,null,{"$f":"SUMIF('Tabella ripartizione'!$B:$B,A1652,'Tabella ripartizione'!$C:$C)","v":0}]
["Numero di componenti nucleo familiare",null,null,null,null,{"$f":"SUMIF('Tabella ripartizione'!$B:$B,A1652,'Tabella ripartizione'!$D:$D)","v":0}]
[]
["Tariffe TICSI 2022"]
["Domestico Residente","Fasce anno (m3)",null,"Fasce pro-die (m3)",null,"mc riarticolati","Importi servizio",null,null,"Importi Quota fissa",null,null,"Importi perequazione"]
[null,"da","a","da","a",{"$f":"+F1668+F1667+F1666+F1665+F1664","v":0},"Acqua","Fogna","Depurazione","Acqua","Fogna","Depurazione","Acqua","Fogna","Depurazione","Totali"]
[null,0,{"$f":"IF(F1658=0,0,VLOOKUP(F1659,Fasce!A:B,2,FALSE))","v":0},0,{"$f":"+ROUND(C1664/365*F1655,0)","v":0},{"$f":"+IF(F1658>=E1664,E1664,F1658)","v":0},{"$f":"+Tariffe!$A$3*F1664","v":0},{"$f":"+Tariffe!$B$3*F1664*$F$6","v":0},{"$f":"+Tariffe!$C$3*F1664*$F$7","v":0},null,null,null,null,null,null,{"$f":"+ROUND((G1664+H1664+I1664),2)","v":0}]
[null,{"$f":"+C1664+1","v":1},{"$f":"IF(F1658=0,0,VLOOKUP(F1659,Fasce!A:C,3,FALSE))","v":0},{"$f":"+E1664","v":0},{"$f":"+ROUND(C1665/365*F1655,0)","v":0},{"$f":"+IF(F1658>=E1665,E1665-E1664,IF(F1658>=E1664,F1658-E1664,IF(F1658<E1664,0)))","v":0},{"$f":"+Tariffe!$A$4*F1665","v":0},{"$f":"+Tariffe!$B$3*F1665*$F$6","v":0},{"$f":"+Tariffe!$C$3*F1665*$F$7","v":0},null,null,null,null,null,null,0]
[null,1,{"$f":"IF(F1658=0,0,VLOOKUP(F1659,Fasce!A:D,4,FALSE))","v":0},0,{"$f":"+ROUND(C1666/365*F1655,0)","v":0},{"$f":"+IF(F1658>=E1666,E1666-E1665,IF(F1658>=E1665,F1658-E1665,IF(F1658<E1665,0)))","v":0},{"$f":"+Tariffe!$A$5*F1666","v":0},{"$f":"+Tariffe!$B$3*F1666*$F$6","v":0},{"$f":"+Tariffe!$C$3*F1666*$F$7","v":0},null,null,null,null,null,null,0]
[null,1,{"$f":"IF(F1658=0,0,VLOOKUP(F1659,Fasce!A:E,5,FALSE))","v":0},0,{"$f":"+ROUND(C1667/365*F1655,0)","v":0},{"$f":"+IF(F1658>=E1667,E1667-E1666,IF(F1658>=E1666,F1658-E1666,IF(F1658<E1666,0)))","v":0},{"$f":"+Tariffe!$A$6*F1667","v":0},{"$f":"+Tariffe!$B$3*F1667*$F$6","v":0},{"$f":"+Tariffe!$C$3*F1667*$F$7","v":0},null,null,null,null,null,null,0]
[null,1,999999,0,999999,{"$f":"+IF(F1658>=E1668,E1668-E1667,IF(F1658>=E1667,F1658-E1667,IF(F1658<E1667,0,F1658-E1667)))","v":0},{"$f":"+Tariffe!$A$7*F1668","v":0},{"$f":"+Tariffe!$B$3*F1668*$F$6","v":0},{"$f":"+Tariffe!$C$3*F1668*$F$7","v":0},null,null,null,null,null,null,0]
[null,null,null,null,null,null,null,null,null,{"$f":"+IF(A1651>'Tabella ripartizione'!$L$3,0,Tariffe!$E$3*F1655/365)","v":0},{"$f":"+IF(A1651>'Tabella ripartizione'!$L$3,0,Tariffe!$F$3*F1655/365*F1656)","v":0},{"$f":"+IF(A1651>'Tabella ripartizione'!$L$3,0,Tariffe!$G$3*F1655/365*F1657)","v":0},null,null,null,{"$f":"+ROUND(J1669+K1669+L1669,2)","v":0}]
[null,null,null,null,null,null,null,null,null,null,null,null,{"$f":"+(Tariffe!$I$3+Tariffe!$J$3+Tariffe!$K$3+Tariffe!$L$3+Tariffe!$M$3)*F1658","v":0},{"$f":"+(Tariffe!$I$3+Tariffe!$J$3+Tariffe!$K$3+Tariffe!$L$3+Tariffe!$M$3)*F1658*F1656","v":0},{"$f":"+(Tariffe!$I$3+Tariffe!$J$3+Tariffe!$K$3+Tariffe!$L$3+Tariffe!$M$3)*F1658*F1657","v":0},{"$f":"+ROUND(M1670+N1670+O1670,2)","v":0}]
[null,null,null,null,null,null,null,null,null,null,null,null,null,null,null,{"$f":"SUM(P1664:P1670)","v":0},"Imponibile"]
[null,null,null,null,null,null,null,null,null,null,null,null,null,null,null,{"$f":"+ROUND(P1671*0.1,2)","v":0},"IVA (10%)"]
[null,null,null,null,null,null,null,null,null,null,null,null,null,null,null,{"$f":"+P1672+P1671","v":0},"Totale corrispettivi"]
[]
[]
[{"$f":"+A1651+1","v":68},null,null,null,null,null,"Impoto"]
[{"$f":"CONCATENATE(\"Unità domestica residente #\",A1676)","v":"Unità domestica residente #68"},null,null,null,null,null,{"$f":"+P1698","v":0}]
["Data inizio periodo consumo",null,null,null,null,{"$f":"+'Tabella ripartizione'!$C$3","v":"00:00:00"}]
["Data fine periodo consumo",null,null,null,null,{"$f":"+'Tabella ripartizione'!$C$4","v":"00:00:00"}]
["Giorni di consumo",null,null,null,null,{"$f":"+F1679-F1678+1","v":1}]
["Fognatura",null,null,null,null,{"$f":"+'Tabella ripartizione'!$C$6","v":1},"(0 = esente, 1=assoggettato)"]
["Depurazione",null,null,null,null,{"$f":"+'Tabella ripartizione'!$C$7","v":1},"(0 = esente, 1=assoggettato)"]
["Consumo misurato",null,null,null,null,{"$f":"SUMIF('Tabella ripartizione'!$B:$B,A1677,'Tabella ripartizione'!$C:$C)","v":0}]
["Numero di componenti nucleo familiare",null,null,null,null,{"$f":"SUMIF('Tabella ripartizione'!$B:$B,A1677,'Tabella ripartizione'!$D:$D)","v":0}]
[]
["Tariffe TICSI 2022"]
["Domestico Residente","Fasce anno (m3)",null,"Fasce pro-die (m3)",null,"mc riarticolati","Importi servizio",null,null,"Importi Quota fissa",null,null,"Importi perequazione"]
[null,"da","a","da","a",{"$f":"+F1693+F1692+F1691+F1690+F1689","v":0},"Acqua","Fogna","Depurazione","Acqua","Fogna","Depurazione","Acqua","Fogna","Depurazione","Totali"]
[null,0,{"$f":"IF(F1683=0,0,VLOOKUP(F1684,Fasce!A:B,2,FALSE))","v":0},0,{"$f":"+ROUND(C1689/365*F1680,0)","v":0},{"$f":"+IF(F1683>=E1689,E1689,F1683)","v":0},{"$f":"+Tariffe!$A$3*F1689","v":0},{"$f":"+Tariffe!$B$3*F1689*$F$6","v":0},{"$f":"+Tariffe!$C$3*F1689*$F$7","v":0},null,null,null,null,null,null,{"$f":"+ROUND((G1689+H1689+I1689),2)","v":0}]
[null,{"$f":"+C1689+1","v":1},{"$f":"IF(F1683=0,0,VLOOKUP(F1684,Fasce!A:C,3,FALSE))","v":0},{"$f":"+E1689","v":0},{"$f":"+ROUND(C1690/365*F1680,0)","v":0},{"$f":"+IF(F1683>=E1690,E1690-E1689,IF(F1683>=E1689,F1683-E1689,IF(F1683<E1689,0)))","v":0},{"$f":"+Tariffe!$A$4*F1690","v":0},{"$f":"+Tariffe!$B$3*F1690*$F$6","v":0},{"$f":"+Tariffe!$C$3*F1690*$F$7","v":0},null,null,null,null,null,null,0]
[null,1,{"$f":"IF(F1683=0,0,VLOOKUP(F1684,Fasce!A:D,4,FALSE))","v":0},0,{"$f":"+ROUND(C1691/365*F1680,0)","v":0},{"$f":"+IF(F1683>=E1691,E1691-E1690,IF(F1683>=E1690,F1683-E1690,IF(F1683<E1690,0)))","v":0},{"$f":"+Tariffe!$A$5*F1691","v":0},{"$f":"+Tariffe!$B$3*F1691*$F$6","v":0},{"$f":"+Tariffe!$C$3*F1691*$F$7","v":0},null,null,null,null,null,null,0]
[null,1,{"$f":"IF(F1683=0,0,VLOOKUP(F1684,Fasce!A:E,5,FALSE))","v":0},0,{"$f":"+ROUND(C1692/365*F1680,0)","v":0},{"$f":"+IF(F1683>=E1692,E1692-E1691,IF(F1683>=E1691,F1683-E1691,IF(F1683<E1691,0)))","v":0},{"$f":"+Tariffe!$A$6*F1692","v":0},{"$f":"+Tariffe!$B$3*F1692*$F$6","v":0},{"$f":"+Tariffe!$C$3*F1692*$F$7","v":0},null,null,null,null,null,null,0]
[null,1,999999,0,999999,{"$f":"+IF(F1683>=E1693,E1693-E1692,IF(F1683>=E1692,F1683-E1692,IF(F1683<E1692,0,F1683-E1692)))","v":0},{"$f":"+Tariffe!$A$7*F1693","v":0},{"$f":"+Tariffe!$B$3*F1693*$F$6","v":0},{"$f":"+Tariffe!$C$3*F1693*$F$7","v":0},null,null,null,null,null,null,0]
[null,null,null,null,null,null,null,null,null,{"$f":"+IF(A1676>'Tabella ripartizione'!$L$3,0,Tariffe!$E$3*F1680/365)","v":0},{"$f":"+IF(A1676>'Tabella ripartizione'!$L$3,0,Tariffe!$F$3*F1680/365*F1681)","v":0},{"$f":"+IF(A1676>'Tabella ripartizione'!$L$3,0,Tariffe!$G$3*F1680/365*F1682)","v":0},null,null,null,{"$f":"+ROUND(J1694+K1694+L1694,2)","v":0}]
[null,null,null,null,null,null,null,null,null,null,null,null,{"$f":"+(Tariffe!$I$3+Tariffe!$J$3+Tariffe!$K$3+Tariffe!$L$3+Tariffe!$M$3)*F1683","v":0},{"$f":"+(Tariffe!$I$3+Tariffe!$J$3+Tariffe!$K$3+Tariffe!$L$3+Tariffe!$M$3)*F1683*F1681","v":0},{"$f":"+(Tariffe!$I$3+Tariffe!$J$3+Tariffe!$K$3+Tariffe!$L$3+Tariffe!$M$3)*F1683*F1682","v":0},{"$f":"+ROUND(M1695+N1695+O1695,2)","v":0}]
[null,null,null,null,null,null,null,null,null,null,null,null,null,null,null,{"$f":"SUM(P1689:P1695)","v":0},"Imponibile"]
[null,null,null,null,null,null,null,null,null,null,null,null,null,null,null,{"$f":"+ROUND(P1696*0.1,2)","v":0},"IVA (10%)"]
[null,null,null,null,null,null,null,null,null,null,null,null,null,null,null,{"$f":"+P1697+P1696","v":0},"Totale corrispettivi"]
[]
[]
[{"$f":"+A1676+1","v":69},null,null,null,null,null,"Impoto"]
[{"$f":"CONCATENATE(\"Unità domestica residente #\",A1701)","v":"Unità domestica residente #69"},null,null,null,null,null,{"$f":"+P1723","v":0}]
["Data inizio periodo consumo",null,null,null,null,{"$f":"+'Tabella ripartizione'!$C$3","v":"00:00:00"}]
["Data fine periodo consumo",null,null,null,null,{"$f":"+'Tabella ripartizione'!$C$4","v":"00:00:00"}]
["Giorni di consumo",null,null,null,null,{"$f":"+F1704-F1703+1","v":1}]
["Fognatura",null,null,null,null,{"$f":"+'Tabella ripartizione'!$C$6","v":1},"(0 = esente, 1=assoggettato)"]
["Depurazione",null,null,null,null,{"$f":"+'Tabella ripartizione'!$C$7","v":1},"(0 = esente, 1=assoggettato)"]
["Consumo misurato",null,null,null,null,{"$f":"SUMIF('Tabella ripartizione'!$B:$B,A1702,'Tabella ripartizione'!$C:$C)","v":0}]
["Numero di componenti nucleo familiare",null,null,null,null,{"$f":"SUMIF('Tabella ripartizione'!$B:$B,A1702,'Tabella ripartizione'!$D:$D)","v":0}]
[]
["Tariffe TICSI 2022"]
["Domestico Residente","Fasce anno (m3)",null,"Fasce pro-die (m3)",null,"mc riarticolati","Importi servizio",null,null,"Importi Quota fissa",null,null,"Importi perequazione"]
[null,"da","a","da","a",{"$f":"+F1718+F1717+F1716+F1715+F1714","v":0},"Acqua","Fogna","Depurazione","Acqua","Fogna","Depurazione","Acqua","Fogna","Depurazione","Totali"]
[null,0,{"$f":"IF(F1708=0,0,VLOOKUP(F1709,Fasce!A:B,2,FALSE))","v":0},0,{"$f":"+ROUND(C1714/365*F1705,0)","v":0},{"$f":"+IF(F1708>=E1714,E1714,F1708)","v":0},{"$f":"+Tariffe!$A$3*F1714","v":0},{"$f":"+Tariffe!$B$3*F1714*$F$6","v":0},{"$f":"+Tariffe!$C$3*F1714*$F$7","v":0},null,null,null,null,null,null,{"$f":"+ROUND((G1714+H1714+I1714),2)","v":0}]
[null,{"$f":"+C1714+1","v":1},{"$f":"IF(F1708=0,0,VLOOKUP(F1709,Fasce!A:C,3,FALSE))","v":0},{"$f":"+E1714","v":0},{"$f":"+ROUND(C1715/365*F1705,0)","v":0},{"$f":"+IF(F1708>=E1715,E1715-E1714,IF(F1708>=E1714,F1708-E1714,IF(F1708<E1714,0)))","v":0},{"$f":"+Tariffe!$A$4*F1715","v":0},{"$f":"+Tariffe!$B$3*F1715*$F$6","v":0},{"$f":"+Tariffe!$C$3*F1715*$F$7","v":0},null,null,null,null,null,null,0]
[null,1,{"$f":"IF(F1708=0,0,VLOOKUP(F1709,Fasce!A:D,4,FALSE))","v":0},0,{"$f":"+ROUND(C1716/365*F1705,0)","v":0},{"$f":"+IF(F1708>=E1716,E1716-E1715,IF(F1708>=E1715,F1708-E1715,IF(F1708<E1715,0)))","v":0},{"$f":"+Tariffe!$A$5*F1716","v":0},{"$f":"+Tariffe!$B$3*F1716*$F$6","v":0},{"$f":"+Tariffe!$C$3*F1716*$F$7","v":0},null,null,null,null,null,null,0]
[null,1,{"$f":"IF(F1708=0,0,VLOOKUP(F1709,Fasce!A:E,5,FALSE))","v":0},0,{"$f":"+ROUND(C1717/365*F1705,0)","v":0},{"$f":"+IF(F1708>=E1717,E1717-E1716,IF(F1708>=E1716,F1708-E1716,IF(F1708<E1716,0)))","v":0},{"$f":"+Tariffe!$A$6*F1717","v":0},{"$f":"+Tariffe!$B$3*F1717*$F$6","v":0},{"$f":"+Tariffe!$C$3*F1717*$F$7","v":0},null,null,null,null,null,null,0]
[null,1,999999,0,999999,{"$f":"+IF(F1708>=E1718,E1718-E1717,IF(F1708>=E1717,F1708-E1717,IF(F1708<E1717,0,F1708-E1717)))","v":0},{"$f":"+Tariffe!$A$7*F1718","v":0},{"$f":"+Tariffe!$B$3*F1718*$F$6","v":0},{"$f":"+Tariffe!$C$3*F1718*$F$7","v":0},null,null,null,null,null,null,0]
[null,null,null,null,null,null,null,null,null,{"$f":"+IF(A1701>'Tabella ripartizione'!$L$3,0,Tariffe!$E$3*F1705/365)","v":0},{"$f":"+IF(A1701>'Tabella ripartizione'!$L$3,0,Tariffe!$F$3*F1705/365*F1706)","v":0},{"$f":"+IF(A1701>'Tabella ripartizione'!$L$3,0,Tariffe!$G$3*F1705/365*F1707)","v":0},null,null,null,{"$f":"+ROUND(J1719+K1719+L1719,2)","v":0}]
[null,null,null,null,null,null,null,null,null,null,null,null,{"$f":"+(Tariffe!$I$3+Tariffe!$J$3+Tariffe!$K$3+Tariffe!$L$3+Tariffe!$M$3)*F1708","v":0},{"$f":"+(Tariffe!$I$3+Tariffe!$J$3+Tariffe!$K$3+Tariffe!$L$3+Tariffe!$M$3)*F1708*F1706","v":0},{"$f":"+(Tariffe!$I$3+Tariffe!$J$3+Tariffe!$K$3+Tariffe!$L$3+Tariffe!$M$3)*F1708*F1707","v":0},{"$f":"+ROUND(M1720+N1720+O1720,2)","v":0}]
[null,null,null,null,null,null,null,null,null,null,null,null,null,null,null,{"$f":"SUM(P1714:P1720)","v":0},"Imponibile"]
[null,null,null,null,null,null,null,null,null,null,null,null,null,null,null,{"$f":"+ROUND(P1721*0.1,2)","v":0},"IVA (10%)"]
[null,null,null,null,null,null,null,null,null,null,null,null,null,null,null,{"$f":"+P1722+P1721","v":0},"Totale corrispettivi"]
[]
[]
[{"$f":"+A1701+1","v":70},null,null,null,null,null,"Impoto"]
[{"$f":"CONCATENATE(\"Unità domestica residente #\",A1726)","v":"Unità domestica residente #70"},null,null,null,null,null,{"$f":"+P1748","v":0}]
["Data inizio periodo consumo",null,null,null,null,{"$f":"+'Tabella ripartizione'!$C$3","v":"00:00:00"}]
["Data fine periodo consumo",null,null,null,null,{"$f":"+'Tabella ripartizione'!$C$4","v":"00:00:00"}]
["Giorni di consumo",null,null,null,null,{"$f":"+F1729-F1728+1","v":1}]
["Fognatura",null,null,null,null,{"$f":"+'Tabella ripartizione'!$C$6","v":1},"(0 = esente, 1=assoggettato)"]
["Depurazione",null,null,null,null,{"$f":"+'Tabella ripartizione'!$C$7","v":1},"(0 = esente, 1=assoggettato)"]
["Consumo misurato",null,null,null,null,{"$f":"SUMIF('Tabella ripartizione'!$B:$B,A1727,'Tabella ripartizione'!$C:$C)","v":0}]
["Numero di componenti nucleo familiare",null,null,null,null,{"$f":"SUMIF('Tabella ripartizione'!$B:$B,A1727,'Tabella ripartizione'!$D:$D)","v":0}]
[]
["Tariffe TICSI 2022"]
["Domestico Residente","Fasce anno (m3)",null,"Fasce pro-die (m3)",null,"mc riarticolati","Importi servizio",null,null,"Importi Quota fissa",null,null,"Importi perequazione"]
[null,"da","a","da","a",{"$f":"+F1743+F1742+F1741+F1740+F1739","v":0},"Acqua","Fogna","Depurazione","Acqua","Fogna","Depurazione","Acqua","Fogna","Depurazione","Totali"]
[null,0,{"$f":"IF(F1733=0,0,VLOOKUP(F1734,Fasce!A:B,2,FALSE))","v":0},0,{"$f":"+ROUND(C1739/365*F1730,0)","v":0},{"$f":"+IF(F1733>=E1739,E1739,F1733)","v":0},{"$f":"+Tariffe!$A$3*F1739","v":0},{"$f":"+Tariffe!$B$3*F1739*$F$6","v":0},{"$f":"+Tariffe!$C$3*F1739*$F$7","v":0},null,null,null,null,null,null,{"$f":"+ROUND((G1739+H1739+I1739),2)","v":0}]
[null,{"$f":"+C1739+1","v":1},{"$f":"IF(F1733=0,0,VLOOKUP(F1734,Fasce!A:C,3,FALSE))","v":0},{"$f":"+E1739","v":0},{"$f":"+ROUND(C1740/365*F1730,0)","v":0},{"$f":"+IF(F1733>=E1740,E1740-E1739,IF(F1733>=E1739,F1733-E1739,IF(F1733<E1739,0)))","v":0},{"$f":"+Tariffe!$A$4*F1740","v":0},{"$f":"+Tariffe!$B$3*F1740*$F$6","v":0},{"$f":"+Tariffe!$C$3*F1740*$F$7","v":0},null,null,null,null,null,null,0]
[null,1,{"$f":"IF(F1733=0,0,VLOOKUP(F1734,Fasce!A:D,4,FALSE))","v":0},0,{"$f":"+ROUND(C1741/365*F1730,0)","v":0},{"$f":"+IF(F1733>=E1741,E1741-E1740,IF(F1733>=E1740,F1733-E1740,IF(F1733<E1740,0)))","v":0},{"$f":"+Tariffe!$A$5*F1741","v":0},{"$f":"+Tariffe!$B$3*F1741*$F$6","v":0},{"$f":"+Tariffe!$C$3*F1741*$F$7","v":0},null,null,null,null,null,null,0]
[null,1,{"$f":"IF(F1733=0,0,VLOOKUP(F1734,Fasce!A:E,5,FALSE))","v":0},0,{"$f":"+ROUND(C1742/365*F1730,0)","v":0},{"$f":"+IF(F1733>=E1742,E1742-E1741,IF(F1733>=E1741,F1733-E1741,IF(F1733<E1741,0)))","v":0},{"$f":"+Tariffe!$A$6*F1742","v":0},{"$f":"+Tariffe!$B$3*F1742*$F$6","v":0},{"$f":"+Tariffe!$C$3*F1742*$F$7","v":0},null,null,null,null,null,null,0]
[null,1,999999,0,999999,{"$f":"+IF(F1733>=E1743,E1743-E1742,IF(F1733>=E1742,F1733-E1742,IF(F1733<E1742,0,F1733-E1742)))","v":0},{"$f":"+Tariffe!$A$7*F1743","v":0},{"$f":"+Tariffe!$B$3*F1743*$F$6","v":0},{"$f":"+Tariffe!$C$3*F1743*$F$7","v":0},null,null,null,null,null,null,0]
[null,null,null,null,null,null,null,null,null,{"$f":"+IF(A1726>'Tabella ripartizione'!$L$3,0,Tariffe!$E$3*F1730/365)","v":0},{"$f":"+IF(A1726>'Tabella ripartizione'!$L$3,0,Tariffe!$F$3*F1730/365*F1731)","v":0},{"$f":"+IF(A1726>'Tabella ripartizione'!$L$3,0,Tariffe!$G$3*F1730/365*F1732)","v":0},null,null,null,{"$f":"+ROUND(J1744+K1744+L1744,2)","v":0}]
[null,null,null,null,null,null,null,null,null,null,null,null,{"$f":"+(Tariffe!$I$3+Tariffe!$J$3+Tariffe!$K$3+Tariffe!$L$3+Tariffe!$M$3)*F1733","v":0},{"$f":"+(Tariffe!$I$3+Tariffe!$J$3+Tariffe!$K$3+Tariffe!$L$3+Tariffe!$M$3)*F1733*F1731","v":0},{"$f":"+(Tariffe!$I$3+Tariffe!$J$3+Tariffe!$K$3+Tariffe!$L$3+Tariffe!$M$3)*F1733*F1732","v":0},{"$f":"+ROUND(M1745+N1745+O1745,2)","v":0}]
[null,null,null,null,null,null,null,null,null,null,null,null,null,null,null,{"$f":"SUM(P1739:P1745)","v":0},"Imponibile"]
[null,null,null,null,null,null,null,null,null,null,null,null,null,null,null,{"$f":"+ROUND(P1746*0.1,2)","v":0},"IVA (10%)"]
[null,null,null,null,null,null,null,null,null,null,null,null,null,null,null,{"$f":"+P1747+P1746","v":0},"Totale corrispettivi"]
[]
[]
[{"$f":"+A1726+1","v":71},null,null,null,null,null,"Impoto"]
[{"$f":"CONCATENATE(\"Unità domestica residente #\",A1751)","v":"Unità domestica residente #71"},null,null,null,null,null,{"$f":"+P1773","v":0}]
["Data inizio periodo consumo",null,null,null,null,{"$f":"+'Tabella ripartizione'!$C$3","v":"00:00:00"}]
["Data fine periodo consumo",null,null,null,null,{"$f":"+'Tabella ripartizione'!$C$4","v":"00:00:00"}]
["Giorni di consumo",null,null,null,null,{"$f":"+F1754-F1753+1","v":1}]
["Fognatura",null,null,null,null,{"$f":"+'Tabella ripartizione'!$C$6","v":1},"(0 = esente, 1=assoggettato)"]
["Depurazione",null,null,null,null,{"$f":"+'Tabella ripartizione'!$C$7","v":1},"(0 = esente, 1=assoggettato)"]
["Consumo misurato",null,null,null,null,{"$f":"SUMIF('Tabella ripartizione'!$B:$B,A1752,'Tabella ripartizione'!$C:$C)","v":0}]
["Numero di componenti nucleo familiare",null,null,null,null,{"$f":"SUMIF('Tabella ripartizione'!$B:$B,A1752,'Tabella ripartizione'!$D:$D)","v":0}]
[]
["Tariffe TICSI 2022"]
["Domestico Residente","Fasce anno (m3)",null,"Fasce pro-die (m3)",null,"mc riarticolati","Importi servizio",null,null,"Importi Quota fissa",null,null,"Importi perequazione"]
[null,"da","a","da","a",{"$f":"+F1768+F1767+F1766+F1765+F1764","v":0},"Acqua","Fogna","Depurazione","Acqua","Fogna","Depurazione","Acqua","Fogna","Depurazione","Totali"]
[null,0,{"$f":"IF(F1758=0,0,VLOOKUP(F1759,Fasce!A:B,2,FALSE))","v":0},0,{"$f":"+ROUND(C1764/365*F1755,0)","v":0},{"$f":"+IF(F1758>=E1764,E1764,F1758)","v":0},{"$f":"+Tariffe!$A$3*F1764","v":0},{"$f":"+Tariffe!$B$3*F1764*$F$6","v":0},{"$f":"+Tariffe!$C$3*F1764*$F$7","v":0},null,null,null,null,null,null,{"$f":"+ROUND((G1764+H1764+I1764),2)","v":0}]
[null,{"$f":"+C1764+1","v":1},{"$f":"IF(F1758=0,0,VLOOKUP(F1759,Fasce!A:C,3,FALSE))","v":0},{"$f":"+E1764","v":0},{"$f":"+ROUND(C1765/365*F1755,0)","v":0},{"$f":"+IF(F1758>=E1765,E1765-E1764,IF(F1758>=E1764,F1758-E1764,IF(F1758<E1764,0)))","v":0},{"$f":"+Tariffe!$A$4*F1765","v":0},{"$f":"+Tariffe!$B$3*F1765*$F$6","v":0},{"$f":"+Tariffe!$C$3*F1765*$F$7","v":0},null,null,null,null,null,null,0]
[null,1,{"$f":"IF(F1758=0,0,VLOOKUP(F1759,Fasce!A:D,4,FALSE))","v":0},0,{"$f":"+ROUND(C1766/365*F1755,0)","v":0},{"$f":"+IF(F1758>=E1766,E1766-E1765,IF(F1758>=E1765,F1758-E1765,IF(F1758<E1765,0)))","v":0},{"$f":"+Tariffe!$A$5*F1766","v":0},{"$f":"+Tariffe!$B$3*F1766*$F$6","v":0},{"$f":"+Tariffe!$C$3*F1766*$F$7","v":0},null,null,null,null,null,null,0]
[null,1,{"$f":"IF(F1758=0,0,VLOOKUP(F1759,Fasce!A:E,5,FALSE))","v":0},0,{"$f":"+ROUND(C1767/365*F1755,0)","v":0},{"$f":"+IF(F1758>=E1767,E1767-E1766,IF(F1758>=E1766,F1758-E1766,IF(F1758<E1766,0)))","v":0},{"$f":"+Tariffe!$A$6*F1767","v":0},{"$f":"+Tariffe!$B$3*F1767*$F$6","v":0},{"$f":"+Tariffe!$C$3*F1767*$F$7","v":0},null,null,null,null,null,null,0]
[null,1,999999,0,999999,{"$f":"+IF(F1758>=E1768,E1768-E1767,IF(F1758>=E1767,F1758-E1767,IF(F1758<E1767,0,F1758-E1767)))","v":0},{"$f":"+Tariffe!$A$7*F1768","v":0},{"$f":"+Tariffe!$B$3*F1768*$F$6","v":0},{"$f":"+Tariffe!$C$3*F1768*$F$7","v":0},null,null,null,null,null,null,0]
[null,null,null,null,null,null,null,null,null,{"$f":"+IF(A1751>'Tabella ripartizione'!$L$3,0,Tariffe!$E$3*F1755/365)","v":0},{"$f":"+IF(A1751>'Tabella ripartizione'!$L$3,0,Tariffe!$F$3*F1755/365*F1756)","v":0},{"$f":"+IF(A1751>'Tabella ripartizione'!$L$3,0,Tariffe!$G$3*F1755/365*F1757)","v":0},null,null,null,{"$f":"+ROUND(J1769+K1769+L1769,2)","v":0}]
[null,null,null,null,null,null,null,null,null,null,null,null,{"$f":"+(Tariffe!$I$3+Tariffe!$J$3+Tariffe!$K$3+Tariffe!$L$3+Tariffe!$M$3)*F1758","v":0},{"$f":"+(Tariffe!$I$3+Tariffe!$J$3+Tariffe!$K$3+Tariffe!$L$3+Tariffe!$M$3)*F1758*F1756","v":0},{"$f":"+(Tariffe!$I$3+Tariffe!$J$3+Tariffe!$K$3+Tariffe!$L$3+Tariffe!$M$3)*F1758*F1757","v":0},{"$f":"+ROUND(M1770+N1770+O1770,2)","v":0}]
[null,null,null,null,null,null,null,null,null,null,null,null,null,null,null,{"$f":"SUM(P1764:P1770)","v":0},"Imponibile"]
[null,null,null,null,null,null,null,null,null,null,null,null,null,null,null,{"$f":"+ROUND(P1771*0.1,2)","v":0},"IVA (10%)"]
[null,null,null,null,null,null,null,null,null,null,null,null,null,null,null,{"$f":"+P1772+P1771","v":0},"Totale corrispettivi"]
[]
[]
[{"$f":"+A1751+1","v":72},null,null,null,null,null,"Impoto"]
[{"$f":"CONCATENATE(\"Unità domestica residente #\",A1776)","v":"Unità domestica residente #72"},null,null,null,null,null,{"$f":"+P1798","v":0}]
["Data inizio periodo consumo",null,null,null,null,{"$f":"+'Tabella ripartizione'!$C$3","v":"00:00:00"}]
["Data fine periodo consumo",null,null,null,null,{"$f":"+'Tabella ripartizione'!$C$4","v":"00:00:00"}]
["Giorni di consumo",null,null,null,null,{"$f":"+F1779-F1778+1","v":1}]
["Fognatura",null,null,null,null,{"$f":"+'Tabella ripartizione'!$C$6","v":1},"(0 = esente, 1=assoggettato)"]
["Depurazione",null,null,null,null,{"$f":"+'Tabella ripartizione'!$C$7","v":1},"(0 = esente, 1=assoggettato)"]
["Consumo misurato",null,null,null,null,{"$f":"SUMIF('Tabella ripartizione'!$B:$B,A1777,'Tabella ripartizione'!$C:$C)","v":0}]
["Numero di componenti nucleo familiare",null,null,null,null,{"$f":"SUMIF('Tabella ripartizione'!$B:$B,A1777,'Tabella ripartizione'!$D:$D)","v":0}]
[]
["Tariffe TICSI 2022"]
["Domestico Residente","Fasce anno (m3)",null,"Fasce pro-die (m3)",null,"mc riarticolati","Importi servizio",null,null,"Importi Quota fissa",null,null,"Importi perequazione"]
[null,"da","a","da","a",{"$f":"+F1793+F1792+F1791+F1790+F1789","v":0},"Acqua","Fogna","Depurazione","Acqua","Fogna","Depurazione","Acqua","Fogna","Depurazione","Totali"]
[null,0,{"$f":"IF(F1783=0,0,VLOOKUP(F1784,Fasce!A:B,2,FALSE))","v":0},0,{"$f":"+ROUND(C1789/365*F1780,0)","v":0},{"$f":"+IF(F1783>=E1789,E1789,F1783)","v":0},{"$f":"+Tariffe!$A$3*F1789","v":0},{"$f":"+Tariffe!$B$3*F1789*$F$6","v":0},{"$f":"+Tariffe!$C$3*F1789*$F$7","v":0},null,null,null,null,null,null,{"$f":"+ROUND((G1789+H1789+I1789),2)","v":0}]
[null,{"$f":"+C1789+1","v":1},{"$f":"IF(F1783=0,0,VLOOKUP(F1784,Fasce!A:C,3,FALSE))","v":0},{"$f":"+E1789","v":0},{"$f":"+ROUND(C1790/365*F1780,0)","v":0},{"$f":"+IF(F1783>=E1790,E1790-E1789,IF(F1783>=E1789,F1783-E1789,IF(F1783<E1789,0)))","v":0},{"$f":"+Tariffe!$A$4*F1790","v":0},{"$f":"+Tariffe!$B$3*F1790*$F$6","v":0},{"$f":"+Tariffe!$C$3*F1790*$F$7","v":0},null,null,null,null,null,null,0]
[null,1,{"$f":"IF(F1783=0,0,VLOOKUP(F1784,Fasce!A:D,4,FALSE))","v":0},0,{"$f":"+ROUND(C1791/365*F1780,0)","v":0},{"$f":"+IF(F1783>=E1791,E1791-E1790,IF(F1783>=E1790,F1783-E1790,IF(F1783<E1790,0)))","v":0},{"$f":"+Tariffe!$A$5*F1791","v":0},{"$f":"+Tariffe!$B$3*F1791*$F$6","v":0},{"$f":"+Tariffe!$C$3*F1791*$F$7","v":0},null,null,null,null,null,null,0]
[null,1,{"$f":"IF(F1783=0,0,VLOOKUP(F1784,Fasce!A:E,5,FALSE))","v":0},0,{"$f":"+ROUND(C1792/365*F1780,0)","v":0},{"$f":"+IF(F1783>=E1792,E1792-E1791,IF(F1783>=E1791,F1783-E1791,IF(F1783<E1791,0)))","v":0},{"$f":"+Tariffe!$A$6*F1792","v":0},{"$f":"+Tariffe!$B$3*F1792*$F$6","v":0},{"$f":"+Tariffe!$C$3*F1792*$F$7","v":0},null,null,null,null,null,null,0]
[null,1,999999,0,999999,{"$f":"+IF(F1783>=E1793,E1793-E1792,IF(F1783>=E1792,F1783-E1792,IF(F1783<E1792,0,F1783-E1792)))","v":0},{"$f":"+Tariffe!$A$7*F1793","v":0},{"$f":"+Tariffe!$B$3*F1793*$F$6","v":0},{"$f":"+Tariffe!$C$3*F1793*$F$7","v":0},null,null,null,null,null,null,0]
[null,null,null,null,null,null,null,null,null,{"$f":"+IF(A1776>'Tabella ripartizione'!$L$3,0,Tariffe!$E$3*F1780/365)","v":0},{"$f":"+IF(A1776>'Tabella ripartizione'!$L$3,0,Tariffe!$F$3*F1780/365*F1781)","v":0},{"$f":"+IF(A1776>'Tabella ripartizione'!$L$3,0,Tariffe!$G$3*F1780/365*F1782)","v":0},null,null,null,{"$f":"+ROUND(J1794+K1794+L1794,2)","v":0}]
[null,null,null,null,null,null,null,null,null,null,null,null,{"$f":"+(Tariffe!$I$3+Tariffe!$J$3+Tariffe!$K$3+Tariffe!$L$3+Tariffe!$M$3)*F1783","v":0},{"$f":"+(Tariffe!$I$3+Tariffe!$J$3+Tariffe!$K$3+Tariffe!$L$3+Tariffe!$M$3)*F1783*F1781","v":0},{"$f":"+(Tariffe!$I$3+Tariffe!$J$3+Tariffe!$K$3+Tariffe!$L$3+Tariffe!$M$3)*F1783*F1782","v":0},{"$f":"+ROUND(M1795+N1795+O1795,2)","v":0}]
[null,null,null,null,null,null,null,null,null,null,null,null,null,null,null,{"$f":"SUM(P1789:P1795)","v":0},"Imponibile"]
[null,null,null,null,null,null,null,null,null,null,null,null,null,null,null,{"$f":"+ROUND(P1796*0.1,2)","v":0},"IVA (10%)"]
[null,null,null,null,null,null,null,null,null,null,null,null,null,null,null,{"$f":"+P1797+P1796","v":0},"Totale corrispettivi"]
[]
[]
[{"$f":"+A1776+1","v":73},null,null,null,null,null,"Impoto"]
[{"$f":"CONCATENATE(\"Unità domestica residente #\",A1801)","v":"Unità domestica residente #73"},null,null,null,null,null,{"$f":"+P1823","v":0}]
["Data inizio periodo consumo",null,null,null,null,{"$f":"+'Tabella ripartizione'!$C$3","v":"00:00:00"}]
["Data fine periodo consumo",null,null,null,null,{"$f":"+'Tabella ripartizione'!$C$4","v":"00:00:00"}]
["Giorni di consumo",null,null,null,null,{"$f":"+F1804-F1803+1","v":1}]
["Fognatura",null,null,null,null,{"$f":"+'Tabella ripartizione'!$C$6","v":1},"(0 = esente, 1=assoggettato)"]
["Depurazione",null,null,null,null,{"$f":"+'Tabella ripartizione'!$C$7","v":1},"(0 = esente, 1=assoggettato)"]
["Consumo misurato",null,null,null,null,{"$f":"SUMIF('Tabella ripartizione'!$B:$B,A1802,'Tabella ripartizione'!$C:$C)","v":0}]
["Numero di componenti nucleo familiare",null,null,null,null,{"$f":"SUMIF('Tabella ripartizione'!$B:$B,A1802,'Tabella ripartizione'!$D:$D)","v":0}]
[]
["Tariffe TICSI 2022"]
["Domestico Residente","Fasce anno (m3)",null,"Fasce pro-die (m3)",null,"mc riarticolati","Importi servizio",null,null,"Importi Quota fissa",null,null,"Importi perequazione"]
[null,"da","a","da","a",{"$f":"+F1818+F1817+F1816+F1815+F1814","v":0},"Acqua","Fogna","Depurazione","Acqua","Fogna","Depurazione","Acqua","Fogna","Depurazione","Totali"]
[null,0,{"$f":"IF(F1808=0,0,VLOOKUP(F1809,Fasce!A:B,2,FALSE))","v":0},0,{"$f":"+ROUND(C1814/365*F1805,0)","v":0},{"$f":"+IF(F1808>=E1814,E1814,F1808)","v":0},{"$f":"+Tariffe!$A$3*F1814","v":0},{"$f":"+Tariffe!$B$3*F1814*$F$6","v":0},{"$f":"+Tariffe!$C$3*F1814*$F$7","v":0},null,null,null,null,null,null,{"$f":"+ROUND((G1814+H1814+I1814),2)","v":0}]
[null,{"$f":"+C1814+1","v":1},{"$f":"IF(F1808=0,0,VLOOKUP(F1809,Fasce!A:C,3,FALSE))","v":0},{"$f":"+E1814","v":0},{"$f":"+ROUND(C1815/365*F1805,0)","v":0},{"$f":"+IF(F1808>=E1815,E1815-E1814,IF(F1808>=E1814,F1808-E1814,IF(F1808<E1814,0)))","v":0},{"$f":"+Tariffe!$A$4*F1815","v":0},{"$f":"+Tariffe!$B$3*F1815*$F$6","v":0},{"$f":"+Tariffe!$C$3*F1815*$F$7","v":0},null,null,null,null,null,null,0]
[null,1,{"$f":"IF(F1808=0,0,VLOOKUP(F1809,Fasce!A:D,4,FALSE))","v":0},0,{"$f":"+ROUND(C1816/365*F1805,0)","v":0},{"$f":"+IF(F1808>=E1816,E1816-E1815,IF(F1808>=E1815,F1808-E1815,IF(F1808<E1815,0)))","v":0},{"$f":"+Tariffe!$A$5*F1816","v":0},{"$f":"+Tariffe!$B$3*F1816*$F$6","v":0},{"$f":"+Tariffe!$C$3*F1816*$F$7","v":0},null,null,null,null,null,null,0]
[null,1,{"$f":"IF(F1808=0,0,VLOOKUP(F1809,Fasce!A:E,5,FALSE))","v":0},0,{"$f":"+ROUND(C1817/365*F1805,0)","v":0},{"$f":"+IF(F1808>=E1817,E1817-E1816,IF(F1808>=E1816,F1808-E1816,IF(F1808<E1816,0)))","v":0},{"$f":"+Tariffe!$A$6*F1817","v":0},{"$f":"+Tariffe!$B$3*F1817*$F$6","v":0},{"$f":"+Tariffe!$C$3*F1817*$F$7","v":0},null,null,null,null,null,null,0]
[null,1,999999,0,999999,{"$f":"+IF(F1808>=E1818,E1818-E1817,IF(F1808>=E1817,F1808-E1817,IF(F1808<E1817,0,F1808-E1817)))","v":0},{"$f":"+Tariffe!$A$7*F1818","v":0},{"$f":"+Tariffe!$B$3*F1818*$F$6","v":0},{"$f":"+Tariffe!$C$3*F1818*$F$7","v":0},null,null,null,null,null,null,0]
[null,null,null,null,null,null,null,null,null,{"$f":"+IF(A1801>'Tabella ripartizione'!$L$3,0,Tariffe!$E$3*F1805/365)","v":0},{"$f":"+IF(A1801>'Tabella ripartizione'!$L$3,0,Tariffe!$F$3*F1805/365*F1806)","v":0},{"$f":"+IF(A1801>'Tabella ripartizione'!$L$3,0,Tariffe!$G$3*F1805/365*F1807)","v":0},null,null,null,{"$f":"+ROUND(J1819+K1819+L1819,2)","v":0}]
[null,null,null,null,null,null,null,null,null,null,null,null,{"$f":"+(Tariffe!$I$3+Tariffe!$J$3+Tariffe!$K$3+Tariffe!$L$3+Tariffe!$M$3)*F1808","v":0},{"$f":"+(Tariffe!$I$3+Tariffe!$J$3+Tariffe!$K$3+Tariffe!$L$3+Tariffe!$M$3)*F1808*F1806","v":0},{"$f":"+(Tariffe!$I$3+Tariffe!$J$3+Tariffe!$K$3+Tariffe!$L$3+Tariffe!$M$3)*F1808*F1807","v":0},{"$f":"+ROUND(M1820+N1820+O1820,2)","v":0}]
[null,null,null,null,null,null,null,null,null,null,null,null,null,null,null,{"$f":"SUM(P1814:P1820)","v":0},"Imponibile"]
[null,null,null,null,null,null,null,null,null,null,null,null,null,null,null,{"$f":"+ROUND(P1821*0.1,2)","v":0},"IVA (10%)"]
[null,null,null,null,null,null,null,null,null,null,null,null,null,null,null,{"$f":"+P1822+P1821","v":0},"Totale corrispettivi"]
[]
[]
[{"$f":"+A1801+1","v":74},null,null,null,null,null,"Impoto"]
[{"$f":"CONCATENATE(\"Unità domestica residente #\",A1826)","v":"Unità domestica residente #74"},null,null,null,null,null,{"$f":"+P1848","v":0}]
["Data inizio periodo consumo",null,null,null,null,{"$f":"+'Tabella ripartizione'!$C$3","v":"00:00:00"}]
["Data fine periodo consumo",null,null,null,null,{"$f":"+'Tabella ripartizione'!$C$4","v":"00:00:00"}]
["Giorni di consumo",null,null,null,null,{"$f":"+F1829-F1828+1","v":1}]
["Fognatura",null,null,null,null,{"$f":"+'Tabella ripartizione'!$C$6","v":1},"(0 = esente, 1=assoggettato)"]
["Depurazione",null,null,null,null,{"$f":"+'Tabella ripartizione'!$C$7","v":1},"(0 = esente, 1=assoggettato)"]
["Consumo misurato",null,null,null,null,{"$f":"SUMIF('Tabella ripartizione'!$B:$B,A1827,'Tabella ripartizione'!$C:$C)","v":0}]
["Numero di componenti nucleo familiare",null,null,null,null,{"$f":"SUMIF('Tabella ripartizione'!$B:$B,A1827,'Tabella ripartizione'!$D:$D)","v":0}]
[]
["Tariffe TICSI 2022"]
["Domestico Residente","Fasce anno (m3)",null,"Fasce pro-die (m3)",null,"mc riarticolati","Importi servizio",null,null,"Importi Quota fissa",null,null,"Importi perequazione"]
[null,"da","a","da","a",{"$f":"+F1843+F1842+F1841+F1840+F1839","v":0},"Acqua","Fogna","Depurazione","Acqua","Fogna","Depurazione","Acqua","Fogna","Depurazione","Totali"]
[null,0,{"$f":"IF(F1833=0,0,VLOOKUP(F1834,Fasce!A:B,2,FALSE))","v":0},0,{"$f":"+ROUND(C1839/365*F1830,0)","v":0},{"$f":"+IF(F1833>=E1839,E1839,F1833)","v":0},{"$f":"+Tariffe!$A$3*F1839","v":0},{"$f":"+Tariffe!$B$3*F1839*$F$6","v":0},{"$f":"+Tariffe!$C$3*F1839*$F$7","v":0},null,null,null,null,null,null,{"$f":"+ROUND((G1839+H1839+I1839),2)","v":0}]
[null,{"$f":"+C1839+1","v":1},{"$f":"IF(F1833=0,0,VLOOKUP(F1834,Fasce!A:C,3,FALSE))","v":0},{"$f":"+E1839","v":0},{"$f":"+ROUND(C1840/365*F1830,0)","v":0},{"$f":"+IF(F1833>=E1840,E1840-E1839,IF(F1833>=E1839,F1833-E1839,IF(F1833<E1839,0)))","v":0},{"$f":"+Tariffe!$A$4*F1840","v":0},{"$f":"+Tariffe!$B$3*F1840*$F$6","v":0},{"$f":"+Tariffe!$C$3*F1840*$F$7","v":0},null,null,null,null,null,null,0]
[null,1,{"$f":"IF(F1833=0,0,VLOOKUP(F1834,Fasce!A:D,4,FALSE))","v":0},0,{"$f":"+ROUND(C1841/365*F1830,0)","v":0},{"$f":"+IF(F1833>=E1841,E1841-E1840,IF(F1833>=E1840,F1833-E1840,IF(F1833<E1840,0)))","v":0},{"$f":"+Tariffe!$A$5*F1841","v":0},{"$f":"+Tariffe!$B$3*F1841*$F$6","v":0},{"$f":"+Tariffe!$C$3*F1841*$F$7","v":0},null,null,null,null,null,null,0]
[null,1,{"$f":"IF(F1833=0,0,VLOOKUP(F1834,Fasce!A:E,5,FALSE))","v":0},0,{"$f":"+ROUND(C1842/365*F1830,0)","v":0},{"$f":"+IF(F1833>=E1842,E1842-E1841,IF(F1833>=E1841,F1833-E1841,IF(F1833<E1841,0)))","v":0},{"$f":"+Tariffe!$A$6*F1842","v":0},{"$f":"+Tariffe!$B$3*F1842*$F$6","v":0},{"$f":"+Tariffe!$C$3*F1842*$F$7","v":0},null,null,null,null,null,null,0]
[null,1,999999,0,999999,{"$f":"+IF(F1833>=E1843,E1843-E1842,IF(F1833>=E1842,F1833-E1842,IF(F1833<E1842,0,F1833-E1842)))","v":0},{"$f":"+Tariffe!$A$7*F1843","v":0},{"$f":"+Tariffe!$B$3*F1843*$F$6","v":0},{"$f":"+Tariffe!$C$3*F1843*$F$7","v":0},null,null,null,null,null,null,0]
[null,null,null,null,null,null,null,null,null,{"$f":"+IF(A1826>'Tabella ripartizione'!$L$3,0,Tariffe!$E$3*F1830/365)","v":0},{"$f":"+IF(A1826>'Tabella ripartizione'!$L$3,0,Tariffe!$F$3*F1830/365*F1831)","v":0},{"$f":"+IF(A1826>'Tabella ripartizione'!$L$3,0,Tariffe!$G$3*F1830/365*F1832)","v":0},null,null,null,{"$f":"+ROUND(J1844+K1844+L1844,2)","v":0}]
[null,null,null,null,null,null,null,null,null,null,null,null,{"$f":"+(Tariffe!$I$3+Tariffe!$J$3+Tariffe!$K$3+Tariffe!$L$3+Tariffe!$M$3)*F1833","v":0},{"$f":"+(Tariffe!$I$3+Tariffe!$J$3+Tariffe!$K$3+Tariffe!$L$3+Tariffe!$M$3)*F1833*F1831","v":0},{"$f":"+(Tariffe!$I$3+Tariffe!$J$3+Tariffe!$K$3+Tariffe!$L$3+Tariffe!$M$3)*F1833*F1832","v":0},{"$f":"+ROUND(M1845+N1845+O1845,2)","v":0}]
[null,null,null,null,null,null,null,null,null,null,null,null,null,null,null,{"$f":"SUM(P1839:P1845)","v":0},"Imponibile"]
[null,null,null,null,null,null,null,null,null,null,null,null,null,null,null,{"$f":"+ROUND(P1846*0.1,2)","v":0},"IVA (10%)"]
[null,null,null,null,null,null,null,null,null,null,null,null,null,null,null,{"$f":"+P1847+P1846","v":0},"Totale corrispettivi"]
[]
[]
[{"$f":"+A1826+1","v":75},null,null,null,null,null,"Impoto"]
[{"$f":"CONCATENATE(\"Unità domestica residente #\",A1851)","v":"Unità domestica residente #75"},null,null,null,null,null,{"$f":"+P1873","v":0}]
["Data inizio periodo consumo",null,null,null,null,{"$f":"+'Tabella ripartizione'!$C$3","v":"00:00:00"}]
["Data fine periodo consumo",null,null,null,null,{"$f":"+'Tabella ripartizione'!$C$4","v":"00:00:00"}]
["Giorni di consumo",null,null,null,null,{"$f":"+F1854-F1853+1","v":1}]
["Fognatura",null,null,null,null,{"$f":"+'Tabella ripartizione'!$C$6","v":1},"(0 = esente, 1=assoggettato)"]
["Depurazione",null,null,null,null,{"$f":"+'Tabella ripartizione'!$C$7","v":1},"(0 = esente, 1=assoggettato)"]
["Consumo misurato",null,null,null,null,{"$f":"SUMIF('Tabella ripartizione'!$B:$B,A1852,'Tabella ripartizione'!$C:$C)","v":0}]
["Numero di componenti nucleo familiare",null,null,null,null,{"$f":"SUMIF('Tabella ripartizione'!$B:$B,A1852,'Tabella ripartizione'!$D:$D)","v":0}]
[]
["Tariffe TICSI 2022"]
["Domestico Residente","Fasce anno (m3)",null,"Fasce pro-die (m3)",null,"mc riarticolati","Importi servizio",null,null,"Importi Quota fissa",null,null,"Importi perequazione"]
[null,"da","a","da","a",{"$f":"+F1868+F1867+F1866+F1865+F1864","v":0},"Acqua","Fogna","Depurazione","Acqua","Fogna","Depurazione","Acqua","Fogna","Depurazione","Totali"]
[null,0,{"$f":"IF(F1858=0,0,VLOOKUP(F1859,Fasce!A:B,2,FALSE))","v":0},0,{"$f":"+ROUND(C1864/365*F1855,0)","v":0},{"$f":"+IF(F1858>=E1864,E1864,F1858)","v":0},{"$f":"+Tariffe!$A$3*F1864","v":0},{"$f":"+Tariffe!$B$3*F1864*$F$6","v":0},{"$f":"+Tariffe!$C$3*F1864*$F$7","v":0},null,null,null,null,null,null,{"$f":"+ROUND((G1864+H1864+I1864),2)","v":0}]
[null,{"$f":"+C1864+1","v":1},{"$f":"IF(F1858=0,0,VLOOKUP(F1859,Fasce!A:C,3,FALSE))","v":0},{"$f":"+E1864","v":0},{"$f":"+ROUND(C1865/365*F1855,0)","v":0},{"$f":"+IF(F1858>=E1865,E1865-E1864,IF(F1858>=E1864,F1858-E1864,IF(F1858<E1864,0)))","v":0},{"$f":"+Tariffe!$A$4*F1865","v":0},{"$f":"+Tariffe!$B$3*F1865*$F$6","v":0},{"$f":"+Tariffe!$C$3*F1865*$F$7","v":0},null,null,null,null,null,null,0]
[null,1,{"$f":"IF(F1858=0,0,VLOOKUP(F1859,Fasce!A:D,4,FALSE))","v":0},0,{"$f":"+ROUND(C1866/365*F1855,0)","v":0},{"$f":"+IF(F1858>=E1866,E1866-E1865,IF(F1858>=E1865,F1858-E1865,IF(F1858<E1865,0)))","v":0},{"$f":"+Tariffe!$A$5*F1866","v":0},{"$f":"+Tariffe!$B$3*F1866*$F$6","v":0},{"$f":"+Tariffe!$C$3*F1866*$F$7","v":0},null,null,null,null,null,null,0]
[null,1,{"$f":"IF(F1858=0,0,VLOOKUP(F1859,Fasce!A:E,5,FALSE))","v":0},0,{"$f":"+ROUND(C1867/365*F1855,0)","v":0},{"$f":"+IF(F1858>=E1867,E1867-E1866,IF(F1858>=E1866,F1858-E1866,IF(F1858<E1866,0)))","v":0},{"$f":"+Tariffe!$A$6*F1867","v":0},{"$f":"+Tariffe!$B$3*F1867*$F$6","v":0},{"$f":"+Tariffe!$C$3*F1867*$F$7","v":0},null,null,null,null,null,null,0]
[null,1,999999,0,999999,{"$f":"+IF(F1858>=E1868,E1868-E1867,IF(F1858>=E1867,F1858-E1867,IF(F1858<E1867,0,F1858-E1867)))","v":0},{"$f":"+Tariffe!$A$7*F1868","v":0},{"$f":"+Tariffe!$B$3*F1868*$F$6","v":0},{"$f":"+Tariffe!$C$3*F1868*$F$7","v":0},null,null,null,null,null,null,0]
[null,null,null,null,null,null,null,null,null,{"$f":"+IF(A1851>'Tabella ripartizione'!$L$3,0,Tariffe!$E$3*F1855/365)","v":0},{"$f":"+IF(A1851>'Tabella ripartizione'!$L$3,0,Tariffe!$F$3*F1855/365*F1856)","v":0},{"$f":"+IF(A1851>'Tabella ripartizione'!$L$3,0,Tariffe!$G$3*F1855/365*F1857)","v":0},null,null,null,{"$f":"+ROUND(J1869+K1869+L1869,2)","v":0}]
[null,null,null,null,null,null,null,null,null,null,null,null,{"$f":"+(Tariffe!$I$3+Tariffe!$J$3+Tariffe!$K$3+Tariffe!$L$3+Tariffe!$M$3)*F1858","v":0},{"$f":"+(Tariffe!$I$3+Tariffe!$J$3+Tariffe!$K$3+Tariffe!$L$3+Tariffe!$M$3)*F1858*F1856","v":0},{"$f":"+(Tariffe!$I$3+Tariffe!$J$3+Tariffe!$K$3+Tariffe!$L$3+Tariffe!$M$3)*F1858*F1857","v":0},{"$f":"+ROUND(M1870+N1870+O1870,2)","v":0}]
[null,null,null,null,null,null,null,null,null,null,null,null,null,null,null,{"$f":"SUM(P1864:P1870)","v":0},"Imponibile"]
[null,null,null,null,null,null,null,null,null,null,null,null,null,null,null,{"$f":"+ROUND(P1871*0.1,2)","v":0},"IVA (10%)"]
[null,null,null,null,null,null,null,null,null,null,null,null,null,null,null,{"$f":"+P1872+P1871","v":0},"Totale corrispettivi"]
[]
[]
[{"$f":"+A1851+1","v":76},null,null,null,null,null,"Impoto"]
[{"$f":"CONCATENATE(\"Unità domestica residente #\",A1876)","v":"Unità domestica residente #76"},null,null,null,null,null,{"$f":"+P1898","v":0}]
["Data inizio periodo consumo",null,null,null,null,{"$f":"+'Tabella ripartizione'!$C$3","v":"00:00:00"}]
["Data fine periodo consumo",null,null,null,null,{"$f":"+'Tabella ripartizione'!$C$4","v":"00:00:00"}]
["Giorni di consumo",null,null,null,null,{"$f":"+F1879-F1878+1","v":1}]
["Fognatura",null,null,null,null,{"$f":"+'Tabella ripartizione'!$C$6","v":1},"(0 = esente, 1=assoggettato)"]
["Depurazione",null,null,null,null,{"$f":"+'Tabella ripartizione'!$C$7","v":1},"(0 = esente, 1=assoggettato)"]
["Consumo misurato",null,null,null,null,{"$f":"SUMIF('Tabella ripartizione'!$B:$B,A1877,'Tabella ripartizione'!$C:$C)","v":0}]
["Numero di componenti nucleo familiare",null,null,null,null,{"$f":"SUMIF('Tabella ripartizione'!$B:$B,A1877,'Tabella ripartizione'!$D:$D)","v":0}]
[]
["Tariffe TICSI 2022"]
["Domestico Residente","Fasce anno (m3)",null,"Fasce pro-die (m3)",null,"mc riarticolati","Importi servizio",null,null,"Importi Quota fissa",null,null,"Importi perequazione"]
[null,"da","a","da","a",{"$f":"+F1893+F1892+F1891+F1890+F1889","v":0},"Acqua","Fogna","Depurazione","Acqua","Fogna","Depurazione","Acqua","Fogna","Depurazione","Totali"]
[null,0,{"$f":"IF(F1883=0,0,VLOOKUP(F1884,Fasce!A:B,2,FALSE))","v":0},0,{"$f":"+ROUND(C1889/365*F1880,0)","v":0},{"$f":"+IF(F1883>=E1889,E1889,F1883)","v":0},{"$f":"+Tariffe!$A$3*F1889","v":0},{"$f":"+Tariffe!$B$3*F1889*$F$6","v":0},{"$f":"+Tariffe!$C$3*F1889*$F$7","v":0},null,null,null,null,null,null,{"$f":"+ROUND((G1889+H1889+I1889),2)","v":0}]
[null,{"$f":"+C1889+1","v":1},{"$f":"IF(F1883=0,0,VLOOKUP(F1884,Fasce!A:C,3,FALSE))","v":0},{"$f":"+E1889","v":0},{"$f":"+ROUND(C1890/365*F1880,0)","v":0},{"$f":"+IF(F1883>=E1890,E1890-E1889,IF(F1883>=E1889,F1883-E1889,IF(F1883<E1889,0)))","v":0},{"$f":"+Tariffe!$A$4*F1890","v":0},{"$f":"+Tariffe!$B$3*F1890*$F$6","v":0},{"$f":"+Tariffe!$C$3*F1890*$F$7","v":0},null,null,null,null,null,null,0]
[null,1,{"$f":"IF(F1883=0,0,VLOOKUP(F1884,Fasce!A:D,4,FALSE))","v":0},0,{"$f":"+ROUND(C1891/365*F1880,0)","v":0},{"$f":"+IF(F1883>=E1891,E1891-E1890,IF(F1883>=E1890,F1883-E1890,IF(F1883<E1890,0)))","v":0},{"$f":"+Tariffe!$A$5*F1891","v":0},{"$f":"+Tariffe!$B$3*F1891*$F$6","v":0},{"$f":"+Tariffe!$C$3*F1891*$F$7","v":0},null,null,null,null,null,null,0]
[null,1,{"$f":"IF(F1883=0,0,VLOOKUP(F1884,Fasce!A:E,5,FALSE))","v":0},0,{"$f":"+ROUND(C1892/365*F1880,0)","v":0},{"$f":"+IF(F1883>=E1892,E1892-E1891,IF(F1883>=E1891,F1883-E1891,IF(F1883<E1891,0)))","v":0},{"$f":"+Tariffe!$A$6*F1892","v":0},{"$f":"+Tariffe!$B$3*F1892*$F$6","v":0},{"$f":"+Tariffe!$C$3*F1892*$F$7","v":0},null,null,null,null,null,null,0]
[null,1,999999,0,999999,{"$f":"+IF(F1883>=E1893,E1893-E1892,IF(F1883>=E1892,F1883-E1892,IF(F1883<E1892,0,F1883-E1892)))","v":0},{"$f":"+Tariffe!$A$7*F1893","v":0},{"$f":"+Tariffe!$B$3*F1893*$F$6","v":0},{"$f":"+Tariffe!$C$3*F1893*$F$7","v":0},null,null,null,null,null,null,0]
[null,null,null,null,null,null,null,null,null,{"$f":"+IF(A1876>'Tabella ripartizione'!$L$3,0,Tariffe!$E$3*F1880/365)","v":0},{"$f":"+IF(A1876>'Tabella ripartizione'!$L$3,0,Tariffe!$F$3*F1880/365*F1881)","v":0},{"$f":"+IF(A1876>'Tabella ripartizione'!$L$3,0,Tariffe!$G$3*F1880/365*F1882)","v":0},null,null,null,{"$f":"+ROUND(J1894+K1894+L1894,2)","v":0}]
[null,null,null,null,null,null,null,null,null,null,null,null,{"$f":"+(Tariffe!$I$3+Tariffe!$J$3+Tariffe!$K$3+Tariffe!$L$3+Tariffe!$M$3)*F1883","v":0},{"$f":"+(Tariffe!$I$3+Tariffe!$J$3+Tariffe!$K$3+Tariffe!$L$3+Tariffe!$M$3)*F1883*F1881","v":0},{"$f":"+(Tariffe!$I$3+Tariffe!$J$3+Tariffe!$K$3+Tariffe!$L$3+Tariffe!$M$3)*F1883*F1882","v":0},{"$f":"+ROUND(M1895+N1895+O1895,2)","v":0}]
[null,null,null,null,null,null,null,null,null,null,null,null,null,null,null,{"$f":"SUM(P1889:P1895)","v":0},"Imponibile"]
[null,null,null,null,null,null,null,null,null,null,null,null,null,null,null,{"$f":"+ROUND(P1896*0.1,2)","v":0},"IVA (10%)"]
[null,null,null,null,null,null,null,null,null,null,null,null,null,null,null,{"$f":"+P1897+P1896","v":0},"Totale corrispettivi"]
[]
[]
[{"$f":"+A1876+1","v":77},null,null,null,null,null,"Impoto"]
[{"$f":"CONCATENATE(\"Unità domestica residente #\",A1901)","v":"Unità domestica residente #77"},null,null,null,null,null,{"$f":"+P1923","v":0}]
["Data inizio periodo consumo",null,null,null,null,{"$f":"+'Tabella ripartizione'!$C$3","v":"00:00:00"}]
["Data fine periodo consumo",null,null,null,null,{"$f":"+'Tabella ripartizione'!$C$4","v":"00:00:00"}]
["Giorni di consumo",null,null,null,null,{"$f":"+F1904-F1903+1","v":1}]
["Fognatura",null,null,null,null,{"$f":"+'Tabella ripartizione'!$C$6","v":1},"(0 = esente, 1=assoggettato)"]
["Depurazione",null,null,null,null,{"$f":"+'Tabella ripartizione'!$C$7","v":1},"(0 = esente, 1=assoggettato)"]
["Consumo misurato",null,null,null,null,{"$f":"SUMIF('Tabella ripartizione'!$B:$B,A1902,'Tabella ripartizione'!$C:$C)","v":0}]
["Numero di componenti nucleo familiare",null,null,null,null,{"$f":"SUMIF('Tabella ripartizione'!$B:$B,A1902,'Tabella ripartizione'!$D:$D)","v":0}]
[]
["Tariffe TICSI 2022"]
["Domestico Residente","Fasce anno (m3)",null,"Fasce pro-die (m3)",null,"mc riarticolati","Importi servizio",null,null,"Importi Quota fissa",null,null,"Importi perequazione"]
[null,"da","a","da","a",{"$f":"+F1918+F1917+F1916+F1915+F1914","v":0},"Acqua","Fogna","Depurazione","Acqua","Fogna","Depurazione","Acqua","Fogna","Depurazione","Totali"]
[null,0,{"$f":"IF(F1908=0,0,VLOOKUP(F1909,Fasce!A:B,2,FALSE))","v":0},0,{"$f":"+ROUND(C1914/365*F1905,0)","v":0},{"$f":"+IF(F1908>=E1914,E1914,F1908)","v":0},{"$f":"+Tariffe!$A$3*F1914","v":0},{"$f":"+Tariffe!$B$3*F1914*$F$6","v":0},{"$f":"+Tariffe!$C$3*F1914*$F$7","v":0},null,null,null,null,null,null,{"$f":"+ROUND((G1914+H1914+I1914),2)","v":0}]
[null,{"$f":"+C1914+1","v":1},{"$f":"IF(F1908=0,0,VLOOKUP(F1909,Fasce!A:C,3,FALSE))","v":0},{"$f":"+E1914","v":0},{"$f":"+ROUND(C1915/365*F1905,0)","v":0},{"$f":"+IF(F1908>=E1915,E1915-E1914,IF(F1908>=E1914,F1908-E1914,IF(F1908<E1914,0)))","v":0},{"$f":"+Tariffe!$A$4*F1915","v":0},{"$f":"+Tariffe!$B$3*F1915*$F$6","v":0},{"$f":"+Tariffe!$C$3*F1915*$F$7","v":0},null,null,null,null,null,null,0]
[null,1,{"$f":"IF(F1908=0,0,VLOOKUP(F1909,Fasce!A:D,4,FALSE))","v":0},0,{"$f":"+ROUND(C1916/365*F1905,0)","v":0},{"$f":"+IF(F1908>=E1916,E1916-E1915,IF(F1908>=E1915,F1908-E1915,IF(F1908<E1915,0)))","v":0},{"$f":"+Tariffe!$A$5*F1916","v":0},{"$f":"+Tariffe!$B$3*F1916*$F$6","v":0},{"$f":"+Tariffe!$C$3*F1916*$F$7","v":0},null,null,null,null,null,null,0]
[null,1,{"$f":"IF(F1908=0,0,VLOOKUP(F1909,Fasce!A:E,5,FALSE))","v":0},0,{"$f":"+ROUND(C1917/365*F1905,0)","v":0},{"$f":"+IF(F1908>=E1917,E1917-E1916,IF(F1908>=E1916,F1908-E1916,IF(F1908<E1916,0)))","v":0},{"$f":"+Tariffe!$A$6*F1917","v":0},{"$f":"+Tariffe!$B$3*F1917*$F$6","v":0},{"$f":"+Tariffe!$C$3*F1917*$F$7","v":0},null,null,null,null,null,null,0]
[null,1,999999,0,999999,{"$f":"+IF(F1908>=E1918,E1918-E1917,IF(F1908>=E1917,F1908-E1917,IF(F1908<E1917,0,F1908-E1917)))","v":0},{"$f":"+Tariffe!$A$7*F1918","v":0},{"$f":"+Tariffe!$B$3*F1918*$F$6","v":0},{"$f":"+Tariffe!$C$3*F1918*$F$7","v":0},null,null,null,null,null,null,0]
[null,null,null,null,null,null,null,null,null,{"$f":"+IF(A1901>'Tabella ripartizione'!$L$3,0,Tariffe!$E$3*F1905/365)","v":0},{"$f":"+IF(A1901>'Tabella ripartizione'!$L$3,0,Tariffe!$F$3*F1905/365*F1906)","v":0},{"$f":"+IF(A1901>'Tabella ripartizione'!$L$3,0,Tariffe!$G$3*F1905/365*F1907)","v":0},null,null,null,{"$f":"+ROUND(J1919+K1919+L1919,2)","v":0}]
[null,null,null,null,null,null,null,null,null,null,null,null,{"$f":"+(Tariffe!$I$3+Tariffe!$J$3+Tariffe!$K$3+Tariffe!$L$3+Tariffe!$M$3)*F1908","v":0},{"$f":"+(Tariffe!$I$3+Tariffe!$J$3+Tariffe!$K$3+Tariffe!$L$3+Tariffe!$M$3)*F1908*F1906","v":0},{"$f":"+(Tariffe!$I$3+Tariffe!$J$3+Tariffe!$K$3+Tariffe!$L$3+Tariffe!$M$3)*F1908*F1907","v":0},{"$f":"+ROUND(M1920+N1920+O1920,2)","v":0}]
[null,null,null,null,null,null,null,null,null,null,null,null,null,null,null,{"$f":"SUM(P1914:P1920)","v":0},"Imponibile"]
[null,null,null,null,null,null,null,null,null,null,null,null,null,null,null,{"$f":"+ROUND(P1921*0.1,2)","v":0},"IVA (10%)"]
[null,null,null,null,null,null,null,null,null,null,null,null,null,null,null,{"$f":"+P1922+P1921","v":0},"Totale corrispettivi"]
[]
[]
[{"$f":"+A1901+1","v":78},null,null,null,null,null,"Impoto"]
[{"$f":"CONCATENATE(\"Unità domestica residente #\",A1926)","v":"Unità domestica residente #78"},null,null,null,null,null,{"$f":"+P1948","v":0}]
["Data inizio periodo consumo",null,null,null,null,{"$f":"+'Tabella ripartizione'!$C$3","v":"00:00:00"}]
["Data fine periodo consumo",null,null,null,null,{"$f":"+'Tabella ripartizione'!$C$4","v":"00:00:00"}]
["Giorni di consumo",null,null,null,null,{"$f":"+F1929-F1928+1","v":1}]
["Fognatura",null,null,null,null,{"$f":"+'Tabella ripartizione'!$C$6","v":1},"(0 = esente, 1=assoggettato)"]
["Depurazione",null,null,null,null,{"$f":"+'Tabella ripartizione'!$C$7","v":1},"(0 = esente, 1=assoggettato)"]
["Consumo misurato",null,null,null,null,{"$f":"SUMIF('Tabella ripartizione'!$B:$B,A1927,'Tabella ripartizione'!$C:$C)","v":0}]
["Numero di componenti nucleo familiare",null,null,null,null,{"$f":"SUMIF('Tabella ripartizione'!$B:$B,A1927,'Tabella ripartizione'!$D:$D)","v":0}]
[]
["Tariffe TICSI 2022"]
["Domestico Residente","Fasce anno (m3)",null,"Fasce pro-die (m3)",null,"mc riarticolati","Importi servizio",null,null,"Importi Quota fissa",null,null,"Importi perequazione"]
[null,"da","a","da","a",{"$f":"+F1943+F1942+F1941+F1940+F1939","v":0},"Acqua","Fogna","Depurazione","Acqua","Fogna","Depurazione","Acqua","Fogna","Depurazione","Totali"]
[null,0,{"$f":"IF(F1933=0,0,VLOOKUP(F1934,Fasce!A:B,2,FALSE))","v":0},0,{"$f":"+ROUND(C1939/365*F1930,0)","v":0},{"$f":"+IF(F1933>=E1939,E1939,F1933)","v":0},{"$f":"+Tariffe!$A$3*F1939","v":0},{"$f":"+Tariffe!$B$3*F1939*$F$6","v":0},{"$f":"+Tariffe!$C$3*F1939*$F$7","v":0},null,null,null,null,null,null,{"$f":"+ROUND((G1939+H1939+I1939),2)","v":0}]
[null,{"$f":"+C1939+1","v":1},{"$f":"IF(F1933=0,0,VLOOKUP(F1934,Fasce!A:C,3,FALSE))","v":0},{"$f":"+E1939","v":0},{"$f":"+ROUND(C1940/365*F1930,0)","v":0},{"$f":"+IF(F1933>=E1940,E1940-E1939,IF(F1933>=E1939,F1933-E1939,IF(F1933<E1939,0)))","v":0},{"$f":"+Tariffe!$A$4*F1940","v":0},{"$f":"+Tariffe!$B$3*F1940*$F$6","v":0},{"$f":"+Tariffe!$C$3*F1940*$F$7","v":0},null,null,null,null,null,null,0]
[null,1,{"$f":"IF(F1933=0,0,VLOOKUP(F1934,Fasce!A:D,4,FALSE))","v":0},0,{"$f":"+ROUND(C1941/365*F1930,0)","v":0},{"$f":"+IF(F1933>=E1941,E1941-E1940,IF(F1933>=E1940,F1933-E1940,IF(F1933<E1940,0)))","v":0},{"$f":"+Tariffe!$A$5*F1941","v":0},{"$f":"+Tariffe!$B$3*F1941*$F$6","v":0},{"$f":"+Tariffe!$C$3*F1941*$F$7","v":0},null,null,null,null,null,null,0]
[null,1,{"$f":"IF(F1933=0,0,VLOOKUP(F1934,Fasce!A:E,5,FALSE))","v":0},0,{"$f":"+ROUND(C1942/365*F1930,0)","v":0},{"$f":"+IF(F1933>=E1942,E1942-E1941,IF(F1933>=E1941,F1933-E1941,IF(F1933<E1941,0)))","v":0},{"$f":"+Tariffe!$A$6*F1942","v":0},{"$f":"+Tariffe!$B$3*F1942*$F$6","v":0},{"$f":"+Tariffe!$C$3*F1942*$F$7","v":0},null,null,null,null,null,null,0]
[null,1,999999,0,999999,{"$f":"+IF(F1933>=E1943,E1943-E1942,IF(F1933>=E1942,F1933-E1942,IF(F1933<E1942,0,F1933-E1942)))","v":0},{"$f":"+Tariffe!$A$7*F1943","v":0},{"$f":"+Tariffe!$B$3*F1943*$F$6","v":0},{"$f":"+Tariffe!$C$3*F1943*$F$7","v":0},null,null,null,null,null,null,0]
[null,null,null,null,null,null,null,null,null,{"$f":"+IF(A1926>'Tabella ripartizione'!$L$3,0,Tariffe!$E$3*F1930/365)","v":0},{"$f":"+IF(A1926>'Tabella ripartizione'!$L$3,0,Tariffe!$F$3*F1930/365*F1931)","v":0},{"$f":"+IF(A1926>'Tabella ripartizione'!$L$3,0,Tariffe!$G$3*F1930/365*F1932)","v":0},null,null,null,{"$f":"+ROUND(J1944+K1944+L1944,2)","v":0}]
[null,null,null,null,null,null,null,null,null,null,null,null,{"$f":"+(Tariffe!$I$3+Tariffe!$J$3+Tariffe!$K$3+Tariffe!$L$3+Tariffe!$M$3)*F1933","v":0},{"$f":"+(Tariffe!$I$3+Tariffe!$J$3+Tariffe!$K$3+Tariffe!$L$3+Tariffe!$M$3)*F1933*F1931","v":0},{"$f":"+(Tariffe!$I$3+Tariffe!$J$3+Tariffe!$K$3+Tariffe!$L$3+Tariffe!$M$3)*F1933*F1932","v":0},{"$f":"+ROUND(M1945+N1945+O1945,2)","v":0}]
[null,null,null,null,null,null,null,null,null,null,null,null,null,null,null,{"$f":"SUM(P1939:P1945)","v":0},"Imponibile"]
[null,null,null,null,null,null,null,null,null,null,null,null,null,null,null,{"$f":"+ROUND(P1946*0.1,2)","v":0},"IVA (10%)"]
[null,null,null,null,null,null,null,null,null,null,null,null,null,null,null,{"$f":"+P1947+P1946","v":0},"Totale corrispettivi"]
[]
[]
[{"$f":"+A1926+1","v":79},null,null,null,null,null,"Impoto"]
[{"$f":"CONCATENATE(\"Unità domestica residente #\",A1951)","v":"Unità domestica residente #79"},null,null,null,null,null,{"$f":"+P1973","v":0}]
["Data inizio periodo consumo",null,null,null,null,{"$f":"+'Tabella ripartizione'!$C$3","v":"00:00:00"}]
["Data fine periodo consumo",null,null,null,null,{"$f":"+'Tabella ripartizione'!$C$4","v":"00:00:00"}]
["Giorni di consumo",null,null,null,null,{"$f":"+F1954-F1953+1","v":1}]
["Fognatura",null,null,null,null,{"$f":"+'Tabella ripartizione'!$C$6","v":1},"(0 = esente, 1=assoggettato)"]
["Depurazione",null,null,null,null,{"$f":"+'Tabella ripartizione'!$C$7","v":1},"(0 = esente, 1=assoggettato)"]
["Consumo misurato",null,null,null,null,{"$f":"SUMIF('Tabella ripartizione'!$B:$B,A1952,'Tabella ripartizione'!$C:$C)","v":0}]
["Numero di componenti nucleo familiare",null,null,null,null,{"$f":"SUMIF('Tabella ripartizione'!$B:$B,A1952,'Tabella ripartizione'!$D:$D)","v":0}]
[]
["Tariffe TICSI 2022"]
["Domestico Residente","Fasce anno (m3)",null,"Fasce pro-die (m3)",null,"mc riarticolati","Importi servizio",null,null,"Importi Quota fissa",null,null,"Importi perequazione"]
[null,"da","a","da","a",{"$f":"+F1968+F1967+F1966+F1965+F1964","v":0},"Acqua","Fogna","Depurazione","Acqua","Fogna","Depurazione","Acqua","Fogna","Depurazione","Totali"]
[null,0,{"$f":"IF(F1958=0,0,VLOOKUP(F1959,Fasce!A:B,2,FALSE))","v":0},0,{"$f":"+ROUND(C1964/365*F1955,0)","v":0},{"$f":"+IF(F1958>=E1964,E1964,F1958)","v":0},{"$f":"+Tariffe!$A$3*F1964","v":0},{"$f":"+Tariffe!$B$3*F1964*$F$6","v":0},{"$f":"+Tariffe!$C$3*F1964*$F$7","v":0},null,null,null,null,null,null,{"$f":"+ROUND((G1964+H1964+I1964),2)","v":0}]
[null,{"$f":"+C1964+1","v":1},{"$f":"IF(F1958=0,0,VLOOKUP(F1959,Fasce!A:C,3,FALSE))","v":0},{"$f":"+E1964","v":0},{"$f":"+ROUND(C1965/365*F1955,0)","v":0},{"$f":"+IF(F1958>=E1965,E1965-E1964,IF(F1958>=E1964,F1958-E1964,IF(F1958<E1964,0)))","v":0},{"$f":"+Tariffe!$A$4*F1965","v":0},{"$f":"+Tariffe!$B$3*F1965*$F$6","v":0},{"$f":"+Tariffe!$C$3*F1965*$F$7","v":0},null,null,null,null,null,null,0]
[null,1,{"$f":"IF(F1958=0,0,VLOOKUP(F1959,Fasce!A:D,4,FALSE))","v":0},0,{"$f":"+ROUND(C1966/365*F1955,0)","v":0},{"$f":"+IF(F1958>=E1966,E1966-E1965,IF(F1958>=E1965,F1958-E1965,IF(F1958<E1965,0)))","v":0},{"$f":"+Tariffe!$A$5*F1966","v":0},{"$f":"+Tariffe!$B$3*F1966*$F$6","v":0},{"$f":"+Tariffe!$C$3*F1966*$F$7","v":0},null,null,null,null,null,null,0]
[null,1,{"$f":"IF(F1958=0,0,VLOOKUP(F1959,Fasce!A:E,5,FALSE))","v":0},0,{"$f":"+ROUND(C1967/365*F1955,0)","v":0},{"$f":"+IF(F1958>=E1967,E1967-E1966,IF(F1958>=E1966,F1958-E1966,IF(F1958<E1966,0)))","v":0},{"$f":"+Tariffe!$A$6*F1967","v":0},{"$f":"+Tariffe!$B$3*F1967*$F$6","v":0},{"$f":"+Tariffe!$C$3*F1967*$F$7","v":0},null,null,null,null,null,null,0]
[null,1,999999,0,999999,{"$f":"+IF(F1958>=E1968,E1968-E1967,IF(F1958>=E1967,F1958-E1967,IF(F1958<E1967,0,F1958-E1967)))","v":0},{"$f":"+Tariffe!$A$7*F1968","v":0},{"$f":"+Tariffe!$B$3*F1968*$F$6","v":0},{"$f":"+Tariffe!$C$3*F1968*$F$7","v":0},null,null,null,null,null,null,0]
[null,null,null,null,null,null,null,null,null,{"$f":"+IF(A1951>'Tabella ripartizione'!$L$3,0,Tariffe!$E$3*F1955/365)","v":0},{"$f":"+IF(A1951>'Tabella ripartizione'!$L$3,0,Tariffe!$F$3*F1955/365*F1956)","v":0},{"$f":"+IF(A1951>'Tabella ripartizione'!$L$3,0,Tariffe!$G$3*F1955/365*F1957)","v":0},null,null,null,{"$f":"+ROUND(J1969+K1969+L1969,2)","v":0}]
[null,null,null,null,null,null,null,null,null,null,null,null,{"$f":"+(Tariffe!$I$3+Tariffe!$J$3+Tariffe!$K$3+Tariffe!$L$3+Tariffe!$M$3)*F1958","v":0},{"$f":"+(Tariffe!$I$3+Tariffe!$J$3+Tariffe!$K$3+Tariffe!$L$3+Tariffe!$M$3)*F1958*F1956","v":0},{"$f":"+(Tariffe!$I$3+Tariffe!$J$3+Tariffe!$K$3+Tariffe!$L$3+Tariffe!$M$3)*F1958*F1957","v":0},{"$f":"+ROUND(M1970+N1970+O1970,2)","v":0}]
[null,null,null,null,null,null,null,null,null,null,null,null,null,null,null,{"$f":"SUM(P1964:P1970)","v":0},"Imponibile"]
[null,null,null,null,null,null,null,null,null,null,null,null,null,null,null,{"$f":"+ROUND(P1971*0.1,2)","v":0},"IVA (10%)"]
[null,null,null,null,null,null,null,null,null,null,null,null,null,null,null,{"$f":"+P1972+P1971","v":0},"Totale corrispettivi"]
[]
[]
[{"$f":"+A1951+1","v":80},null,null,null,null,null,"Impoto"]
[{"$f":"CONCATENATE(\"Unità domestica residente #\",A1976)","v":"Unità domestica residente #80"},null,null,null,null,null,{"$f":"+P1998","v":0}]
["Data inizio periodo consumo",null,null,null,null,{"$f":"+'Tabella ripartizione'!$C$3","v":"00:00:00"}]
["Data fine periodo consumo",null,null,null,null,{"$f":"+'Tabella ripartizione'!$C$4","v":"00:00:00"}]
["Giorni di consumo",null,null,null,null,{"$f":"+F1979-F1978+1","v":1}]
["Fognatura",null,null,null,null,{"$f":"+'Tabella ripartizione'!$C$6","v":1},"(0 = esente, 1=assoggettato)"]
["Depurazione",null,null,null,null,{"$f":"+'Tabella ripartizione'!$C$7","v":1},"(0 = esente, 1=assoggettato)"]
["Consumo misurato",null,null,null,null,{"$f":"SUMIF('Tabella ripartizione'!$B:$B,A1977,'Tabella ripartizione'!$C:$C)","v":0}]
["Numero di componenti nucleo familiare",null,null,null,null,{"$f":"SUMIF('Tabella ripartizione'!$B:$B,A1977,'Tabella ripartizione'!$D:$D)","v":0}]
[]
["Tariffe TICSI 2022"]
["Domestico Residente","Fasce anno (m3)",null,"Fasce pro-die (m3)",null,"mc riarticolati","Importi servizio",null,null,"Importi Quota fissa",null,null,"Importi perequazione"]
[null,"da","a","da","a",{"$f":"+F1993+F1992+F1991+F1990+F1989","v":0},"Acqua","Fogna","Depurazione","Acqua","Fogna","Depurazione","Acqua","Fogna","Depurazione","Totali"]
[null,0,{"$f":"IF(F1983=0,0,VLOOKUP(F1984,Fasce!A:B,2,FALSE))","v":0},0,{"$f":"+ROUND(C1989/365*F1980,0)","v":0},{"$f":"+IF(F1983>=E1989,E1989,F1983)","v":0},{"$f":"+Tariffe!$A$3*F1989","v":0},{"$f":"+Tariffe!$B$3*F1989*$F$6","v":0},{"$f":"+Tariffe!$C$3*F1989*$F$7","v":0},null,null,null,null,null,null,{"$f":"+ROUND((G1989+H1989+I1989),2)","v":0}]
[null,{"$f":"+C1989+1","v":1},{"$f":"IF(F1983=0,0,VLOOKUP(F1984,Fasce!A:C,3,FALSE))","v":0},{"$f":"+E1989","v":0},{"$f":"+ROUND(C1990/365*F1980,0)","v":0},{"$f":"+IF(F1983>=E1990,E1990-E1989,IF(F1983>=E1989,F1983-E1989,IF(F1983<E1989,0)))","v":0},{"$f":"+Tariffe!$A$4*F1990","v":0},{"$f":"+Tariffe!$B$3*F1990*$F$6","v":0},{"$f":"+Tariffe!$C$3*F1990*$F$7","v":0},null,null,null,null,null,null,0]
[null,1,{"$f":"IF(F1983=0,0,VLOOKUP(F1984,Fasce!A:D,4,FALSE))","v":0},0,{"$f":"+ROUND(C1991/365*F1980,0)","v":0},{"$f":"+IF(F1983>=E1991,E1991-E1990,IF(F1983>=E1990,F1983-E1990,IF(F1983<E1990,0)))","v":0},{"$f":"+Tariffe!$A$5*F1991","v":0},{"$f":"+Tariffe!$B$3*F1991*$F$6","v":0},{"$f":"+Tariffe!$C$3*F1991*$F$7","v":0},null,null,null,null,null,null,0]
[null,1,{"$f":"IF(F1983=0,0,VLOOKUP(F1984,Fasce!A:E,5,FALSE))","v":0},0,{"$f":"+ROUND(C1992/365*F1980,0)","v":0},{"$f":"+IF(F1983>=E1992,E1992-E1991,IF(F1983>=E1991,F1983-E1991,IF(F1983<E1991,0)))","v":0},{"$f":"+Tariffe!$A$6*F1992","v":0},{"$f":"+Tariffe!$B$3*F1992*$F$6","v":0},{"$f":"+Tariffe!$C$3*F1992*$F$7","v":0},null,null,null,null,null,null,0]
[null,1,999999,0,999999,{"$f":"+IF(F1983>=E1993,E1993-E1992,IF(F1983>=E1992,F1983-E1992,IF(F1983<E1992,0,F1983-E1992)))","v":0},{"$f":"+Tariffe!$A$7*F1993","v":0},{"$f":"+Tariffe!$B$3*F1993*$F$6","v":0},{"$f":"+Tariffe!$C$3*F1993*$F$7","v":0},null,null,null,null,null,null,0]
[null,null,null,null,null,null,null,null,null,{"$f":"+IF(A1976>'Tabella ripartizione'!$L$3,0,Tariffe!$E$3*F1980/365)","v":0},{"$f":"+IF(A1976>'Tabella ripartizione'!$L$3,0,Tariffe!$F$3*F1980/365*F1981)","v":0},{"$f":"+IF(A1976>'Tabella ripartizione'!$L$3,0,Tariffe!$G$3*F1980/365*F1982)","v":0},null,null,null,{"$f":"+ROUND(J1994+K1994+L1994,2)","v":0}]
[null,null,null,null,null,null,null,null,null,null,null,null,{"$f":"+(Tariffe!$I$3+Tariffe!$J$3+Tariffe!$K$3+Tariffe!$L$3+Tariffe!$M$3)*F1983","v":0},{"$f":"+(Tariffe!$I$3+Tariffe!$J$3+Tariffe!$K$3+Tariffe!$L$3+Tariffe!$M$3)*F1983*F1981","v":0},{"$f":"+(Tariffe!$I$3+Tariffe!$J$3+Tariffe!$K$3+Tariffe!$L$3+Tariffe!$M$3)*F1983*F1982","v":0},{"$f":"+ROUND(M1995+N1995+O1995,2)","v":0}]
[null,null,null,null,null,null,null,null,null,null,null,null,null,null,null,{"$f":"SUM(P1989:P1995)","v":0},"Imponibile"]
[null,null,null,null,null,null,null,null,null,null,null,null,null,null,null,{"$f":"+ROUND(P1996*0.1,2)","v":0},"IVA (10%)"]
[null,null,null,null,null,null,null,null,null,null,null,null,null,null,null,{"$f":"+P1997+P1996","v":0},"Totale corrispettivi"]
[]
[]
[{"$f":"+A1976+1","v":81},null,null,null,null,null,"Impoto"]
[{"$f":"CONCATENATE(\"Unità domestica residente #\",A2001)","v":"Unità domestica residente #81"},null,null,null,null,null,{"$f":"+P2023","v":0}]
["Data inizio periodo consumo",null,null,null,null,{"$f":"+'Tabella ripartizione'!$C$3","v":"00:00:00"}]
["Data fine periodo consumo",null,null,null,null,{"$f":"+'Tabella ripartizione'!$C$4","v":"00:00:00"}]
["Giorni di consumo",null,null,null,null,{"$f":"+F2004-F2003+1","v":1}]
["Fognatura",null,null,null,null,{"$f":"+'Tabella ripartizione'!$C$6","v":1},"(0 = esente, 1=assoggettato)"]
["Depurazione",null,null,null,null,{"$f":"+'Tabella ripartizione'!$C$7","v":1},"(0 = esente, 1=assoggettato)"]
["Consumo misurato",null,null,null,null,{"$f":"SUMIF('Tabella ripartizione'!$B:$B,A2002,'Tabella ripartizione'!$C:$C)","v":0}]
["Numero di componenti nucleo familiare",null,null,null,null,{"$f":"SUMIF('Tabella ripartizione'!$B:$B,A2002,'Tabella ripartizione'!$D:$D)","v":0}]
[]
["Tariffe TICSI 2022"]
["Domestico Residente","Fasce anno (m3)",null,"Fasce pro-die (m3)",null,"mc riarticolati","Importi servizio",null,null,"Importi Quota fissa",null,null,"Importi perequazione"]
[null,"da","a","da","a",{"$f":"+F2018+F2017+F2016+F2015+F2014","v":0},"Acqua","Fogna","Depurazione","Acqua","Fogna","Depurazione","Acqua","Fogna","Depurazione","Totali"]
[null,0,{"$f":"IF(F2008=0,0,VLOOKUP(F2009,Fasce!A:B,2,FALSE))","v":0},0,{"$f":"+ROUND(C2014/365*F2005,0)","v":0},{"$f":"+IF(F2008>=E2014,E2014,F2008)","v":0},{"$f":"+Tariffe!$A$3*F2014","v":0},{"$f":"+Tariffe!$B$3*F2014*$F$6","v":0},{"$f":"+Tariffe!$C$3*F2014*$F$7","v":0},null,null,null,null,null,null,{"$f":"+ROUND((G2014+H2014+I2014),2)","v":0}]
[null,{"$f":"+C2014+1","v":1},{"$f":"IF(F2008=0,0,VLOOKUP(F2009,Fasce!A:C,3,FALSE))","v":0},{"$f":"+E2014","v":0},{"$f":"+ROUND(C2015/365*F2005,0)","v":0},{"$f":"+IF(F2008>=E2015,E2015-E2014,IF(F2008>=E2014,F2008-E2014,IF(F2008<E2014,0)))","v":0},{"$f":"+Tariffe!$A$4*F2015","v":0},{"$f":"+Tariffe!$B$3*F2015*$F$6","v":0},{"$f":"+Tariffe!$C$3*F2015*$F$7","v":0},null,null,null,null,null,null,0]
[null,1,{"$f":"IF(F2008=0,0,VLOOKUP(F2009,Fasce!A:D,4,FALSE))","v":0},0,{"$f":"+ROUND(C2016/365*F2005,0)","v":0},{"$f":"+IF(F2008>=E2016,E2016-E2015,IF(F2008>=E2015,F2008-E2015,IF(F2008<E2015,0)))","v":0},{"$f":"+Tariffe!$A$5*F2016","v":0},{"$f":"+Tariffe!$B$3*F2016*$F$6","v":0},{"$f":"+Tariffe!$C$3*F2016*$F$7","v":0},null,null,null,null,null,null,0]
[null,1,{"$f":"IF(F2008=0,0,VLOOKUP(F2009,Fasce!A:E,5,FALSE))","v":0},0,{"$f":"+ROUND(C2017/365*F2005,0)","v":0},{"$f":"+IF(F2008>=E2017,E2017-E2016,IF(F2008>=E2016,F2008-E2016,IF(F2008<E2016,0)))","v":0},{"$f":"+Tariffe!$A$6*F2017","v":0},{"$f":"+Tariffe!$B$3*F2017*$F$6","v":0},{"$f":"+Tariffe!$C$3*F2017*$F$7","v":0},null,null,null,null,null,null,0]
[null,1,999999,0,999999,{"$f":"+IF(F2008>=E2018,E2018-E2017,IF(F2008>=E2017,F2008-E2017,IF(F2008<E2017,0,F2008-E2017)))","v":0},{"$f":"+Tariffe!$A$7*F2018","v":0},{"$f":"+Tariffe!$B$3*F2018*$F$6","v":0},{"$f":"+Tariffe!$C$3*F2018*$F$7","v":0},null,null,null,null,null,null,0]
[null,null,null,null,null,null,null,null,null,{"$f":"+IF(A2001>'Tabella ripartizione'!$L$3,0,Tariffe!$E$3*F2005/365)","v":0},{"$f":"+IF(A2001>'Tabella ripartizione'!$L$3,0,Tariffe!$F$3*F2005/365*F2006)","v":0},{"$f":"+IF(A2001>'Tabella ripartizione'!$L$3,0,Tariffe!$G$3*F2005/365*F2007)","v":0},null,null,null,{"$f":"+ROUND(J2019+K2019+L2019,2)","v":0}]
[null,null,null,null,null,null,null,null,null,null,null,null,{"$f":"+(Tariffe!$I$3+Tariffe!$J$3+Tariffe!$K$3+Tariffe!$L$3+Tariffe!$M$3)*F2008","v":0},{"$f":"+(Tariffe!$I$3+Tariffe!$J$3+Tariffe!$K$3+Tariffe!$L$3+Tariffe!$M$3)*F2008*F2006","v":0},{"$f":"+(Tariffe!$I$3+Tariffe!$J$3+Tariffe!$K$3+Tariffe!$L$3+Tariffe!$M$3)*F2008*F2007","v":0},{"$f":"+ROUND(M2020+N2020+O2020,2)","v":0}]
[null,null,null,null,null,null,null,null,null,null,null,null,null,null,null,{"$f":"SUM(P2014:P2020)","v":0},"Imponibile"]
[null,null,null,null,null,null,null,null,null,null,null,null,null,null,null,{"$f":"+ROUND(P2021*0.1,2)","v":0},"IVA (10%)"]
[null,null,null,null,null,null,null,null,null,null,null,null,null,null,null,{"$f":"+P2022+P2021","v":0},"Totale corrispettivi"]
[]
[]
[{"$f":"+A2001+1","v":82},null,null,null,null,null,"Impoto"]
[{"$f":"CONCATENATE(\"Unità domestica residente #\",A2026)","v":"Unità domestica residente #82"},null,null,null,null,null,{"$f":"+P2048","v":0}]
["Data inizio periodo consumo",null,null,null,null,{"$f":"+'Tabella ripartizione'!$C$3","v":"00:00:00"}]
["Data fine periodo consumo",null,null,null,null,{"$f":"+'Tabella ripartizione'!$C$4","v":"00:00:00"}]
["Giorni di consumo",null,null,null,null,{"$f":"+F2029-F2028+1","v":1}]
["Fognatura",null,null,null,null,{"$f":"+'Tabella ripartizione'!$C$6","v":1},"(0 = esente, 1=assoggettato)"]
["Depurazione",null,null,null,null,{"$f":"+'Tabella ripartizione'!$C$7","v":1},"(0 = esente, 1=assoggettato)"]
["Consumo misurato",null,null,null,null,{"$f":"SUMIF('Tabella ripartizione'!$B:$B,A2027,'Tabella ripartizione'!$C:$C)","v":0}]
["Numero di componenti nucleo familiare",null,null,null,null,{"$f":"SUMIF('Tabella ripartizione'!$B:$B,A2027,'Tabella ripartizione'!$D:$D)","v":0}]
[]
["Tariffe TICSI 2022"]
["Domestico Residente","Fasce anno (m3)",null,"Fasce pro-die (m3)",null,"mc riarticolati","Importi servizio",null,null,"Importi Quota fissa",null,null,"Importi perequazione"]
[null,"da","a","da","a",{"$f":"+F2043+F2042+F2041+F2040+F2039","v":0},"Acqua","Fogna","Depurazione","Acqua","Fogna","Depurazione","Acqua","Fogna","Depurazione","Totali"]
[null,0,{"$f":"IF(F2033=0,0,VLOOKUP(F2034,Fasce!A:B,2,FALSE))","v":0},0,{"$f":"+ROUND(C2039/365*F2030,0)","v":0},{"$f":"+IF(F2033>=E2039,E2039,F2033)","v":0},{"$f":"+Tariffe!$A$3*F2039","v":0},{"$f":"+Tariffe!$B$3*F2039*$F$6","v":0},{"$f":"+Tariffe!$C$3*F2039*$F$7","v":0},null,null,null,null,null,null,{"$f":"+ROUND((G2039+H2039+I2039),2)","v":0}]
[null,{"$f":"+C2039+1","v":1},{"$f":"IF(F2033=0,0,VLOOKUP(F2034,Fasce!A:C,3,FALSE))","v":0},{"$f":"+E2039","v":0},{"$f":"+ROUND(C2040/365*F2030,0)","v":0},{"$f":"+IF(F2033>=E2040,E2040-E2039,IF(F2033>=E2039,F2033-E2039,IF(F2033<E2039,0)))","v":0},{"$f":"+Tariffe!$A$4*F2040","v":0},{"$f":"+Tariffe!$B$3*F2040*$F$6","v":0},{"$f":"+Tariffe!$C$3*F2040*$F$7","v":0},null,null,null,null,null,null,0]
[null,1,{"$f":"IF(F2033=0,0,VLOOKUP(F2034,Fasce!A:D,4,FALSE))","v":0},0,{"$f":"+ROUND(C2041/365*F2030,0)","v":0},{"$f":"+IF(F2033>=E2041,E2041-E2040,IF(F2033>=E2040,F2033-E2040,IF(F2033<E2040,0)))","v":0},{"$f":"+Tariffe!$A$5*F2041","v":0},{"$f":"+Tariffe!$B$3*F2041*$F$6","v":0},{"$f":"+Tariffe!$C$3*F2041*$F$7","v":0},null,null,null,null,null,null,0]
[null,1,{"$f":"IF(F2033=0,0,VLOOKUP(F2034,Fasce!A:E,5,FALSE))","v":0},0,{"$f":"+ROUND(C2042/365*F2030,0)","v":0},{"$f":"+IF(F2033>=E2042,E2042-E2041,IF(F2033>=E2041,F2033-E2041,IF(F2033<E2041,0)))","v":0},{"$f":"+Tariffe!$A$6*F2042","v":0},{"$f":"+Tariffe!$B$3*F2042*$F$6","v":0},{"$f":"+Tariffe!$C$3*F2042*$F$7","v":0},null,null,null,null,null,null,0]
[null,1,999999,0,999999,{"$f":"+IF(F2033>=E2043,E2043-E2042,IF(F2033>=E2042,F2033-E2042,IF(F2033<E2042,0,F2033-E2042)))","v":0},{"$f":"+Tariffe!$A$7*F2043","v":0},{"$f":"+Tariffe!$B$3*F2043*$F$6","v":0},{"$f":"+Tariffe!$C$3*F2043*$F$7","v":0},null,null,null,null,null,null,0]
[null,null,null,null,null,null,null,null,null,{"$f":"+IF(A2026>'Tabella ripartizione'!$L$3,0,Tariffe!$E$3*F2030/365)","v":0},{"$f":"+IF(A2026>'Tabella ripartizione'!$L$3,0,Tariffe!$F$3*F2030/365*F2031)","v":0},{"$f":"+IF(A2026>'Tabella ripartizione'!$L$3,0,Tariffe!$G$3*F2030/365*F2032)","v":0},null,null,null,{"$f":"+ROUND(J2044+K2044+L2044,2)","v":0}]
[null,null,null,null,null,null,null,null,null,null,null,null,{"$f":"+(Tariffe!$I$3+Tariffe!$J$3+Tariffe!$K$3+Tariffe!$L$3+Tariffe!$M$3)*F2033","v":0},{"$f":"+(Tariffe!$I$3+Tariffe!$J$3+Tariffe!$K$3+Tariffe!$L$3+Tariffe!$M$3)*F2033*F2031","v":0},{"$f":"+(Tariffe!$I$3+Tariffe!$J$3+Tariffe!$K$3+Tariffe!$L$3+Tariffe!$M$3)*F2033*F2032","v":0},{"$f":"+ROUND(M2045+N2045+O2045,2)","v":0}]
[null,null,null,null,null,null,null,null,null,null,null,null,null,null,null,{"$f":"SUM(P2039:P2045)","v":0},"Imponibile"]
[null,null,null,null,null,null,null,null,null,null,null,null,null,null,null,{"$f":"+ROUND(P2046*0.1,2)","v":0},"IVA (10%)"]
[null,null,null,null,null,null,null,null,null,null,null,null,null,null,null,{"$f":"+P2047+P2046","v":0},"Totale corrispettivi"]
[]
[]
[{"$f":"+A2026+1","v":83},null,null,null,null,null,"Impoto"]
[{"$f":"CONCATENATE(\"Unità domestica residente #\",A2051)","v":"Unità domestica residente #83"},null,null,null,null,null,{"$f":"+P2073","v":0}]
["Data inizio periodo consumo",null,null,null,null,{"$f":"+'Tabella ripartizione'!$C$3","v":"00:00:00"}]
["Data fine periodo consumo",null,null,null,null,{"$f":"+'Tabella ripartizione'!$C$4","v":"00:00:00"}]
["Giorni di consumo",null,null,null,null,{"$f":"+F2054-F2053+1","v":1}]
["Fognatura",null,null,null,null,{"$f":"+'Tabella ripartizione'!$C$6","v":1},"(0 = esente, 1=assoggettato)"]
["Depurazione",null,null,null,null,{"$f":"+'Tabella ripartizione'!$C$7","v":1},"(0 = esente, 1=assoggettato)"]
["Consumo misurato",null,null,null,null,{"$f":"SUMIF('Tabella ripartizione'!$B:$B,A2052,'Tabella ripartizione'!$C:$C)","v":0}]
["Numero di componenti nucleo familiare",null,null,null,null,{"$f":"SUMIF('Tabella ripartizione'!$B:$B,A2052,'Tabella ripartizione'!$D:$D)","v":0}]
[]
["Tariffe TICSI 2022"]
["Domestico Residente","Fasce anno (m3)",null,"Fasce pro-die (m3)",null,"mc riarticolati","Importi servizio",null,null,"Importi Quota fissa",null,null,"Importi perequazione"]
[null,"da","a","da","a",{"$f":"+F2068+F2067+F2066+F2065+F2064","v":0},"Acqua","Fogna","Depurazione","Acqua","Fogna","Depurazione","Acqua","Fogna","Depurazione","Totali"]
[null,0,{"$f":"IF(F2058=0,0,VLOOKUP(F2059,Fasce!A:B,2,FALSE))","v":0},0,{"$f":"+ROUND(C2064/365*F2055,0)","v":0},{"$f":"+IF(F2058>=E2064,E2064,F2058)","v":0},{"$f":"+Tariffe!$A$3*F2064","v":0},{"$f":"+Tariffe!$B$3*F2064*$F$6","v":0},{"$f":"+Tariffe!$C$3*F2064*$F$7","v":0},null,null,null,null,null,null,{"$f":"+ROUND((G2064+H2064+I2064),2)","v":0}]
[null,{"$f":"+C2064+1","v":1},{"$f":"IF(F2058=0,0,VLOOKUP(F2059,Fasce!A:C,3,FALSE))","v":0},{"$f":"+E2064","v":0},{"$f":"+ROUND(C2065/365*F2055,0)","v":0},{"$f":"+IF(F2058>=E2065,E2065-E2064,IF(F2058>=E2064,F2058-E2064,IF(F2058<E2064,0)))","v":0},{"$f":"+Tariffe!$A$4*F2065","v":0},{"$f":"+Tariffe!$B$3*F2065*$F$6","v":0},{"$f":"+Tariffe!$C$3*F2065*$F$7","v":0},null,null,null,null,null,null,0]
[null,1,{"$f":"IF(F2058=0,0,VLOOKUP(F2059,Fasce!A:D,4,FALSE))","v":0},0,{"$f":"+ROUND(C2066/365*F2055,0)","v":0},{"$f":"+IF(F2058>=E2066,E2066-E2065,IF(F2058>=E2065,F2058-E2065,IF(F2058<E2065,0)))","v":0},{"$f":"+Tariffe!$A$5*F2066","v":0},{"$f":"+Tariffe!$B$3*F2066*$F$6","v":0},{"$f":"+Tariffe!$C$3*F2066*$F$7","v":0},null,null,null,null,null,null,0]
[null,1,{"$f":"IF(F2058=0,0,VLOOKUP(F2059,Fasce!A:E,5,FALSE))","v":0},0,{"$f":"+ROUND(C2067/365*F2055,0)","v":0},{"$f":"+IF(F2058>=E2067,E2067-E2066,IF(F2058>=E2066,F2058-E2066,IF(F2058<E2066,0)))","v":0},{"$f":"+Tariffe!$A$6*F2067","v":0},{"$f":"+Tariffe!$B$3*F2067*$F$6","v":0},{"$f":"+Tariffe!$C$3*F2067*$F$7","v":0},null,null,null,null,null,null,0]
[null,1,999999,0,999999,{"$f":"+IF(F2058>=E2068,E2068-E2067,IF(F2058>=E2067,F2058-E2067,IF(F2058<E2067,0,F2058-E2067)))","v":0},{"$f":"+Tariffe!$A$7*F2068","v":0},{"$f":"+Tariffe!$B$3*F2068*$F$6","v":0},{"$f":"+Tariffe!$C$3*F2068*$F$7","v":0},null,null,null,null,null,null,0]
[null,null,null,null,null,null,null,null,null,{"$f":"+IF(A2051>'Tabella ripartizione'!$L$3,0,Tariffe!$E$3*F2055/365)","v":0},{"$f":"+IF(A2051>'Tabella ripartizione'!$L$3,0,Tariffe!$F$3*F2055/365*F2056)","v":0},{"$f":"+IF(A2051>'Tabella ripartizione'!$L$3,0,Tariffe!$G$3*F2055/365*F2057)","v":0},null,null,null,{"$f":"+ROUND(J2069+K2069+L2069,2)","v":0}]
[null,null,null,null,null,null,null,null,null,null,null,null,{"$f":"+(Tariffe!$I$3+Tariffe!$J$3+Tariffe!$K$3+Tariffe!$L$3+Tariffe!$M$3)*F2058","v":0},{"$f":"+(Tariffe!$I$3+Tariffe!$J$3+Tariffe!$K$3+Tariffe!$L$3+Tariffe!$M$3)*F2058*F2056","v":0},{"$f":"+(Tariffe!$I$3+Tariffe!$J$3+Tariffe!$K$3+Tariffe!$L$3+Tariffe!$M$3)*F2058*F2057","v":0},{"$f":"+ROUND(M2070+N2070+O2070,2)","v":0}]
[null,null,null,null,null,null,null,null,null,null,null,null,null,null,null,{"$f":"SUM(P2064:P2070)","v":0},"Imponibile"]
[null,null,null,null,null,null,null,null,null,null,null,null,null,null,null,{"$f":"+ROUND(P2071*0.1,2)","v":0},"IVA (10%)"]
[null,null,null,null,null,null,null,null,null,null,null,null,null,null,null,{"$f":"+P2072+P2071","v":0},"Totale corrispettivi"]
[]
[]
[{"$f":"+A2051+1","v":84},null,null,null,null,null,"Impoto"]
[{"$f":"CONCATENATE(\"Unità domestica residente #\",A2076)","v":"Unità domestica residente #84"},null,null,null,null,null,{"$f":"+P2098","v":0}]
["Data inizio periodo consumo",null,null,null,null,{"$f":"+'Tabella ripartizione'!$C$3","v":"00:00:00"}]
["Data fine periodo consumo",null,null,null,null,{"$f":"+'Tabella ripartizione'!$C$4","v":"00:00:00"}]
["Giorni di consumo",null,null,null,null,{"$f":"+F2079-F2078+1","v":1}]
["Fognatura",null,null,null,null,{"$f":"+'Tabella ripartizione'!$C$6","v":1},"(0 = esente, 1=assoggettato)"]
["Depurazione",null,null,null,null,{"$f":"+'Tabella ripartizione'!$C$7","v":1},"(0 = esente, 1=assoggettato)"]
["Consumo misurato",null,null,null,null,{"$f":"SUMIF('Tabella ripartizione'!$B:$B,A2077,'Tabella ripartizione'!$C:$C)","v":0}]
["Numero di componenti nucleo familiare",null,null,null,null,{"$f":"SUMIF('Tabella ripartizione'!$B:$B,A2077,'Tabella ripartizione'!$D:$D)","v":0}]
[]
["Tariffe TICSI 2022"]
["Domestico Residente","Fasce anno (m3)",null,"Fasce pro-die (m3)",null,"mc riarticolati","Importi servizio",null,null,"Importi Quota fissa",null,null,"Importi perequazione"]
[null,"da","a","da","a",{"$f":"+F2093+F2092+F2091+F2090+F2089","v":0},"Acqua","Fogna","Depurazione","Acqua","Fogna","Depurazione","Acqua","Fogna","Depurazione","Totali"]
[null,0,{"$f":"IF(F2083=0,0,VLOOKUP(F2084,Fasce!A:B,2,FALSE))","v":0},0,{"$f":"+ROUND(C2089/365*F2080,0)","v":0},{"$f":"+IF(F2083>=E2089,E2089,F2083)","v":0},{"$f":"+Tariffe!$A$3*F2089","v":0},{"$f":"+Tariffe!$B$3*F2089*$F$6","v":0},{"$f":"+Tariffe!$C$3*F2089*$F$7","v":0},null,null,null,null,null,null,{"$f":"+ROUND((G2089+H2089+I2089),2)","v":0}]
[null,{"$f":"+C2089+1","v":1},{"$f":"IF(F2083=0,0,VLOOKUP(F2084,Fasce!A:C,3,FALSE))","v":0},{"$f":"+E2089","v":0},{"$f":"+ROUND(C2090/365*F2080,0)","v":0},{"$f":"+IF(F2083>=E2090,E2090-E2089,IF(F2083>=E2089,F2083-E2089,IF(F2083<E2089,0)))","v":0},{"$f":"+Tariffe!$A$4*F2090","v":0},{"$f":"+Tariffe!$B$3*F2090*$F$6","v":0},{"$f":"+Tariffe!$C$3*F2090*$F$7","v":0},null,null,null,null,null,null,0]
[null,1,{"$f":"IF(F2083=0,0,VLOOKUP(F2084,Fasce!A:D,4,FALSE))","v":0},0,{"$f":"+ROUND(C2091/365*F2080,0)","v":0},{"$f":"+IF(F2083>=E2091,E2091-E2090,IF(F2083>=E2090,F2083-E2090,IF(F2083<E2090,0)))","v":0},{"$f":"+Tariffe!$A$5*F2091","v":0},{"$f":"+Tariffe!$B$3*F2091*$F$6","v":0},{"$f":"+Tariffe!$C$3*F2091*$F$7","v":0},null,null,null,null,null,null,0]
[null,1,{"$f":"IF(F2083=0,0,VLOOKUP(F2084,Fasce!A:E,5,FALSE))","v":0},0,{"$f":"+ROUND(C2092/365*F2080,0)","v":0},{"$f":"+IF(F2083>=E2092,E2092-E2091,IF(F2083>=E2091,F2083-E2091,IF(F2083<E2091,0)))","v":0},{"$f":"+Tariffe!$A$6*F2092","v":0},{"$f":"+Tariffe!$B$3*F2092*$F$6","v":0},{"$f":"+Tariffe!$C$3*F2092*$F$7","v":0},null,null,null,null,null,null,0]
[null,1,999999,0,999999,{"$f":"+IF(F2083>=E2093,E2093-E2092,IF(F2083>=E2092,F2083-E2092,IF(F2083<E2092,0,F2083-E2092)))","v":0},{"$f":"+Tariffe!$A$7*F2093","v":0},{"$f":"+Tariffe!$B$3*F2093*$F$6","v":0},{"$f":"+Tariffe!$C$3*F2093*$F$7","v":0},null,null,null,null,null,null,0]
[null,null,null,null,null,null,null,null,null,{"$f":"+IF(A2076>'Tabella ripartizione'!$L$3,0,Tariffe!$E$3*F2080/365)","v":0},{"$f":"+IF(A2076>'Tabella ripartizione'!$L$3,0,Tariffe!$F$3*F2080/365*F2081)","v":0},{"$f":"+IF(A2076>'Tabella ripartizione'!$L$3,0,Tariffe!$G$3*F2080/365*F2082)","v":0},null,null,null,{"$f":"+ROUND(J2094+K2094+L2094,2)","v":0}]
[null,null,null,null,null,null,null,null,null,null,null,null,{"$f":"+(Tariffe!$I$3+Tariffe!$J$3+Tariffe!$K$3+Tariffe!$L$3+Tariffe!$M$3)*F2083","v":0},{"$f":"+(Tariffe!$I$3+Tariffe!$J$3+Tariffe!$K$3+Tariffe!$L$3+Tariffe!$M$3)*F2083*F2081","v":0},{"$f":"+(Tariffe!$I$3+Tariffe!$J$3+Tariffe!$K$3+Tariffe!$L$3+Tariffe!$M$3)*F2083*F2082","v":0},{"$f":"+ROUND(M2095+N2095+O2095,2)","v":0}]
[null,null,null,null,null,null,null,null,null,null,null,null,null,null,null,{"$f":"SUM(P2089:P2095)","v":0},"Imponibile"]
[null,null,null,null,null,null,null,null,null,null,null,null,null,null,null,{"$f":"+ROUND(P2096*0.1,2)","v":0},"IVA (10%)"]
[null,null,null,null,null,null,null,null,null,null,null,null,null,null,null,{"$f":"+P2097+P2096","v":0},"Totale corrispettivi"]
[]
[]
[{"$f":"+A2076+1","v":85},null,null,null,null,null,"Impoto"]
[{"$f":"CONCATENATE(\"Unità domestica residente #\",A2101)","v":"Unità domestica residente #85"},null,null,null,null,null,{"$f":"+P2123","v":0}]
["Data inizio periodo consumo",null,null,null,null,{"$f":"+'Tabella ripartizione'!$C$3","v":"00:00:00"}]
["Data fine periodo consumo",null,null,null,null,{"$f":"+'Tabella ripartizione'!$C$4","v":"00:00:00"}]
["Giorni di consumo",null,null,null,null,{"$f":"+F2104-F2103+1","v":1}]
["Fognatura",null,null,null,null,{"$f":"+'Tabella ripartizione'!$C$6","v":1},"(0 = esente, 1=assoggettato)"]
["Depurazione",null,null,null,null,{"$f":"+'Tabella ripartizione'!$C$7","v":1},"(0 = esente, 1=assoggettato)"]
["Consumo misurato",null,null,null,null,{"$f":"SUMIF('Tabella ripartizione'!$B:$B,A2102,'Tabella ripartizione'!$C:$C)","v":0}]
["Numero di componenti nucleo familiare",null,null,null,null,{"$f":"SUMIF('Tabella ripartizione'!$B:$B,A2102,'Tabella ripartizione'!$D:$D)","v":0}]
[]
["Tariffe TICSI 2022"]
["Domestico Residente","Fasce anno (m3)",null,"Fasce pro-die (m3)",null,"mc riarticolati","Importi servizio",null,null,"Importi Quota fissa",null,null,"Importi perequazione"]
[null,"da","a","da","a",{"$f":"+F2118+F2117+F2116+F2115+F2114","v":0},"Acqua","Fogna","Depurazione","Acqua","Fogna","Depurazione","Acqua","Fogna","Depurazione","Totali"]
[null,0,{"$f":"IF(F2108=0,0,VLOOKUP(F2109,Fasce!A:B,2,FALSE))","v":0},0,{"$f":"+ROUND(C2114/365*F2105,0)","v":0},{"$f":"+IF(F2108>=E2114,E2114,F2108)","v":0},{"$f":"+Tariffe!$A$3*F2114","v":0},{"$f":"+Tariffe!$B$3*F2114*$F$6","v":0},{"$f":"+Tariffe!$C$3*F2114*$F$7","v":0},null,null,null,null,null,null,{"$f":"+ROUND((G2114+H2114+I2114),2)","v":0}]
[null,{"$f":"+C2114+1","v":1},{"$f":"IF(F2108=0,0,VLOOKUP(F2109,Fasce!A:C,3,FALSE))","v":0},{"$f":"+E2114","v":0},{"$f":"+ROUND(C2115/365*F2105,0)","v":0},{"$f":"+IF(F2108>=E2115,E2115-E2114,IF(F2108>=E2114,F2108-E2114,IF(F2108<E2114,0)))","v":0},{"$f":"+Tariffe!$A$4*F2115","v":0},{"$f":"+Tariffe!$B$3*F2115*$F$6","v":0},{"$f":"+Tariffe!$C$3*F2115*$F$7","v":0},null,null,null,null,null,null,0]
[null,1,{"$f":"IF(F2108=0,0,VLOOKUP(F2109,Fasce!A:D,4,FALSE))","v":0},0,{"$f":"+ROUND(C2116/365*F2105,0)","v":0},{"$f":"+IF(F2108>=E2116,E2116-E2115,IF(F2108>=E2115,F2108-E2115,IF(F2108<E2115,0)))","v":0},{"$f":"+Tariffe!$A$5*F2116","v":0},{"$f":"+Tariffe!$B$3*F2116*$F$6","v":0},{"$f":"+Tariffe!$C$3*F2116*$F$7","v":0},null,null,null,null,null,null,0]
[null,1,{"$f":"IF(F2108=0,0,VLOOKUP(F2109,Fasce!A:E,5,FALSE))","v":0},0,{"$f":"+ROUND(C2117/365*F2105,0)","v":0},{"$f":"+IF(F2108>=E2117,E2117-E2116,IF(F2108>=E2116,F2108-E2116,IF(F2108<E2116,0)))","v":0},{"$f":"+Tariffe!$A$6*F2117","v":0},{"$f":"+Tariffe!$B$3*F2117*$F$6","v":0},{"$f":"+Tariffe!$C$3*F2117*$F$7","v":0},null,null,null,null,null,null,0]
[null,1,999999,0,999999,{"$f":"+IF(F2108>=E2118,E2118-E2117,IF(F2108>=E2117,F2108-E2117,IF(F2108<E2117,0,F2108-E2117)))","v":0},{"$f":"+Tariffe!$A$7*F2118","v":0},{"$f":"+Tariffe!$B$3*F2118*$F$6","v":0},{"$f":"+Tariffe!$C$3*F2118*$F$7","v":0},null,null,null,null,null,null,0]
[null,null,null,null,null,null,null,null,null,{"$f":"+IF(A2101>'Tabella ripartizione'!$L$3,0,Tariffe!$E$3*F2105/365)","v":0},{"$f":"+IF(A2101>'Tabella ripartizione'!$L$3,0,Tariffe!$F$3*F2105/365*F2106)","v":0},{"$f":"+IF(A2101>'Tabella ripartizione'!$L$3,0,Tariffe!$G$3*F2105/365*F2107)","v":0},null,null,null,{"$f":"+ROUND(J2119+K2119+L2119,2)","v":0}]
[null,null,null,null,null,null,null,null,null,null,null,null,{"$f":"+(Tariffe!$I$3+Tariffe!$J$3+Tariffe!$K$3+Tariffe!$L$3+Tariffe!$M$3)*F2108","v":0},{"$f":"+(Tariffe!$I$3+Tariffe!$J$3+Tariffe!$K$3+Tariffe!$L$3+Tariffe!$M$3)*F2108*F2106","v":0},{"$f":"+(Tariffe!$I$3+Tariffe!$J$3+Tariffe!$K$3+Tariffe!$L$3+Tariffe!$M$3)*F2108*F2107","v":0},{"$f":"+ROUND(M2120+N2120+O2120,2)","v":0}]
[null,null,null,null,null,null,null,null,null,null,null,null,null,null,null,{"$f":"SUM(P2114:P2120)","v":0},"Imponibile"]
[null,null,null,null,null,null,null,null,null,null,null,null,null,null,null,{"$f":"+ROUND(P2121*0.1,2)","v":0},"IVA (10%)"]
[null,null,null,null,null,null,null,null,null,null,null,null,null,null,null,{"$f":"+P2122+P2121","v":0},"Totale corrispettivi"]
[]
[]
[{"$f":"+A2101+1","v":86},null,null,null,null,null,"Impoto"]
[{"$f":"CONCATENATE(\"Unità domestica residente #\",A2126)","v":"Unità domestica residente #86"},null,null,null,null,null,{"$f":"+P2148","v":0}]
["Data inizio periodo consumo",null,null,null,null,{"$f":"+'Tabella ripartizione'!$C$3","v":"00:00:00"}]
["Data fine periodo consumo",null,null,null,null,{"$f":"+'Tabella ripartizione'!$C$4","v":"00:00:00"}]
["Giorni di consumo",null,null,null,null,{"$f":"+F2129-F2128+1","v":1}]
["Fognatura",null,null,null,null,{"$f":"+'Tabella ripartizione'!$C$6","v":1},"(0 = esente, 1=assoggettato)"]
["Depurazione",null,null,null,null,{"$f":"+'Tabella ripartizione'!$C$7","v":1},"(0 = esente, 1=assoggettato)"]
["Consumo misurato",null,null,null,null,{"$f":"SUMIF('Tabella ripartizione'!$B:$B,A2127,'Tabella ripartizione'!$C:$C)","v":0}]
["Numero di componenti nucleo familiare",null,null,null,null,{"$f":"SUMIF('Tabella ripartizione'!$B:$B,A2127,'Tabella ripartizione'!$D:$D)","v":0}]
[]
["Tariffe TICSI 2022"]
["Domestico Residente","Fasce anno (m3)",null,"Fasce pro-die (m3)",null,"mc riarticolati","Importi servizio",null,null,"Importi Quota fissa",null,null,"Importi perequazione"]
[null,"da","a","da","a",{"$f":"+F2143+F2142+F2141+F2140+F2139","v":0},"Acqua","Fogna","Depurazione","Acqua","Fogna","Depurazione","Acqua","Fogna","Depurazione","Totali"]
[null,0,{"$f":"IF(F2133=0,0,VLOOKUP(F2134,Fasce!A:B,2,FALSE))","v":0},0,{"$f":"+ROUND(C2139/365*F2130,0)","v":0},{"$f":"+IF(F2133>=E2139,E2139,F2133)","v":0},{"$f":"+Tariffe!$A$3*F2139","v":0},{"$f":"+Tariffe!$B$3*F2139*$F$6","v":0},{"$f":"+Tariffe!$C$3*F2139*$F$7","v":0},null,null,null,null,null,null,{"$f":"+ROUND((G2139+H2139+I2139),2)","v":0}]
[null,{"$f":"+C2139+1","v":1},{"$f":"IF(F2133=0,0,VLOOKUP(F2134,Fasce!A:C,3,FALSE))","v":0},{"$f":"+E2139","v":0},{"$f":"+ROUND(C2140/365*F2130,0)","v":0},{"$f":"+IF(F2133>=E2140,E2140-E2139,IF(F2133>=E2139,F2133-E2139,IF(F2133<E2139,0)))","v":0},{"$f":"+Tariffe!$A$4*F2140","v":0},{"$f":"+Tariffe!$B$3*F2140*$F$6","v":0},{"$f":"+Tariffe!$C$3*F2140*$F$7","v":0},null,null,null,null,null,null,0]
[null,1,{"$f":"IF(F2133=0,0,VLOOKUP(F2134,Fasce!A:D,4,FALSE))","v":0},0,{"$f":"+ROUND(C2141/365*F2130,0)","v":0},{"$f":"+IF(F2133>=E2141,E2141-E2140,IF(F2133>=E2140,F2133-E2140,IF(F2133<E2140,0)))","v":0},{"$f":"+Tariffe!$A$5*F2141","v":0},{"$f":"+Tariffe!$B$3*F2141*$F$6","v":0},{"$f":"+Tariffe!$C$3*F2141*$F$7","v":0},null,null,null,null,null,null,0]
[null,1,{"$f":"IF(F2133=0,0,VLOOKUP(F2134,Fasce!A:E,5,FALSE))","v":0},0,{"$f":"+ROUND(C2142/365*F2130,0)","v":0},{"$f":"+IF(F2133>=E2142,E2142-E2141,IF(F2133>=E2141,F2133-E2141,IF(F2133<E2141,0)))","v":0},{"$f":"+Tariffe!$A$6*F2142","v":0},{"$f":"+Tariffe!$B$3*F2142*$F$6","v":0},{"$f":"+Tariffe!$C$3*F2142*$F$7","v":0},null,null,null,null,null,null,0]
[null,1,999999,0,999999,{"$f":"+IF(F2133>=E2143,E2143-E2142,IF(F2133>=E2142,F2133-E2142,IF(F2133<E2142,0,F2133-E2142)))","v":0},{"$f":"+Tariffe!$A$7*F2143","v":0},{"$f":"+Tariffe!$B$3*F2143*$F$6","v":0},{"$f":"+Tariffe!$C$3*F2143*$F$7","v":0},null,null,null,null,null,null,0]
[null,null,null,null,null,null,null,null,null,{"$f":"+IF(A2126>'Tabella ripartizione'!$L$3,0,Tariffe!$E$3*F2130/365)","v":0},{"$f":"+IF(A2126>'Tabella ripartizione'!$L$3,0,Tariffe!$F$3*F2130/365*F2131)","v":0},{"$f":"+IF(A2126>'Tabella ripartizione'!$L$3,0,Tariffe!$G$3*F2130/365*F2132)","v":0},null,null,null,{"$f":"+ROUND(J2144+K2144+L2144,2)","v":0}]
[null,null,null,null,null,null,null,null,null,null,null,null,{"$f":"+(Tariffe!$I$3+Tariffe!$J$3+Tariffe!$K$3+Tariffe!$L$3+Tariffe!$M$3)*F2133","v":0},{"$f":"+(Tariffe!$I$3+Tariffe!$J$3+Tariffe!$K$3+Tariffe!$L$3+Tariffe!$M$3)*F2133*F2131","v":0},{"$f":"+(Tariffe!$I$3+Tariffe!$J$3+Tariffe!$K$3+Tariffe!$L$3+Tariffe!$M$3)*F2133*F2132","v":0},{"$f":"+ROUND(M2145+N2145+O2145,2)","v":0}]
[null,null,null,null,null,null,null,null,null,null,null,null,null,null,null,{"$f":"SUM(P2139:P2145)","v":0},"Imponibile"]
[null,null,null,null,null,null,null,null,null,null,null,null,null,null,null,{"$f":"+ROUND(P2146*0.1,2)","v":0},"IVA (10%)"]
[null,null,null,null,null,null,null,null,null,null,null,null,null,null,null,{"$f":"+P2147+P2146","v":0},"Totale corrispettivi"]
[]
[]
[{"$f":"+A2126+1","v":87},null,null,null,null,null,"Impoto"]
[{"$f":"CONCATENATE(\"Unità domestica residente #\",A2151)","v":"Unità domestica residente #87"},null,null,null,null,null,{"$f":"+P2173","v":0}]
["Data inizio periodo consumo",null,null,null,null,{"$f":"+'Tabella ripartizione'!$C$3","v":"00:00:00"}]
["Data fine periodo consumo",null,null,null,null,{"$f":"+'Tabella ripartizione'!$C$4","v":"00:00:00"}]
["Giorni di consumo",null,null,null,null,{"$f":"+F2154-F2153+1","v":1}]
["Fognatura",null,null,null,null,{"$f":"+'Tabella ripartizione'!$C$6","v":1},"(0 = esente, 1=assoggettato)"]
["Depurazione",null,null,null,null,{"$f":"+'Tabella ripartizione'!$C$7","v":1},"(0 = esente, 1=assoggettato)"]
["Consumo misurato",null,null,null,null,{"$f":"SUMIF('Tabella ripartizione'!$B:$B,A2152,'Tabella ripartizione'!$C:$C)","v":0}]
["Numero di componenti nucleo familiare",null,null,null,null,{"$f":"SUMIF('Tabella ripartizione'!$B:$B,A2152,'Tabella ripartizione'!$D:$D)","v":0}]
[]
["Tariffe TICSI 2022"]
["Domestico Residente","Fasce anno (m3)",null,"Fasce pro-die (m3)",null,"mc riarticolati","Importi servizio",null,null,"Importi Quota fissa",null,null,"Importi perequazione"]
[null,"da","a","da","a",{"$f":"+F2168+F2167+F2166+F2165+F2164","v":0},"Acqua","Fogna","Depurazione","Acqua","Fogna","Depurazione","Acqua","Fogna","Depurazione","Totali"]
[null,0,{"$f":"IF(F2158=0,0,VLOOKUP(F2159,Fasce!A:B,2,FALSE))","v":0},0,{"$f":"+ROUND(C2164/365*F2155,0)","v":0},{"$f":"+IF(F2158>=E2164,E2164,F2158)","v":0},{"$f":"+Tariffe!$A$3*F2164","v":0},{"$f":"+Tariffe!$B$3*F2164*$F$6","v":0},{"$f":"+Tariffe!$C$3*F2164*$F$7","v":0},null,null,null,null,null,null,{"$f":"+ROUND((G2164+H2164+I2164),2)","v":0}]
[null,{"$f":"+C2164+1","v":1},{"$f":"IF(F2158=0,0,VLOOKUP(F2159,Fasce!A:C,3,FALSE))","v":0},{"$f":"+E2164","v":0},{"$f":"+ROUND(C2165/365*F2155,0)","v":0},{"$f":"+IF(F2158>=E2165,E2165-E2164,IF(F2158>=E2164,F2158-E2164,IF(F2158<E2164,0)))","v":0},{"$f":"+Tariffe!$A$4*F2165","v":0},{"$f":"+Tariffe!$B$3*F2165*$F$6","v":0},{"$f":"+Tariffe!$C$3*F2165*$F$7","v":0},null,null,null,null,null,null,0]
[null,1,{"$f":"IF(F2158=0,0,VLOOKUP(F2159,Fasce!A:D,4,FALSE))","v":0},0,{"$f":"+ROUND(C2166/365*F2155,0)","v":0},{"$f":"+IF(F2158>=E2166,E2166-E2165,IF(F2158>=E2165,F2158-E2165,IF(F2158<E2165,0)))","v":0},{"$f":"+Tariffe!$A$5*F2166","v":0},{"$f":"+Tariffe!$B$3*F2166*$F$6","v":0},{"$f":"+Tariffe!$C$3*F2166*$F$7","v":0},null,null,null,null,null,null,0]
[null,1,{"$f":"IF(F2158=0,0,VLOOKUP(F2159,Fasce!A:E,5,FALSE))","v":0},0,{"$f":"+ROUND(C2167/365*F2155,0)","v":0},{"$f":"+IF(F2158>=E2167,E2167-E2166,IF(F2158>=E2166,F2158-E2166,IF(F2158<E2166,0)))","v":0},{"$f":"+Tariffe!$A$6*F2167","v":0},{"$f":"+Tariffe!$B$3*F2167*$F$6","v":0},{"$f":"+Tariffe!$C$3*F2167*$F$7","v":0},null,null,null,null,null,null,0]
[null,1,999999,0,999999,{"$f":"+IF(F2158>=E2168,E2168-E2167,IF(F2158>=E2167,F2158-E2167,IF(F2158<E2167,0,F2158-E2167)))","v":0},{"$f":"+Tariffe!$A$7*F2168","v":0},{"$f":"+Tariffe!$B$3*F2168*$F$6","v":0},{"$f":"+Tariffe!$C$3*F2168*$F$7","v":0},null,null,null,null,null,null,0]
[null,null,null,null,null,null,null,null,null,{"$f":"+IF(A2151>'Tabella ripartizione'!$L$3,0,Tariffe!$E$3*F2155/365)","v":0},{"$f":"+IF(A2151>'Tabella ripartizione'!$L$3,0,Tariffe!$F$3*F2155/365*F2156)","v":0},{"$f":"+IF(A2151>'Tabella ripartizione'!$L$3,0,Tariffe!$G$3*F2155/365*F2157)","v":0},null,null,null,{"$f":"+ROUND(J2169+K2169+L2169,2)","v":0}]
[null,null,null,null,null,null,null,null,null,null,null,null,{"$f":"+(Tariffe!$I$3+Tariffe!$J$3+Tariffe!$K$3+Tariffe!$L$3+Tariffe!$M$3)*F2158","v":0},{"$f":"+(Tariffe!$I$3+Tariffe!$J$3+Tariffe!$K$3+Tariffe!$L$3+Tariffe!$M$3)*F2158*F2156","v":0},{"$f":"+(Tariffe!$I$3+Tariffe!$J$3+Tariffe!$K$3+Tariffe!$L$3+Tariffe!$M$3)*F2158*F2157","v":0},{"$f":"+ROUND(M2170+N2170+O2170,2)","v":0}]
[null,null,null,null,null,null,null,null,null,null,null,null,null,null,null,{"$f":"SUM(P2164:P2170)","v":0},"Imponibile"]
[null,null,null,null,null,null,null,null,null,null,null,null,null,null,null,{"$f":"+ROUND(P2171*0.1,2)","v":0},"IVA (10%)"]
[null,null,null,null,null,null,null,null,null,null,null,null,null,null,null,{"$f":"+P2172+P2171","v":0},"Totale corrispettivi"]
[]
[]
[{"$f":"+A2151+1","v":88},null,null,null,null,null,"Impoto"]
[{"$f":"CONCATENATE(\"Unità domestica residente #\",A2176)","v":"Unità domestica residente #88"},null,null,null,null,null,{"$f":"+P2198","v":0}]
["Data inizio periodo consumo",null,null,null,null,{"$f":"+'Tabella ripartizione'!$C$3","v":"00:00:00"}]
["Data fine periodo consumo",null,null,null,null,{"$f":"+'Tabella ripartizione'!$C$4","v":"00:00:00"}]
["Giorni di consumo",null,null,null,null,{"$f":"+F2179-F2178+1","v":1}]
["Fognatura",null,null,null,null,{"$f":"+'Tabella ripartizione'!$C$6","v":1},"(0 = esente, 1=assoggettato)"]
["Depurazione",null,null,null,null,{"$f":"+'Tabella ripartizione'!$C$7","v":1},"(0 = esente, 1=assoggettato)"]
["Consumo misurato",null,null,null,null,{"$f":"SUMIF('Tabella ripartizione'!$B:$B,A2177,'Tabella ripartizione'!$C:$C)","v":0}]
["Numero di componenti nucleo familiare",null,null,null,null,{"$f":"SUMIF('Tabella ripartizione'!$B:$B,A2177,'Tabella ripartizione'!$D:$D)","v":0}]
[]
["Tariffe TICSI 2022"]
["Domestico Residente","Fasce anno (m3)",null,"Fasce pro-die (m3)",null,"mc riarticolati","Importi servizio",null,null,"Importi Quota fissa",null,null,"Importi perequazione"]
[null,"da","a","da","a",{"$f":"+F2193+F2192+F2191+F2190+F2189","v":0},"Acqua","Fogna","Depurazione","Acqua","Fogna","Depurazione","Acqua","Fogna","Depurazione","Totali"]
[null,0,{"$f":"IF(F2183=0,0,VLOOKUP(F2184,Fasce!A:B,2,FALSE))","v":0},0,{"$f":"+ROUND(C2189/365*F2180,0)","v":0},{"$f":"+IF(F2183>=E2189,E2189,F2183)","v":0},{"$f":"+Tariffe!$A$3*F2189","v":0},{"$f":"+Tariffe!$B$3*F2189*$F$6","v":0},{"$f":"+Tariffe!$C$3*F2189*$F$7","v":0},null,null,null,null,null,null,{"$f":"+ROUND((G2189+H2189+I2189),2)","v":0}]
[null,{"$f":"+C2189+1","v":1},{"$f":"IF(F2183=0,0,VLOOKUP(F2184,Fasce!A:C,3,FALSE))","v":0},{"$f":"+E2189","v":0},{"$f":"+ROUND(C2190/365*F2180,0)","v":0},{"$f":"+IF(F2183>=E2190,E2190-E2189,IF(F2183>=E2189,F2183-E2189,IF(F2183<E2189,0)))","v":0},{"$f":"+Tariffe!$A$4*F2190","v":0},{"$f":"+Tariffe!$B$3*F2190*$F$6","v":0},{"$f":"+Tariffe!$C$3*F2190*$F$7","v":0},null,null,null,null,null,null,0]
[null,1,{"$f":"IF(F2183=0,0,VLOOKUP(F2184,Fasce!A:D,4,FALSE))","v":0},0,{"$f":"+ROUND(C2191/365*F2180,0)","v":0},{"$f":"+IF(F2183>=E2191,E2191-E2190,IF(F2183>=E2190,F2183-E2190,IF(F2183<E2190,0)))","v":0},{"$f":"+Tariffe!$A$5*F2191","v":0},{"$f":"+Tariffe!$B$3*F2191*$F$6","v":0},{"$f":"+Tariffe!$C$3*F2191*$F$7","v":0},null,null,null,null,null,null,0]
[null,1,{"$f":"IF(F2183=0,0,VLOOKUP(F2184,Fasce!A:E,5,FALSE))","v":0},0,{"$f":"+ROUND(C2192/365*F2180,0)","v":0},{"$f":"+IF(F2183>=E2192,E2192-E2191,IF(F2183>=E2191,F2183-E2191,IF(F2183<E2191,0)))","v":0},{"$f":"+Tariffe!$A$6*F2192","v":0},{"$f":"+Tariffe!$B$3*F2192*$F$6","v":0},{"$f":"+Tariffe!$C$3*F2192*$F$7","v":0},null,null,null,null,null,null,0]
[null,1,999999,0,999999,{"$f":"+IF(F2183>=E2193,E2193-E2192,IF(F2183>=E2192,F2183-E2192,IF(F2183<E2192,0,F2183-E2192)))","v":0},{"$f":"+Tariffe!$A$7*F2193","v":0},{"$f":"+Tariffe!$B$3*F2193*$F$6","v":0},{"$f":"+Tariffe!$C$3*F2193*$F$7","v":0},null,null,null,null,null,null,0]
[null,null,null,null,null,null,null,null,null,{"$f":"+IF(A2176>'Tabella ripartizione'!$L$3,0,Tariffe!$E$3*F2180/365)","v":0},{"$f":"+IF(A2176>'Tabella ripartizione'!$L$3,0,Tariffe!$F$3*F2180/365*F2181)","v":0},{"$f":"+IF(A2176>'Tabella ripartizione'!$L$3,0,Tariffe!$G$3*F2180/365*F2182)","v":0},null,null,null,{"$f":"+ROUND(J2194+K2194+L2194,2)","v":0}]
[null,null,null,null,null,null,null,null,null,null,null,null,{"$f":"+(Tariffe!$I$3+Tariffe!$J$3+Tariffe!$K$3+Tariffe!$L$3+Tariffe!$M$3)*F2183","v":0},{"$f":"+(Tariffe!$I$3+Tariffe!$J$3+Tariffe!$K$3+Tariffe!$L$3+Tariffe!$M$3)*F2183*F2181","v":0},{"$f":"+(Tariffe!$I$3+Tariffe!$J$3+Tariffe!$K$3+Tariffe!$L$3+Tariffe!$M$3)*F2183*F2182","v":0},{"$f":"+ROUND(M2195+N2195+O2195,2)","v":0}]
[null,null,null,null,null,null,null,null,null,null,null,null,null,null,null,{"$f":"SUM(P2189:P2195)","v":0},"Imponibile"]
[null,null,null,null,null,null,null,null,null,null,null,null,null,null,null,{"$f":"+ROUND(P2196*0.1,2)","v":0},"IVA (10%)"]
[null,null,null,null,null,null,null,null,null,null,null,null,null,null,null,{"$f":"+P2197+P2196","v":0},"Totale corrispettivi"]
[]
[]
[{"$f":"+A2176+1","v":89},null,null,null,null,null,"Impoto"]
[{"$f":"CONCATENATE(\"Unità domestica residente #\",A2201)","v":"Unità domestica residente #89"},null,null,null,null,null,{"$f":"+P2223","v":0}]
["Data inizio periodo consumo",null,null,null,null,{"$f":"+'Tabella ripartizione'!$C$3","v":"00:00:00"}]
["Data fine periodo consumo",null,null,null,null,{"$f":"+'Tabella ripartizione'!$C$4","v":"00:00:00"}]
["Giorni di consumo",null,null,null,null,{"$f":"+F2204-F2203+1","v":1}]
["Fognatura",null,null,null,null,{"$f":"+'Tabella ripartizione'!$C$6","v":1},"(0 = esente, 1=assoggettato)"]
["Depurazione",null,null,null,null,{"$f":"+'Tabella ripartizione'!$C$7","v":1},"(0 = esente, 1=assoggettato)"]
["Consumo misurato",null,null,null,null,{"$f":"SUMIF('Tabella ripartizione'!$B:$B,A2202,'Tabella ripartizione'!$C:$C)","v":0}]
["Numero di componenti nucleo familiare",null,null,null,null,{"$f":"SUMIF('Tabella ripartizione'!$B:$B,A2202,'Tabella ripartizione'!$D:$D)","v":0}]
[]
["Tariffe TICSI 2022"]
["Domestico Residente","Fasce anno (m3)",null,"Fasce pro-die (m3)",null,"mc riarticolati","Importi servizio",null,null,"Importi Quota fissa",null,null,"Importi perequazione"]
[null,"da","a","da","a",{"$f":"+F2218+F2217+F2216+F2215+F2214","v":0},"Acqua","Fogna","Depurazione","Acqua","Fogna","Depurazione","Acqua","Fogna","Depurazione","Totali"]
[null,0,{"$f":"IF(F2208=0,0,VLOOKUP(F2209,Fasce!A:B,2,FALSE))","v":0},0,{"$f":"+ROUND(C2214/365*F2205,0)","v":0},{"$f":"+IF(F2208>=E2214,E2214,F2208)","v":0},{"$f":"+Tariffe!$A$3*F2214","v":0},{"$f":"+Tariffe!$B$3*F2214*$F$6","v":0},{"$f":"+Tariffe!$C$3*F2214*$F$7","v":0},null,null,null,null,null,null,{"$f":"+ROUND((G2214+H2214+I2214),2)","v":0}]
[null,{"$f":"+C2214+1","v":1},{"$f":"IF(F2208=0,0,VLOOKUP(F2209,Fasce!A:C,3,FALSE))","v":0},{"$f":"+E2214","v":0},{"$f":"+ROUND(C2215/365*F2205,0)","v":0},{"$f":"+IF(F2208>=E2215,E2215-E2214,IF(F2208>=E2214,F2208-E2214,IF(F2208<E2214,0)))","v":0},{"$f":"+Tariffe!$A$4*F2215","v":0},{"$f":"+Tariffe!$B$3*F2215*$F$6","v":0},{"$f":"+Tariffe!$C$3*F2215*$F$7","v":0},null,null,null,null,null,null,0]
[null,1,{"$f":"IF(F2208=0,0,VLOOKUP(F2209,Fasce!A:D,4,FALSE))","v":0},0,{"$f":"+ROUND(C2216/365*F2205,0)","v":0},{"$f":"+IF(F2208>=E2216,E2216-E2215,IF(F2208>=E2215,F2208-E2215,IF(F2208<E2215,0)))","v":0},{"$f":"+Tariffe!$A$5*F2216","v":0},{"$f":"+Tariffe!$B$3*F2216*$F$6","v":0},{"$f":"+Tariffe!$C$3*F2216*$F$7","v":0},null,null,null,null,null,null,0]
[null,1,{"$f":"IF(F2208=0,0,VLOOKUP(F2209,Fasce!A:E,5,FALSE))","v":0},0,{"$f":"+ROUND(C2217/365*F2205,0)","v":0},{"$f":"+IF(F2208>=E2217,E2217-E2216,IF(F2208>=E2216,F2208-E2216,IF(F2208<E2216,0)))","v":0},{"$f":"+Tariffe!$A$6*F2217","v":0},{"$f":"+Tariffe!$B$3*F2217*$F$6","v":0},{"$f":"+Tariffe!$C$3*F2217*$F$7","v":0},null,null,null,null,null,null,0]
[null,1,999999,0,999999,{"$f":"+IF(F2208>=E2218,E2218-E2217,IF(F2208>=E2217,F2208-E2217,IF(F2208<E2217,0,F2208-E2217)))","v":0},{"$f":"+Tariffe!$A$7*F2218","v":0},{"$f":"+Tariffe!$B$3*F2218*$F$6","v":0},{"$f":"+Tariffe!$C$3*F2218*$F$7","v":0},null,null,null,null,null,null,0]
[null,null,null,null,null,null,null,null,null,{"$f":"+IF(A2201>'Tabella ripartizione'!$L$3,0,Tariffe!$E$3*F2205/365)","v":0},{"$f":"+IF(A2201>'Tabella ripartizione'!$L$3,0,Tariffe!$F$3*F2205/365*F2206)","v":0},{"$f":"+IF(A2201>'Tabella ripartizione'!$L$3,0,Tariffe!$G$3*F2205/365*F2207)","v":0},null,null,null,{"$f":"+ROUND(J2219+K2219+L2219,2)","v":0}]
[null,null,null,null,null,null,null,null,null,null,null,null,{"$f":"+(Tariffe!$I$3+Tariffe!$J$3+Tariffe!$K$3+Tariffe!$L$3+Tariffe!$M$3)*F2208","v":0},{"$f":"+(Tariffe!$I$3+Tariffe!$J$3+Tariffe!$K$3+Tariffe!$L$3+Tariffe!$M$3)*F2208*F2206","v":0},{"$f":"+(Tariffe!$I$3+Tariffe!$J$3+Tariffe!$K$3+Tariffe!$L$3+Tariffe!$M$3)*F2208*F2207","v":0},{"$f":"+ROUND(M2220+N2220+O2220,2)","v":0}]
[null,null,null,null,null,null,null,null,null,null,null,null,null,null,null,{"$f":"SUM(P2214:P2220)","v":0},"Imponibile"]
[null,null,null,null,null,null,null,null,null,null,null,null,null,null,null,{"$f":"+ROUND(P2221*0.1,2)","v":0},"IVA (10%)"]
[null,null,null,null,null,null,null,null,null,null,null,null,null,null,null,{"$f":"+P2222+P2221","v":0},"Totale corrispettivi"]
[]
[]
[{"$f":"+A2201+1","v":90},null,null,null,null,null,"Impoto"]
[{"$f":"CONCATENATE(\"Unità domestica residente #\",A2226)","v":"Unità domestica residente #90"},null,null,null,null,null,{"$f":"+P2248","v":0}]
["Data inizio periodo consumo",null,null,null,null,{"$f":"+'Tabella ripartizione'!$C$3","v":"00:00:00"}]
["Data fine periodo consumo",null,null,null,null,{"$f":"+'Tabella ripartizione'!$C$4","v":"00:00:00"}]
["Giorni di consumo",null,null,null,null,{"$f":"+F2229-F2228+1","v":1}]
["Fognatura",null,null,null,null,{"$f":"+'Tabella ripartizione'!$C$6","v":1},"(0 = esente, 1=assoggettato)"]
["Depurazione",null,null,null,null,{"$f":"+'Tabella ripartizione'!$C$7","v":1},"(0 = esente, 1=assoggettato)"]
["Consumo misurato",null,null,null,null,{"$f":"SUMIF('Tabella ripartizione'!$B:$B,A2227,'Tabella ripartizione'!$C:$C)","v":0}]
["Numero di componenti nucleo familiare",null,null,null,null,{"$f":"SUMIF('Tabella ripartizione'!$B:$B,A2227,'Tabella ripartizione'!$D:$D)","v":0}]
[]
["Tariffe TICSI 2022"]
["Domestico Residente","Fasce anno (m3)",null,"Fasce pro-die (m3)",null,"mc riarticolati","Importi servizio",null,null,"Importi Quota fissa",null,null,"Importi perequazione"]
[null,"da","a","da","a",{"$f":"+F2243+F2242+F2241+F2240+F2239","v":0},"Acqua","Fogna","Depurazione","Acqua","Fogna","Depurazione","Acqua","Fogna","Depurazione","Totali"]
[null,0,{"$f":"IF(F2233=0,0,VLOOKUP(F2234,Fasce!A:B,2,FALSE))","v":0},0,{"$f":"+ROUND(C2239/365*F2230,0)","v":0},{"$f":"+IF(F2233>=E2239,E2239,F2233)","v":0},{"$f":"+Tariffe!$A$3*F2239","v":0},{"$f":"+Tariffe!$B$3*F2239*$F$6","v":0},{"$f":"+Tariffe!$C$3*F2239*$F$7","v":0},null,null,null,null,null,null,{"$f":"+ROUND((G2239+H2239+I2239),2)","v":0}]
[null,{"$f":"+C2239+1","v":1},{"$f":"IF(F2233=0,0,VLOOKUP(F2234,Fasce!A:C,3,FALSE))","v":0},{"$f":"+E2239","v":0},{"$f":"+ROUND(C2240/365*F2230,0)","v":0},{"$f":"+IF(F2233>=E2240,E2240-E2239,IF(F2233>=E2239,F2233-E2239,IF(F2233<E2239,0)))","v":0},{"$f":"+Tariffe!$A$4*F2240","v":0},{"$f":"+Tariffe!$B$3*F2240*$F$6","v":0},{"$f":"+Tariffe!$C$3*F2240*$F$7","v":0},null,null,null,null,null,null,0]
[null,1,{"$f":"IF(F2233=0,0,VLOOKUP(F2234,Fasce!A:D,4,FALSE))","v":0},0,{"$f":"+ROUND(C2241/365*F2230,0)","v":0},{"$f":"+IF(F2233>=E2241,E2241-E2240,IF(F2233>=E2240,F2233-E2240,IF(F2233<E2240,0)))","v":0},{"$f":"+Tariffe!$A$5*F2241","v":0},{"$f":"+Tariffe!$B$3*F2241*$F$6","v":0},{"$f":"+Tariffe!$C$3*F2241*$F$7","v":0},null,null,null,null,null,null,0]
[null,1,{"$f":"IF(F2233=0,0,VLOOKUP(F2234,Fasce!A:E,5,FALSE))","v":0},0,{"$f":"+ROUND(C2242/365*F2230,0)","v":0},{"$f":"+IF(F2233>=E2242,E2242-E2241,IF(F2233>=E2241,F2233-E2241,IF(F2233<E2241,0)))","v":0},{"$f":"+Tariffe!$A$6*F2242","v":0},{"$f":"+Tariffe!$B$3*F2242*$F$6","v":0},{"$f":"+Tariffe!$C$3*F2242*$F$7","v":0},null,null,null,null,null,null,0]
[null,1,999999,0,999999,{"$f":"+IF(F2233>=E2243,E2243-E2242,IF(F2233>=E2242,F2233-E2242,IF(F2233<E2242,0,F2233-E2242)))","v":0},{"$f":"+Tariffe!$A$7*F2243","v":0},{"$f":"+Tariffe!$B$3*F2243*$F$6","v":0},{"$f":"+Tariffe!$C$3*F2243*$F$7","v":0},null,null,null,null,null,null,0]
[null,null,null,null,null,null,null,null,null,{"$f":"+IF(A2226>'Tabella ripartizione'!$L$3,0,Tariffe!$E$3*F2230/365)","v":0},{"$f":"+IF(A2226>'Tabella ripartizione'!$L$3,0,Tariffe!$F$3*F2230/365*F2231)","v":0},{"$f":"+IF(A2226>'Tabella ripartizione'!$L$3,0,Tariffe!$G$3*F2230/365*F2232)","v":0},null,null,null,{"$f":"+ROUND(J2244+K2244+L2244,2)","v":0}]
[null,null,null,null,null,null,null,null,null,null,null,null,{"$f":"+(Tariffe!$I$3+Tariffe!$J$3+Tariffe!$K$3+Tariffe!$L$3+Tariffe!$M$3)*F2233","v":0},{"$f":"+(Tariffe!$I$3+Tariffe!$J$3+Tariffe!$K$3+Tariffe!$L$3+Tariffe!$M$3)*F2233*F2231","v":0},{"$f":"+(Tariffe!$I$3+Tariffe!$J$3+Tariffe!$K$3+Tariffe!$L$3+Tariffe!$M$3)*F2233*F2232","v":0},{"$f":"+ROUND(M2245+N2245+O2245,2)","v":0}]
[null,null,null,null,null,null,null,null,null,null,null,null,null,null,null,{"$f":"SUM(P2239:P2245)","v":0},"Imponibile"]
[null,null,null,null,null,null,null,null,null,null,null,null,null,null,null,{"$f":"+ROUND(P2246*0.1,2)","v":0},"IVA (10%)"]
[null,null,null,null,null,null,null,null,null,null,null,null,null,null,null,{"$f":"+P2247+P2246","v":0},"Totale corrispettivi"]
[]
[]
[{"$f":"+A2226+1","v":91},null,null,null,null,null,"Impoto"]
[{"$f":"CONCATENATE(\"Unità domestica residente #\",A2251)","v":"Unità domestica residente #91"},null,null,null,null,null,{"$f":"+P2273","v":0}]
["Data inizio periodo consumo",null,null,null,null,{"$f":"+'Tabella ripartizione'!$C$3","v":"00:00:00"}]
["Data fine periodo consumo",null,null,null,null,{"$f":"+'Tabella ripartizione'!$C$4","v":"00:00:00"}]
["Giorni di consumo",null,null,null,null,{"$f":"+F2254-F2253+1","v":1}]
["Fognatura",null,null,null,null,{"$f":"+'Tabella ripartizione'!$C$6","v":1},"(0 = esente, 1=assoggettato)"]
["Depurazione",null,null,null,null,{"$f":"+'Tabella ripartizione'!$C$7","v":1},"(0 = esente, 1=assoggettato)"]
["Consumo misurato",null,null,null,null,{"$f":"SUMIF('Tabella ripartizione'!$B:$B,A2252,'Tabella ripartizione'!$C:$C)","v":0}]
["Numero di componenti nucleo familiare",null,null,null,null,{"$f":"SUMIF('Tabella ripartizione'!$B:$B,A2252,'Tabella ripartizione'!$D:$D)","v":0}]
[]
["Tariffe TICSI 2022"]
["Domestico Residente","Fasce anno (m3)",null,"Fasce pro-die (m3)",null,"mc riarticolati","Importi servizio",null,null,"Importi Quota fissa",null,null,"Importi perequazione"]
[null,"da","a","da","a",{"$f":"+F2268+F2267+F2266+F2265+F2264","v":0},"Acqua","Fogna","Depurazione","Acqua","Fogna","Depurazione","Acqua","Fogna","Depurazione","Totali"]
[null,0,{"$f":"IF(F2258=0,0,VLOOKUP(F2259,Fasce!A:B,2,FALSE))","v":0},0,{"$f":"+ROUND(C2264/365*F2255,0)","v":0},{"$f":"+IF(F2258>=E2264,E2264,F2258)","v":0},{"$f":"+Tariffe!$A$3*F2264","v":0},{"$f":"+Tariffe!$B$3*F2264*$F$6","v":0},{"$f":"+Tariffe!$C$3*F2264*$F$7","v":0},null,null,null,null,null,null,{"$f":"+ROUND((G2264+H2264+I2264),2)","v":0}]
[null,{"$f":"+C2264+1","v":1},{"$f":"IF(F2258=0,0,VLOOKUP(F2259,Fasce!A:C,3,FALSE))","v":0},{"$f":"+E2264","v":0},{"$f":"+ROUND(C2265/365*F2255,0)","v":0},{"$f":"+IF(F2258>=E2265,E2265-E2264,IF(F2258>=E2264,F2258-E2264,IF(F2258<E2264,0)))","v":0},{"$f":"+Tariffe!$A$4*F2265","v":0},{"$f":"+Tariffe!$B$3*F2265*$F$6","v":0},{"$f":"+Tariffe!$C$3*F2265*$F$7","v":0},null,null,null,null,null,null,0]
[null,1,{"$f":"IF(F2258=0,0,VLOOKUP(F2259,Fasce!A:D,4,FALSE))","v":0},0,{"$f":"+ROUND(C2266/365*F2255,0)","v":0},{"$f":"+IF(F2258>=E2266,E2266-E2265,IF(F2258>=E2265,F2258-E2265,IF(F2258<E2265,0)))","v":0},{"$f":"+Tariffe!$A$5*F2266","v":0},{"$f":"+Tariffe!$B$3*F2266*$F$6","v":0},{"$f":"+Tariffe!$C$3*F2266*$F$7","v":0},null,null,null,null,null,null,0]
[null,1,{"$f":"IF(F2258=0,0,VLOOKUP(F2259,Fasce!A:E,5,FALSE))","v":0},0,{"$f":"+ROUND(C2267/365*F2255,0)","v":0},{"$f":"+IF(F2258>=E2267,E2267-E2266,IF(F2258>=E2266,F2258-E2266,IF(F2258<E2266,0)))","v":0},{"$f":"+Tariffe!$A$6*F2267","v":0},{"$f":"+Tariffe!$B$3*F2267*$F$6","v":0},{"$f":"+Tariffe!$C$3*F2267*$F$7","v":0},null,null,null,null,null,null,0]
[null,1,999999,0,999999,{"$f":"+IF(F2258>=E2268,E2268-E2267,IF(F2258>=E2267,F2258-E2267,IF(F2258<E2267,0,F2258-E2267)))","v":0},{"$f":"+Tariffe!$A$7*F2268","v":0},{"$f":"+Tariffe!$B$3*F2268*$F$6","v":0},{"$f":"+Tariffe!$C$3*F2268*$F$7","v":0},null,null,null,null,null,null,0]
[null,null,null,null,null,null,null,null,null,{"$f":"+IF(A2251>'Tabella ripartizione'!$L$3,0,Tariffe!$E$3*F2255/365)","v":0},{"$f":"+IF(A2251>'Tabella ripartizione'!$L$3,0,Tariffe!$F$3*F2255/365*F2256)","v":0},{"$f":"+IF(A2251>'Tabella ripartizione'!$L$3,0,Tariffe!$G$3*F2255/365*F2257)","v":0},null,null,null,{"$f":"+ROUND(J2269+K2269+L2269,2)","v":0}]
[null,null,null,null,null,null,null,null,null,null,null,null,{"$f":"+(Tariffe!$I$3+Tariffe!$J$3+Tariffe!$K$3+Tariffe!$L$3+Tariffe!$M$3)*F2258","v":0},{"$f":"+(Tariffe!$I$3+Tariffe!$J$3+Tariffe!$K$3+Tariffe!$L$3+Tariffe!$M$3)*F2258*F2256","v":0},{"$f":"+(Tariffe!$I$3+Tariffe!$J$3+Tariffe!$K$3+Tariffe!$L$3+Tariffe!$M$3)*F2258*F2257","v":0},{"$f":"+ROUND(M2270+N2270+O2270,2)","v":0}]
[null,null,null,null,null,null,null,null,null,null,null,null,null,null,null,{"$f":"SUM(P2264:P2270)","v":0},"Imponibile"]
[null,null,null,null,null,null,null,null,null,null,null,null,null,null,null,{"$f":"+ROUND(P2271*0.1,2)","v":0},"IVA (10%)"]
[null,null,null,null,null,null,null,null,null,null,null,null,null,null,null,{"$f":"+P2272+P2271","v":0},"Totale corrispettivi"]
[]
[]
[{"$f":"+A2251+1","v":92},null,null,null,null,null,"Impoto"]
[{"$f":"CONCATENATE(\"Unità domestica residente #\",A2276)","v":"Unità domestica residente #92"},null,null,null,null,null,{"$f":"+P2298","v":0}]
["Data inizio periodo consumo",null,null,null,null,{"$f":"+'Tabella ripartizione'!$C$3","v":"00:00:00"}]
["Data fine periodo consumo",null,null,null,null,{"$f":"+'Tabella ripartizione'!$C$4","v":"00:00:00"}]
["Giorni di consumo",null,null,null,null,{"$f":"+F2279-F2278+1","v":1}]
["Fognatura",null,null,null,null,{"$f":"+'Tabella ripartizione'!$C$6","v":1},"(0 = esente, 1=assoggettato)"]
["Depurazione",null,null,null,null,{"$f":"+'Tabella ripartizione'!$C$7","v":1},"(0 = esente, 1=assoggettato)"]
["Consumo misurato",null,null,null,null,{"$f":"SUMIF('Tabella ripartizione'!$B:$B,A2277,'Tabella ripartizione'!$C:$C)","v":0}]
["Numero di componenti nucleo familiare",null,null,null,null,{"$f":"SUMIF('Tabella ripartizione'!$B:$B,A2277,'Tabella ripartizione'!$D:$D)","v":0}]
[]
["Tariffe TICSI 2022"]
["Domestico Residente","Fasce anno (m3)",null,"Fasce pro-die (m3)",null,"mc riarticolati","Importi servizio",null,null,"Importi Quota fissa",null,null,"Importi perequazione"]
[null,"da","a","da","a",{"$f":"+F2293+F2292+F2291+F2290+F2289","v":0},"Acqua","Fogna","Depurazione","Acqua","Fogna","Depurazione","Acqua","Fogna","Depurazione","Totali"]
[null,0,{"$f":"IF(F2283=0,0,VLOOKUP(F2284,Fasce!A:B,2,FALSE))","v":0},0,{"$f":"+ROUND(C2289/365*F2280,0)","v":0},{"$f":"+IF(F2283>=E2289,E2289,F2283)","v":0},{"$f":"+Tariffe!$A$3*F2289","v":0},{"$f":"+Tariffe!$B$3*F2289*$F$6","v":0},{"$f":"+Tariffe!$C$3*F2289*$F$7","v":0},null,null,null,null,null,null,{"$f":"+ROUND((G2289+H2289+I2289),2)","v":0}]
[null,{"$f":"+C2289+1","v":1},{"$f":"IF(F2283=0,0,VLOOKUP(F2284,Fasce!A:C,3,FALSE))","v":0},{"$f":"+E2289","v":0},{"$f":"+ROUND(C2290/365*F2280,0)","v":0},{"$f":"+IF(F2283>=E2290,E2290-E2289,IF(F2283>=E2289,F2283-E2289,IF(F2283<E2289,0)))","v":0},{"$f":"+Tariffe!$A$4*F2290","v":0},{"$f":"+Tariffe!$B$3*F2290*$F$6","v":0},{"$f":"+Tariffe!$C$3*F2290*$F$7","v":0},null,null,null,null,null,null,0]
[null,1,{"$f":"IF(F2283=0,0,VLOOKUP(F2284,Fasce!A:D,4,FALSE))","v":0},0,{"$f":"+ROUND(C2291/365*F2280,0)","v":0},{"$f":"+IF(F2283>=E2291,E2291-E2290,IF(F2283>=E2290,F2283-E2290,IF(F2283<E2290,0)))","v":0},{"$f":"+Tariffe!$A$5*F2291","v":0},{"$f":"+Tariffe!$B$3*F2291*$F$6","v":0},{"$f":"+Tariffe!$C$3*F2291*$F$7","v":0},null,null,null,null,null,null,0]
[null,1,{"$f":"IF(F2283=0,0,VLOOKUP(F2284,Fasce!A:E,5,FALSE))","v":0},0,{"$f":"+ROUND(C2292/365*F2280,0)","v":0},{"$f":"+IF(F2283>=E2292,E2292-E2291,IF(F2283>=E2291,F2283-E2291,IF(F2283<E2291,0)))","v":0},{"$f":"+Tariffe!$A$6*F2292","v":0},{"$f":"+Tariffe!$B$3*F2292*$F$6","v":0},{"$f":"+Tariffe!$C$3*F2292*$F$7","v":0},null,null,null,null,null,null,0]
[null,1,999999,0,999999,{"$f":"+IF(F2283>=E2293,E2293-E2292,IF(F2283>=E2292,F2283-E2292,IF(F2283<E2292,0,F2283-E2292)))","v":0},{"$f":"+Tariffe!$A$7*F2293","v":0},{"$f":"+Tariffe!$B$3*F2293*$F$6","v":0},{"$f":"+Tariffe!$C$3*F2293*$F$7","v":0},null,null,null,null,null,null,0]
[null,null,null,null,null,null,null,null,null,{"$f":"+IF(A2276>'Tabella ripartizione'!$L$3,0,Tariffe!$E$3*F2280/365)","v":0},{"$f":"+IF(A2276>'Tabella ripartizione'!$L$3,0,Tariffe!$F$3*F2280/365*F2281)","v":0},{"$f":"+IF(A2276>'Tabella ripartizione'!$L$3,0,Tariffe!$G$3*F2280/365*F2282)","v":0},null,null,null,{"$f":"+ROUND(J2294+K2294+L2294,2)","v":0}]
[null,null,null,null,null,null,null,null,null,null,null,null,{"$f":"+(Tariffe!$I$3+Tariffe!$J$3+Tariffe!$K$3+Tariffe!$L$3+Tariffe!$M$3)*F2283","v":0},{"$f":"+(Tariffe!$I$3+Tariffe!$J$3+Tariffe!$K$3+Tariffe!$L$3+Tariffe!$M$3)*F2283*F2281","v":0},{"$f":"+(Tariffe!$I$3+Tariffe!$J$3+Tariffe!$K$3+Tariffe!$L$3+Tariffe!$M$3)*F2283*F2282","v":0},{"$f":"+ROUND(M2295+N2295+O2295,2)","v":0}]
[null,null,null,null,null,null,null,null,null,null,null,null,null,null,null,{"$f":"SUM(P2289:P2295)","v":0},"Imponibile"]
[null,null,null,null,null,null,null,null,null,null,null,null,null,null,null,{"$f":"+ROUND(P2296*0.1,2)","v":0},"IVA (10%)"]
[null,null,null,null,null,null,null,null,null,null,null,null,null,null,null,{"$f":"+P2297+P2296","v":0},"Totale corrispettivi"]
[]
[]
[{"$f":"+A2276+1","v":93},null,null,null,null,null,"Impoto"]
[{"$f":"CONCATENATE(\"Unità domestica residente #\",A2301)","v":"Unità domestica residente #93"},null,null,null,null,null,{"$f":"+P2323","v":0}]
["Data inizio periodo consumo",null,null,null,null,{"$f":"+'Tabella ripartizione'!$C$3","v":"00:00:00"}]
["Data fine periodo consumo",null,null,null,null,{"$f":"+'Tabella ripartizione'!$C$4","v":"00:00:00"}]
["Giorni di consumo",null,null,null,null,{"$f":"+F2304-F2303+1","v":1}]
["Fognatura",null,null,null,null,{"$f":"+'Tabella ripartizione'!$C$6","v":1},"(0 = esente, 1=assoggettato)"]
["Depurazione",null,null,null,null,{"$f":"+'Tabella ripartizione'!$C$7","v":1},"(0 = esente, 1=assoggettato)"]
["Consumo misurato",null,null,null,null,{"$f":"SUMIF('Tabella ripartizione'!$B:$B,A2302,'Tabella ripartizione'!$C:$C)","v":0}]
["Numero di componenti nucleo familiare",null,null,null,null,{"$f":"SUMIF('Tabella ripartizione'!$B:$B,A2302,'Tabella ripartizione'!$D:$D)","v":0}]
[]
["Tariffe TICSI 2022"]
["Domestico Residente","Fasce anno (m3)",null,"Fasce pro-die (m3)",null,"mc riarticolati","Importi servizio",null,null,"Importi Quota fissa",null,null,"Importi perequazione"]
[null,"da","a","da","a",{"$f":"+F2318+F2317+F2316+F2315+F2314","v":0},"Acqua","Fogna","Depurazione","Acqua","Fogna","Depurazione","Acqua","Fogna","Depurazione","Totali"]
[null,0,{"$f":"IF(F2308=0,0,VLOOKUP(F2309,Fasce!A:B,2,FALSE))","v":0},0,{"$f":"+ROUND(C2314/365*F2305,0)","v":0},{"$f":"+IF(F2308>=E2314,E2314,F2308)","v":0},{"$f":"+Tariffe!$A$3*F2314","v":0},{"$f":"+Tariffe!$B$3*F2314*$F$6","v":0},{"$f":"+Tariffe!$C$3*F2314*$F$7","v":0},null,null,null,null,null,null,{"$f":"+ROUND((G2314+H2314+I2314),2)","v":0}]
[null,{"$f":"+C2314+1","v":1},{"$f":"IF(F2308=0,0,VLOOKUP(F2309,Fasce!A:C,3,FALSE))","v":0},{"$f":"+E2314","v":0},{"$f":"+ROUND(C2315/365*F2305,0)","v":0},{"$f":"+IF(F2308>=E2315,E2315-E2314,IF(F2308>=E2314,F2308-E2314,IF(F2308<E2314,0)))","v":0},{"$f":"+Tariffe!$A$4*F2315","v":0},{"$f":"+Tariffe!$B$3*F2315*$F$6","v":0},{"$f":"+Tariffe!$C$3*F2315*$F$7","v":0},null,null,null,null,null,null,0]
[null,1,{"$f":"IF(F2308=0,0,VLOOKUP(F2309,Fasce!A:D,4,FALSE))","v":0},0,{"$f":"+ROUND(C2316/365*F2305,0)","v":0},{"$f":"+IF(F2308>=E2316,E2316-E2315,IF(F2308>=E2315,F2308-E2315,IF(F2308<E2315,0)))","v":0},{"$f":"+Tariffe!$A$5*F2316","v":0},{"$f":"+Tariffe!$B$3*F2316*$F$6","v":0},{"$f":"+Tariffe!$C$3*F2316*$F$7","v":0},null,null,null,null,null,null,0]
[null,1,{"$f":"IF(F2308=0,0,VLOOKUP(F2309,Fasce!A:E,5,FALSE))","v":0},0,{"$f":"+ROUND(C2317/365*F2305,0)","v":0},{"$f":"+IF(F2308>=E2317,E2317-E2316,IF(F2308>=E2316,F2308-E2316,IF(F2308<E2316,0)))","v":0},{"$f":"+Tariffe!$A$6*F2317","v":0},{"$f":"+Tariffe!$B$3*F2317*$F$6","v":0},{"$f":"+Tariffe!$C$3*F2317*$F$7","v":0},null,null,null,null,null,null,0]
[null,1,999999,0,999999,{"$f":"+IF(F2308>=E2318,E2318-E2317,IF(F2308>=E2317,F2308-E2317,IF(F2308<E2317,0,F2308-E2317)))","v":0},{"$f":"+Tariffe!$A$7*F2318","v":0},{"$f":"+Tariffe!$B$3*F2318*$F$6","v":0},{"$f":"+Tariffe!$C$3*F2318*$F$7","v":0},null,null,null,null,null,null,0]
[null,null,null,null,null,null,null,null,null,{"$f":"+IF(A2301>'Tabella ripartizione'!$L$3,0,Tariffe!$E$3*F2305/365)","v":0},{"$f":"+IF(A2301>'Tabella ripartizione'!$L$3,0,Tariffe!$F$3*F2305/365*F2306)","v":0},{"$f":"+IF(A2301>'Tabella ripartizione'!$L$3,0,Tariffe!$G$3*F2305/365*F2307)","v":0},null,null,null,{"$f":"+ROUND(J2319+K2319+L2319,2)","v":0}]
[null,null,null,null,null,null,null,null,null,null,null,null,{"$f":"+(Tariffe!$I$3+Tariffe!$J$3+Tariffe!$K$3+Tariffe!$L$3+Tariffe!$M$3)*F2308","v":0},{"$f":"+(Tariffe!$I$3+Tariffe!$J$3+Tariffe!$K$3+Tariffe!$L$3+Tariffe!$M$3)*F2308*F2306","v":0},{"$f":"+(Tariffe!$I$3+Tariffe!$J$3+Tariffe!$K$3+Tariffe!$L$3+Tariffe!$M$3)*F2308*F2307","v":0},{"$f":"+ROUND(M2320+N2320+O2320,2)","v":0}]
[null,null,null,null,null,null,null,null,null,null,null,null,null,null,null,{"$f":"SUM(P2314:P2320)","v":0},"Imponibile"]
[null,null,null,null,null,null,null,null,null,null,null,null,null,null,null,{"$f":"+ROUND(P2321*0.1,2)","v":0},"IVA (10%)"]
[null,null,null,null,null,null,null,null,null,null,null,null,null,null,null,{"$f":"+P2322+P2321","v":0},"Totale corrispettivi"]
[]
[]
[{"$f":"+A2301+1","v":94},null,null,null,null,null,"Impoto"]
[{"$f":"CONCATENATE(\"Unità domestica residente #\",A2326)","v":"Unità domestica residente #94"},null,null,null,null,null,{"$f":"+P2348","v":0}]
["Data inizio periodo consumo",null,null,null,null,{"$f":"+'Tabella ripartizione'!$C$3","v":"00:00:00"}]
["Data fine periodo consumo",null,null,null,null,{"$f":"+'Tabella ripartizione'!$C$4","v":"00:00:00"}]
["Giorni di consumo",null,null,null,null,{"$f":"+F2329-F2328+1","v":1}]
["Fognatura",null,null,null,null,{"$f":"+'Tabella ripartizione'!$C$6","v":1},"(0 = esente, 1=assoggettato)"]
["Depurazione",null,null,null,null,{"$f":"+'Tabella ripartizione'!$C$7","v":1},"(0 = esente, 1=assoggettato)"]
["Consumo misurato",null,null,null,null,{"$f":"SUMIF('Tabella ripartizione'!$B:$B,A2327,'Tabella ripartizione'!$C:$C)","v":0}]
["Numero di componenti nucleo familiare",null,null,null,null,{"$f":"SUMIF('Tabella ripartizione'!$B:$B,A2327,'Tabella ripartizione'!$D:$D)","v":0}]
[]
["Tariffe TICSI 2022"]
["Domestico Residente","Fasce anno (m3)",null,"Fasce pro-die (m3)",null,"mc riarticolati","Importi servizio",null,null,"Importi Quota fissa",null,null,"Importi perequazione"]
[null,"da","a","da","a",{"$f":"+F2343+F2342+F2341+F2340+F2339","v":0},"Acqua","Fogna","Depurazione","Acqua","Fogna","Depurazione","Acqua","Fogna","Depurazione","Totali"]
[null,0,{"$f":"IF(F2333=0,0,VLOOKUP(F2334,Fasce!A:B,2,FALSE))","v":0},0,{"$f":"+ROUND(C2339/365*F2330,0)","v":0},{"$f":"+IF(F2333>=E2339,E2339,F2333)","v":0},{"$f":"+Tariffe!$A$3*F2339","v":0},{"$f":"+Tariffe!$B$3*F2339*$F$6","v":0},{"$f":"+Tariffe!$C$3*F2339*$F$7","v":0},null,null,null,null,null,null,{"$f":"+ROUND((G2339+H2339+I2339),2)","v":0}]
[null,{"$f":"+C2339+1","v":1},{"$f":"IF(F2333=0,0,VLOOKUP(F2334,Fasce!A:C,3,FALSE))","v":0},{"$f":"+E2339","v":0},{"$f":"+ROUND(C2340/365*F2330,0)","v":0},{"$f":"+IF(F2333>=E2340,E2340-E2339,IF(F2333>=E2339,F2333-E2339,IF(F2333<E2339,0)))","v":0},{"$f":"+Tariffe!$A$4*F2340","v":0},{"$f":"+Tariffe!$B$3*F2340*$F$6","v":0},{"$f":"+Tariffe!$C$3*F2340*$F$7","v":0},null,null,null,null,null,null,0]
[null,1,{"$f":"IF(F2333=0,0,VLOOKUP(F2334,Fasce!A:D,4,FALSE))","v":0},0,{"$f":"+ROUND(C2341/365*F2330,0)","v":0},{"$f":"+IF(F2333>=E2341,E2341-E2340,IF(F2333>=E2340,F2333-E2340,IF(F2333<E2340,0)))","v":0},{"$f":"+Tariffe!$A$5*F2341","v":0},{"$f":"+Tariffe!$B$3*F2341*$F$6","v":0},{"$f":"+Tariffe!$C$3*F2341*$F$7","v":0},null,null,null,null,null,null,0]
[null,1,{"$f":"IF(F2333=0,0,VLOOKUP(F2334,Fasce!A:E,5,FALSE))","v":0},0,{"$f":"+ROUND(C2342/365*F2330,0)","v":0},{"$f":"+IF(F2333>=E2342,E2342-E2341,IF(F2333>=E2341,F2333-E2341,IF(F2333<E2341,0)))","v":0},{"$f":"+Tariffe!$A$6*F2342","v":0},{"$f":"+Tariffe!$B$3*F2342*$F$6","v":0},{"$f":"+Tariffe!$C$3*F2342*$F$7","v":0},null,null,null,null,null,null,0]
[null,1,999999,0,999999,{"$f":"+IF(F2333>=E2343,E2343-E2342,IF(F2333>=E2342,F2333-E2342,IF(F2333<E2342,0,F2333-E2342)))","v":0},{"$f":"+Tariffe!$A$7*F2343","v":0},{"$f":"+Tariffe!$B$3*F2343*$F$6","v":0},{"$f":"+Tariffe!$C$3*F2343*$F$7","v":0},null,null,null,null,null,null,0]
[null,null,null,null,null,null,null,null,null,{"$f":"+IF(A2326>'Tabella ripartizione'!$L$3,0,Tariffe!$E$3*F2330/365)","v":0},{"$f":"+IF(A2326>'Tabella ripartizione'!$L$3,0,Tariffe!$F$3*F2330/365*F2331)","v":0},{"$f":"+IF(A2326>'Tabella ripartizione'!$L$3,0,Tariffe!$G$3*F2330/365*F2332)","v":0},null,null,null,{"$f":"+ROUND(J2344+K2344+L2344,2)","v":0}]
[null,null,null,null,null,null,null,null,null,null,null,null,{"$f":"+(Tariffe!$I$3+Tariffe!$J$3+Tariffe!$K$3+Tariffe!$L$3+Tariffe!$M$3)*F2333","v":0},{"$f":"+(Tariffe!$I$3+Tariffe!$J$3+Tariffe!$K$3+Tariffe!$L$3+Tariffe!$M$3)*F2333*F2331","v":0},{"$f":"+(Tariffe!$I$3+Tariffe!$J$3+Tariffe!$K$3+Tariffe!$L$3+Tariffe!$M$3)*F2333*F2332","v":0},{"$f":"+ROUND(M2345+N2345+O2345,2)","v":0}]
[null,null,null,null,null,null,null,null,null,null,null,null,null,null,null,{"$f":"SUM(P2339:P2345)","v":0},"Imponibile"]
[null,null,null,null,null,null,null,null,null,null,null,null,null,null,null,{"$f":"+ROUND(P2346*0.1,2)","v":0},"IVA (10%)"]
[null,null,null,null,null,null,null,null,null,null,null,null,null,null,null,{"$f":"+P2347+P2346","v":0},"Totale corrispettivi"]
[]
[]
[{"$f":"+A2326+1","v":95},null,null,null,null,null,"Impoto"]
[{"$f":"CONCATENATE(\"Unità domestica residente #\",A2351)","v":"Unità domestica residente #95"},null,null,null,null,null,{"$f":"+P2373","v":0}]
["Data inizio periodo consumo",null,null,null,null,{"$f":"+'Tabella ripartizione'!$C$3","v":"00:00:00"}]
["Data fine periodo consumo",null,null,null,null,{"$f":"+'Tabella ripartizione'!$C$4","v":"00:00:00"}]
["Giorni di consumo",null,null,null,null,{"$f":"+F2354-F2353+1","v":1}]
["Fognatura",null,null,null,null,{"$f":"+'Tabella ripartizione'!$C$6","v":1},"(0 = esente, 1=assoggettato)"]
["Depurazione",null,null,null,null,{"$f":"+'Tabella ripartizione'!$C$7","v":1},"(0 = esente, 1=assoggettato)"]
["Consumo misurato",null,null,null,null,{"$f":"SUMIF('Tabella ripartizione'!$B:$B,A2352,'Tabella ripartizione'!$C:$C)","v":0}]
["Numero di componenti nucleo familiare",null,null,null,null,{"$f":"SUMIF('Tabella ripartizione'!$B:$B,A2352,'Tabella ripartizione'!$D:$D)","v":0}]
[]
["Tariffe TICSI 2022"]
["Domestico Residente","Fasce anno (m3)",null,"Fasce pro-die (m3)",null,"mc riarticolati","Importi servizio",null,null,"Importi Quota fissa",null,null,"Importi perequazione"]
[null,"da","a","da","a",{"$f":"+F2368+F2367+F2366+F2365+F2364","v":0},"Acqua","Fogna","Depurazione","Acqua","Fogna","Depurazione","Acqua","Fogna","Depurazione","Totali"]
[null,0,{"$f":"IF(F2358=0,0,VLOOKUP(F2359,Fasce!A:B,2,FALSE))","v":0},0,{"$f":"+ROUND(C2364/365*F2355,0)","v":0},{"$f":"+IF(F2358>=E2364,E2364,F2358)","v":0},{"$f":"+Tariffe!$A$3*F2364","v":0},{"$f":"+Tariffe!$B$3*F2364*$F$6","v":0},{"$f":"+Tariffe!$C$3*F2364*$F$7","v":0},null,null,null,null,null,null,{"$f":"+ROUND((G2364+H2364+I2364),2)","v":0}]
[null,{"$f":"+C2364+1","v":1},{"$f":"IF(F2358=0,0,VLOOKUP(F2359,Fasce!A:C,3,FALSE))","v":0},{"$f":"+E2364","v":0},{"$f":"+ROUND(C2365/365*F2355,0)","v":0},{"$f":"+IF(F2358>=E2365,E2365-E2364,IF(F2358>=E2364,F2358-E2364,IF(F2358<E2364,0)))","v":0},{"$f":"+Tariffe!$A$4*F2365","v":0},{"$f":"+Tariffe!$B$3*F2365*$F$6","v":0},{"$f":"+Tariffe!$C$3*F2365*$F$7","v":0},null,null,null,null,null,null,0]
[null,1,{"$f":"IF(F2358=0,0,VLOOKUP(F2359,Fasce!A:D,4,FALSE))","v":0},0,{"$f":"+ROUND(C2366/365*F2355,0)","v":0},{"$f":"+IF(F2358>=E2366,E2366-E2365,IF(F2358>=E2365,F2358-E2365,IF(F2358<E2365,0)))","v":0},{"$f":"+Tariffe!$A$5*F2366","v":0},{"$f":"+Tariffe!$B$3*F2366*$F$6","v":0},{"$f":"+Tariffe!$C$3*F2366*$F$7","v":0},null,null,null,null,null,null,0]
[null,1,{"$f":"IF(F2358=0,0,VLOOKUP(F2359,Fasce!A:E,5,FALSE))","v":0},0,{"$f":"+ROUND(C2367/365*F2355,0)","v":0},{"$f":"+IF(F2358>=E2367,E2367-E2366,IF(F2358>=E2366,F2358-E2366,IF(F2358<E2366,0)))","v":0},{"$f":"+Tariffe!$A$6*F2367","v":0},{"$f":"+Tariffe!$B$3*F2367*$F$6","v":0},{"$f":"+Tariffe!$C$3*F2367*$F$7","v":0},null,null,null,null,null,null,0]
[null,1,999999,0,999999,{"$f":"+IF(F2358>=E2368,E2368-E2367,IF(F2358>=E2367,F2358-E2367,IF(F2358<E2367,0,F2358-E2367)))","v":0},{"$f":"+Tariffe!$A$7*F2368","v":0},{"$f":"+Tariffe!$B$3*F2368*$F$6","v":0},{"$f":"+Tariffe!$C$3*F2368*$F$7","v":0},null,null,null,null,null,null,0]
[null,null,null,null,null,null,null,null,null,{"$f":"+IF(A2351>'Tabella ripartizione'!$L$3,0,Tariffe!$E$3*F2355/365)","v":0},{"$f":"+IF(A2351>'Tabella ripartizione'!$L$3,0,Tariffe!$F$3*F2355/365*F2356)","v":0},{"$f":"+IF(A2351>'Tabella ripartizione'!$L$3,0,Tariffe!$G$3*F2355/365*F2357)","v":0},null,null,null,{"$f":"+ROUND(J2369+K2369+L2369,2)","v":0}]
[null,null,null,null,null,null,null,null,null,null,null,null,{"$f":"+(Tariffe!$I$3+Tariffe!$J$3+Tariffe!$K$3+Tariffe!$L$3+Tariffe!$M$3)*F2358","v":0},{"$f":"+(Tariffe!$I$3+Tariffe!$J$3+Tariffe!$K$3+Tariffe!$L$3+Tariffe!$M$3)*F2358*F2356","v":0},{"$f":"+(Tariffe!$I$3+Tariffe!$J$3+Tariffe!$K$3+Tariffe!$L$3+Tariffe!$M$3)*F2358*F2357","v":0},{"$f":"+ROUND(M2370+N2370+O2370,2)","v":0}]
[null,null,null,null,null,null,null,null,null,null,null,null,null,null,null,{"$f":"SUM(P2364:P2370)","v":0},"Imponibile"]
[null,null,null,null,null,null,null,null,null,null,null,null,null,null,null,{"$f":"+ROUND(P2371*0.1,2)","v":0},"IVA (10%)"]
[null,null,null,null,null,null,null,null,null,null,null,null,null,null,null,{"$f":"+P2372+P2371","v":0},"Totale corrispettivi"]
[]
[]
[{"$f":"+A2351+1","v":96},null,null,null,null,null,"Impoto"]
[{"$f":"CONCATENATE(\"Unità domestica residente #\",A2376)","v":"Unità domestica residente #96"},null,null,null,null,null,{"$f":"+P2398","v":0}]
["Data inizio periodo consumo",null,null,null,null,{"$f":"+'Tabella ripartizione'!$C$3","v":"00:00:00"}]
["Data fine periodo consumo",null,null,null,null,{"$f":"+'Tabella ripartizione'!$C$4","v":"00:00:00"}]
["Giorni di consumo",null,null,null,null,{"$f":"+F2379-F2378+1","v":1}]
["Fognatura",null,null,null,null,{"$f":"+'Tabella ripartizione'!$C$6","v":1},"(0 = esente, 1=assoggettato)"]
["Depurazione",null,null,null,null,{"$f":"+'Tabella ripartizione'!$C$7","v":1},"(0 = esente, 1=assoggettato)"]
["Consumo misurato",null,null,null,null,{"$f":"SUMIF('Tabella ripartizione'!$B:$B,A2377,'Tabella ripartizione'!$C:$C)","v":0}]
["Numero di componenti nucleo familiare",null,null,null,null,{"$f":"SUMIF('Tabella ripartizione'!$B:$B,A2377,'Tabella ripartizione'!$D:$D)","v":0}]
[]
["Tariffe TICSI 2022"]
["Domestico Residente","Fasce anno (m3)",null,"Fasce pro-die (m3)",null,"mc riarticolati","Importi servizio",null,null,"Importi Quota fissa",null,null,"Importi perequazione"]
[null,"da","a","da","a",{"$f":"+F2393+F2392+F2391+F2390+F2389","v":0},"Acqua","Fogna","Depurazione","Acqua","Fogna","Depurazione","Acqua","Fogna","Depurazione","Totali"]
[null,0,{"$f":"IF(F2383=0,0,VLOOKUP(F2384,Fasce!A:B,2,FALSE))","v":0},0,{"$f":"+ROUND(C2389/365*F2380,0)","v":0},{"$f":"+IF(F2383>=E2389,E2389,F2383)","v":0},{"$f":"+Tariffe!$A$3*F2389","v":0},{"$f":"+Tariffe!$B$3*F2389*$F$6","v":0},{"$f":"+Tariffe!$C$3*F2389*$F$7","v":0},null,null,null,null,null,null,{"$f":"+ROUND((G2389+H2389+I2389),2)","v":0}]
[null,{"$f":"+C2389+1","v":1},{"$f":"IF(F2383=0,0,VLOOKUP(F2384,Fasce!A:C,3,FALSE))","v":0},{"$f":"+E2389","v":0},{"$f":"+ROUND(C2390/365*F2380,0)","v":0},{"$f":"+IF(F2383>=E2390,E2390-E2389,IF(F2383>=E2389,F2383-E2389,IF(F2383<E2389,0)))","v":0},{"$f":"+Tariffe!$A$4*F2390","v":0},{"$f":"+Tariffe!$B$3*F2390*$F$6","v":0},{"$f":"+Tariffe!$C$3*F2390*$F$7","v":0},null,null,null,null,null,null,0]
[null,1,{"$f":"IF(F2383=0,0,VLOOKUP(F2384,Fasce!A:D,4,FALSE))","v":0},0,{"$f":"+ROUND(C2391/365*F2380,0)","v":0},{"$f":"+IF(F2383>=E2391,E2391-E2390,IF(F2383>=E2390,F2383-E2390,IF(F2383<E2390,0)))","v":0},{"$f":"+Tariffe!$A$5*F2391","v":0},{"$f":"+Tariffe!$B$3*F2391*$F$6","v":0},{"$f":"+Tariffe!$C$3*F2391*$F$7","v":0},null,null,null,null,null,null,0]
[null,1,{"$f":"IF(F2383=0,0,VLOOKUP(F2384,Fasce!A:E,5,FALSE))","v":0},0,{"$f":"+ROUND(C2392/365*F2380,0)","v":0},{"$f":"+IF(F2383>=E2392,E2392-E2391,IF(F2383>=E2391,F2383-E2391,IF(F2383<E2391,0)))","v":0},{"$f":"+Tariffe!$A$6*F2392","v":0},{"$f":"+Tariffe!$B$3*F2392*$F$6","v":0},{"$f":"+Tariffe!$C$3*F2392*$F$7","v":0},null,null,null,null,null,null,0]
[null,1,999999,0,999999,{"$f":"+IF(F2383>=E2393,E2393-E2392,IF(F2383>=E2392,F2383-E2392,IF(F2383<E2392,0,F2383-E2392)))","v":0},{"$f":"+Tariffe!$A$7*F2393","v":0},{"$f":"+Tariffe!$B$3*F2393*$F$6","v":0},{"$f":"+Tariffe!$C$3*F2393*$F$7","v":0},null,null,null,null,null,null,0]
[null,null,null,null,null,null,null,null,null,{"$f":"+IF(A2376>'Tabella ripartizione'!$L$3,0,Tariffe!$E$3*F2380/365)","v":0},{"$f":"+IF(A2376>'Tabella ripartizione'!$L$3,0,Tariffe!$F$3*F2380/365*F2381)","v":0},{"$f":"+IF(A2376>'Tabella ripartizione'!$L$3,0,Tariffe!$G$3*F2380/365*F2382)","v":0},null,null,null,{"$f":"+ROUND(J2394+K2394+L2394,2)","v":0}]
[null,null,null,null,null,null,null,null,null,null,null,null,{"$f":"+(Tariffe!$I$3+Tariffe!$J$3+Tariffe!$K$3+Tariffe!$L$3+Tariffe!$M$3)*F2383","v":0},{"$f":"+(Tariffe!$I$3+Tariffe!$J$3+Tariffe!$K$3+Tariffe!$L$3+Tariffe!$M$3)*F2383*F2381","v":0},{"$f":"+(Tariffe!$I$3+Tariffe!$J$3+Tariffe!$K$3+Tariffe!$L$3+Tariffe!$M$3)*F2383*F2382","v":0},{"$f":"+ROUND(M2395+N2395+O2395,2)","v":0}]
[null,null,null,null,null,null,null,null,null,null,null,null,null,null,null,{"$f":"SUM(P2389:P2395)","v":0},"Imponibile"]
[null,null,null,null,null,null,null,null,null,null,null,null,null,null,null,{"$f":"+ROUND(P2396*0.1,2)","v":0},"IVA (10%)"]
[null,null,null,null,null,null,null,null,null,null,null,null,null,null,null,{"$f":"+P2397+P2396","v":0},"Totale corrispettivi"]
[]
[]
[{"$f":"+A2376+1","v":97},null,null,null,null,null,"Impoto"]
[{"$f":"CONCATENATE(\"Unità domestica residente #\",A2401)","v":"Unità domestica residente #97"},null,null,null,null,null,{"$f":"+P2423","v":0}]
["Data inizio periodo consumo",null,null,null,null,{"$f":"+'Tabella ripartizione'!$C$3","v":"00:00:00"}]
["Data fine periodo consumo",null,null,null,null,{"$f":"+'Tabella ripartizione'!$C$4","v":"00:00:00"}]
["Giorni di consumo",null,null,null,null,{"$f":"+F2404-F2403+1","v":1}]
["Fognatura",null,null,null,null,{"$f":"+'Tabella ripartizione'!$C$6","v":1},"(0 = esente, 1=assoggettato)"]
["Depurazione",null,null,null,null,{"$f":"+'Tabella ripartizione'!$C$7","v":1},"(0 = esente, 1=assoggettato)"]
["Consumo misurato",null,null,null,null,{"$f":"SUMIF('Tabella ripartizione'!$B:$B,A2402,'Tabella ripartizione'!$C:$C)","v":0}]
["Numero di componenti nucleo familiare",null,null,null,null,{"$f":"SUMIF('Tabella ripartizione'!$B:$B,A2402,'Tabella ripartizione'!$D:$D)","v":0}]
[]
["Tariffe TICSI 2022"]
["Domestico Residente","Fasce anno (m3)",null,"Fasce pro-die (m3)",null,"mc riarticolati","Importi servizio",null,null,"Importi Quota fissa",null,null,"Importi perequazione"]
[null,"da","a","da","a",{"$f":"+F2418+F2417+F2416+F2415+F2414","v":0},"Acqua","Fogna","Depurazione","Acqua","Fogna","Depurazione","Acqua","Fogna","Depurazione","Totali"]
[null,0,{"$f":"IF(F2408=0,0,VLOOKUP(F2409,Fasce!A:B,2,FALSE))","v":0},0,{"$f":"+ROUND(C2414/365*F2405,0)","v":0},{"$f":"+IF(F2408>=E2414,E2414,F2408)","v":0},{"$f":"+Tariffe!$A$3*F2414","v":0},{"$f":"+Tariffe!$B$3*F2414*$F$6","v":0},{"$f":"+Tariffe!$C$3*F2414*$F$7","v":0},null,null,null,null,null,null,{"$f":"+ROUND((G2414+H2414+I2414),2)","v":0}]
[null,{"$f":"+C2414+1","v":1},{"$f":"IF(F2408=0,0,VLOOKUP(F2409,Fasce!A:C,3,FALSE))","v":0},{"$f":"+E2414","v":0},{"$f":"+ROUND(C2415/365*F2405,0)","v":0},{"$f":"+IF(F2408>=E2415,E2415-E2414,IF(F2408>=E2414,F2408-E2414,IF(F2408<E2414,0)))","v":0},{"$f":"+Tariffe!$A$4*F2415","v":0},{"$f":"+Tariffe!$B$3*F2415*$F$6","v":0},{"$f":"+Tariffe!$C$3*F2415*$F$7","v":0},null,null,null,null,null,null,0]
[null,1,{"$f":"IF(F2408=0,0,VLOOKUP(F2409,Fasce!A:D,4,FALSE))","v":0},0,{"$f":"+ROUND(C2416/365*F2405,0)","v":0},{"$f":"+IF(F2408>=E2416,E2416-E2415,IF(F2408>=E2415,F2408-E2415,IF(F2408<E2415,0)))","v":0},{"$f":"+Tariffe!$A$5*F2416","v":0},{"$f":"+Tariffe!$B$3*F2416*$F$6","v":0},{"$f":"+Tariffe!$C$3*F2416*$F$7","v":0},null,null,null,null,null,null,0]
[null,1,{"$f":"IF(F2408=0,0,VLOOKUP(F2409,Fasce!A:E,5,FALSE))","v":0},0,{"$f":"+ROUND(C2417/365*F2405,0)","v":0},{"$f":"+IF(F2408>=E2417,E2417-E2416,IF(F2408>=E2416,F2408-E2416,IF(F2408<E2416,0)))","v":0},{"$f":"+Tariffe!$A$6*F2417","v":0},{"$f":"+Tariffe!$B$3*F2417*$F$6","v":0},{"$f":"+Tariffe!$C$3*F2417*$F$7","v":0},null,null,null,null,null,null,0]
[null,1,999999,0,999999,{"$f":"+IF(F2408>=E2418,E2418-E2417,IF(F2408>=E2417,F2408-E2417,IF(F2408<E2417,0,F2408-E2417)))","v":0},{"$f":"+Tariffe!$A$7*F2418","v":0},{"$f":"+Tariffe!$B$3*F2418*$F$6","v":0},{"$f":"+Tariffe!$C$3*F2418*$F$7","v":0},null,null,null,null,null,null,0]
[null,null,null,null,null,null,null,null,null,{"$f":"+IF(A2401>'Tabella ripartizione'!$L$3,0,Tariffe!$E$3*F2405/365)","v":0},{"$f":"+IF(A2401>'Tabella ripartizione'!$L$3,0,Tariffe!$F$3*F2405/365*F2406)","v":0},{"$f":"+IF(A2401>'Tabella ripartizione'!$L$3,0,Tariffe!$G$3*F2405/365*F2407)","v":0},null,null,null,{"$f":"+ROUND(J2419+K2419+L2419,2)","v":0}]
[null,null,null,null,null,null,null,null,null,null,null,null,{"$f":"+(Tariffe!$I$3+Tariffe!$J$3+Tariffe!$K$3+Tariffe!$L$3+Tariffe!$M$3)*F2408","v":0},{"$f":"+(Tariffe!$I$3+Tariffe!$J$3+Tariffe!$K$3+Tariffe!$L$3+Tariffe!$M$3)*F2408*F2406","v":0},{"$f":"+(Tariffe!$I$3+Tariffe!$J$3+Tariffe!$K$3+Tariffe!$L$3+Tariffe!$M$3)*F2408*F2407","v":0},{"$f":"+ROUND(M2420+N2420+O2420,2)","v":0}]
[null,null,null,null,null,null,null,null,null,null,null,null,null,null,null,{"$f":"SUM(P2414:P2420)","v":0},"Imponibile"]
[null,null,null,null,null,null,null,null,null,null,null,null,null,null,null,{"$f":"+ROUND(P2421*0.1,2)","v":0},"IVA (10%)"]
[null,null,null,null,null,null,null,null,null,null,null,null,null,null,null,{"$f":"+P2422+P2421","v":0},"Totale corrispettivi"]
[]
[]
[{"$f":"+A2401+1","v":98},null,null,null,null,null,"Impoto"]
[{"$f":"CONCATENATE(\"Unità domestica residente #\",A2426)","v":"Unità domestica residente #98"},null,null,null,null,null,{"$f":"+P2448","v":0}]
["Data inizio periodo consumo",null,null,null,null,{"$f":"+'Tabella ripartizione'!$C$3","v":"00:00:00"}]
["Data fine periodo consumo",null,null,null,null,{"$f":"+'Tabella ripartizione'!$C$4","v":"00:00:00"}]
["Giorni di consumo",null,null,null,null,{"$f":"+F2429-F2428+1","v":1}]
["Fognatura",null,null,null,null,{"$f":"+'Tabella ripartizione'!$C$6","v":1},"(0 = esente, 1=assoggettato)"]
["Depurazione",null,null,null,null,{"$f":"+'Tabella ripartizione'!$C$7","v":1},"(0 = esente, 1=assoggettato)"]
["Consumo misurato",null,null,null,null,{"$f":"SUMIF('Tabella ripartizione'!$B:$B,A2427,'Tabella ripartizione'!$C:$C)","v":0}]
["Numero di componenti nucleo familiare",null,null,null,null,{"$f":"SUMIF('Tabella ripartizione'!$B:$B,A2427,'Tabella ripartizione'!$D:$D)","v":0}]
[]
["Tariffe TICSI 2022"]
["Domestico Residente","Fasce anno (m3)",null,"Fasce pro-die (m3)",null,"mc riarticolati","Importi servizio",null,null,"Importi Quota fissa",null,null,"Importi perequazione"]
[null,"da","a","da","a",{"$f":"+F2443+F2442+F2441+F2440+F2439","v":0},"Acqua","Fogna","Depurazione","Acqua","Fogna","Depurazione","Acqua","Fogna","Depurazione","Totali"]
[null,0,{"$f":"IF(F2433=0,0,VLOOKUP(F2434,Fasce!A:B,2,FALSE))","v":0},0,{"$f":"+ROUND(C2439/365*F2430,0)","v":0},{"$f":"+IF(F2433>=E2439,E2439,F2433)","v":0},{"$f":"+Tariffe!$A$3*F2439","v":0},{"$f":"+Tariffe!$B$3*F2439*$F$6","v":0},{"$f":"+Tariffe!$C$3*F2439*$F$7","v":0},null,null,null,null,null,null,{"$f":"+ROUND((G2439+H2439+I2439),2)","v":0}]
[null,{"$f":"+C2439+1","v":1},{"$f":"IF(F2433=0,0,VLOOKUP(F2434,Fasce!A:C,3,FALSE))","v":0},{"$f":"+E2439","v":0},{"$f":"+ROUND(C2440/365*F2430,0)","v":0},{"$f":"+IF(F2433>=E2440,E2440-E2439,IF(F2433>=E2439,F2433-E2439,IF(F2433<E2439,0)))","v":0},{"$f":"+Tariffe!$A$4*F2440","v":0},{"$f":"+Tariffe!$B$3*F2440*$F$6","v":0},{"$f":"+Tariffe!$C$3*F2440*$F$7","v":0},null,null,null,null,null,null,0]
[null,1,{"$f":"IF(F2433=0,0,VLOOKUP(F2434,Fasce!A:D,4,FALSE))","v":0},0,{"$f":"+ROUND(C2441/365*F2430,0)","v":0},{"$f":"+IF(F2433>=E2441,E2441-E2440,IF(F2433>=E2440,F2433-E2440,IF(F2433<E2440,0)))","v":0},{"$f":"+Tariffe!$A$5*F2441","v":0},{"$f":"+Tariffe!$B$3*F2441*$F$6","v":0},{"$f":"+Tariffe!$C$3*F2441*$F$7","v":0},null,null,null,null,null,null,0]
[null,1,{"$f":"IF(F2433=0,0,VLOOKUP(F2434,Fasce!A:E,5,FALSE))","v":0},0,{"$f":"+ROUND(C2442/365*F2430,0)","v":0},{"$f":"+IF(F2433>=E2442,E2442-E2441,IF(F2433>=E2441,F2433-E2441,IF(F2433<E2441,0)))","v":0},{"$f":"+Tariffe!$A$6*F2442","v":0},{"$f":"+Tariffe!$B$3*F2442*$F$6","v":0},{"$f":"+Tariffe!$C$3*F2442*$F$7","v":0},null,null,null,null,null,null,0]
[null,1,999999,0,999999,{"$f":"+IF(F2433>=E2443,E2443-E2442,IF(F2433>=E2442,F2433-E2442,IF(F2433<E2442,0,F2433-E2442)))","v":0},{"$f":"+Tariffe!$A$7*F2443","v":0},{"$f":"+Tariffe!$B$3*F2443*$F$6","v":0},{"$f":"+Tariffe!$C$3*F2443*$F$7","v":0},null,null,null,null,null,null,0]
[null,null,null,null,null,null,null,null,null,{"$f":"+IF(A2426>'Tabella ripartizione'!$L$3,0,Tariffe!$E$3*F2430/365)","v":0},{"$f":"+IF(A2426>'Tabella ripartizione'!$L$3,0,Tariffe!$F$3*F2430/365*F2431)","v":0},{"$f":"+IF(A2426>'Tabella ripartizione'!$L$3,0,Tariffe!$G$3*F2430/365*F2432)","v":0},null,null,null,{"$f":"+ROUND(J2444+K2444+L2444,2)","v":0}]
[null,null,null,null,null,null,null,null,null,null,null,null,{"$f":"+(Tariffe!$I$3+Tariffe!$J$3+Tariffe!$K$3+Tariffe!$L$3+Tariffe!$M$3)*F2433","v":0},{"$f":"+(Tariffe!$I$3+Tariffe!$J$3+Tariffe!$K$3+Tariffe!$L$3+Tariffe!$M$3)*F2433*F2431","v":0},{"$f":"+(Tariffe!$I$3+Tariffe!$J$3+Tariffe!$K$3+Tariffe!$L$3+Tariffe!$M$3)*F2433*F2432","v":0},{"$f":"+ROUND(M2445+N2445+O2445,2)","v":0}]
[null,null,null,null,null,null,null,null,null,null,null,null,null,null,null,{"$f":"SUM(P2439:P2445)","v":0},"Imponibile"]
[null,null,null,null,null,null,null,null,null,null,null,null,null,null,null,{"$f":"+ROUND(P2446*0.1,2)","v":0},"IVA (10%)"]
[null,null,null,null,null,null,null,null,null,null,null,null,null,null,null,{"$f":"+P2447+P2446","v":0},"Totale corrispettivi"]
[]
[]
[{"$f":"+A2426+1","v":99},null,null,null,null,null,"Impoto"]
[{"$f":"CONCATENATE(\"Unità domestica residente #\",A2451)","v":"Unità domestica residente #99"},null,null,null,null,null,{"$f":"+P2473","v":0}]
["Data inizio periodo consumo",null,null,null,null,{"$f":"+'Tabella ripartizione'!$C$3","v":"00:00:00"}]
["Data fine periodo consumo",null,null,null,null,{"$f":"+'Tabella ripartizione'!$C$4","v":"00:00:00"}]
["Giorni di consumo",null,null,null,null,{"$f":"+F2454-F2453+1","v":1}]
["Fognatura",null,null,null,null,{"$f":"+'Tabella ripartizione'!$C$6","v":1},"(0 = esente, 1=assoggettato)"]
["Depurazione",null,null,null,null,{"$f":"+'Tabella ripartizione'!$C$7","v":1},"(0 = esente, 1=assoggettato)"]
["Consumo misurato",null,null,null,null,{"$f":"SUMIF('Tabella ripartizione'!$B:$B,A2452,'Tabella ripartizione'!$C:$C)","v":0}]
["Numero di componenti nucleo familiare",null,null,null,null,{"$f":"SUMIF('Tabella ripartizione'!$B:$B,A2452,'Tabella ripartizione'!$D:$D)","v":0}]
[]
["Tariffe TICSI 2022"]
["Domestico Residente","Fasce anno (m3)",null,"Fasce pro-die (m3)",null,"mc riarticolati","Importi servizio",null,null,"Importi Quota fissa",null,null,"Importi perequazione"]
[null,"da","a","da","a",{"$f":"+F2468+F2467+F2466+F2465+F2464","v":0},"Acqua","Fogna","Depurazione","Acqua","Fogna","Depurazione","Acqua","Fogna","Depurazione","Totali"]
[null,0,{"$f":"IF(F2458=0,0,VLOOKUP(F2459,Fasce!A:B,2,FALSE))","v":0},0,{"$f":"+ROUND(C2464/365*F2455,0)","v":0},{"$f":"+IF(F2458>=E2464,E2464,F2458)","v":0},{"$f":"+Tariffe!$A$3*F2464","v":0},{"$f":"+Tariffe!$B$3*F2464*$F$6","v":0},{"$f":"+Tariffe!$C$3*F2464*$F$7","v":0},null,null,null,null,null,null,{"$f":"+ROUND((G2464+H2464+I2464),2)","v":0}]
[null,{"$f":"+C2464+1","v":1},{"$f":"IF(F2458=0,0,VLOOKUP(F2459,Fasce!A:C,3,FALSE))","v":0},{"$f":"+E2464","v":0},{"$f":"+ROUND(C2465/365*F2455,0)","v":0},{"$f":"+IF(F2458>=E2465,E2465-E2464,IF(F2458>=E2464,F2458-E2464,IF(F2458<E2464,0)))","v":0},{"$f":"+Tariffe!$A$4*F2465","v":0},{"$f":"+Tariffe!$B$3*F2465*$F$6","v":0},{"$f":"+Tariffe!$C$3*F2465*$F$7","v":0},null,null,null,null,null,null,0]
[null,1,{"$f":"IF(F2458=0,0,VLOOKUP(F2459,Fasce!A:D,4,FALSE))","v":0},0,{"$f":"+ROUND(C2466/365*F2455,0)","v":0},{"$f":"+IF(F2458>=E2466,E2466-E2465,IF(F2458>=E2465,F2458-E2465,IF(F2458<E2465,0)))","v":0},{"$f":"+Tariffe!$A$5*F2466","v":0},{"$f":"+Tariffe!$B$3*F2466*$F$6","v":0},{"$f":"+Tariffe!$C$3*F2466*$F$7","v":0},null,null,null,null,null,null,0]
[null,1,{"$f":"IF(F2458=0,0,VLOOKUP(F2459,Fasce!A:E,5,FALSE))","v":0},0,{"$f":"+ROUND(C2467/365*F2455,0)","v":0},{"$f":"+IF(F2458>=E2467,E2467-E2466,IF(F2458>=E2466,F2458-E2466,IF(F2458<E2466,0)))","v":0},{"$f":"+Tariffe!$A$6*F2467","v":0},{"$f":"+Tariffe!$B$3*F2467*$F$6","v":0},{"$f":"+Tariffe!$C$3*F2467*$F$7","v":0},null,null,null,null,null,null,0]
[null,1,999999,0,999999,{"$f":"+IF(F2458>=E2468,E2468-E2467,IF(F2458>=E2467,F2458-E2467,IF(F2458<E2467,0,F2458-E2467)))","v":0},{"$f":"+Tariffe!$A$7*F2468","v":0},{"$f":"+Tariffe!$B$3*F2468*$F$6","v":0},{"$f":"+Tariffe!$C$3*F2468*$F$7","v":0},null,null,null,null,null,null,0]
[null,null,null,null,null,null,null,null,null,{"$f":"+IF(A2451>'Tabella ripartizione'!$L$3,0,Tariffe!$E$3*F2455/365)","v":0},{"$f":"+IF(A2451>'Tabella ripartizione'!$L$3,0,Tariffe!$F$3*F2455/365*F2456)","v":0},{"$f":"+IF(A2451>'Tabella ripartizione'!$L$3,0,Tariffe!$G$3*F2455/365*F2457)","v":0},null,null,null,{"$f":"+ROUND(J2469+K2469+L2469,2)","v":0}]
[null,null,null,null,null,null,null,null,null,null,null,null,{"$f":"+(Tariffe!$I$3+Tariffe!$J$3+Tariffe!$K$3+Tariffe!$L$3+Tariffe!$M$3)*F2458","v":0},{"$f":"+(Tariffe!$I$3+Tariffe!$J$3+Tariffe!$K$3+Tariffe!$L$3+Tariffe!$M$3)*F2458*F2456","v":0},{"$f":"+(Tariffe!$I$3+Tariffe!$J$3+Tariffe!$K$3+Tariffe!$L$3+Tariffe!$M$3)*F2458*F2457","v":0},{"$f":"+ROUND(M2470+N2470+O2470,2)","v":0}]
[null,null,null,null,null,null,null,null,null,null,null,null,null,null,null,{"$f":"SUM(P2464:P2470)","v":0},"Imponibile"]
[null,null,null,null,null,null,null,null,null,null,null,null,null,null,null,{"$f":"+ROUND(P2471*0.1,2)","v":0},"IVA (10%)"]
[null,null,null,null,null,null,null,null,null,null,null,null,null,null,null,{"$f":"+P2472+P2471","v":0},"Totale corrispettivi"]
[]
[]
[{"$f":"+A2451+1","v":100},null,null,null,null,null,"Impoto"]
[{"$f":"CONCATENATE(\"Unità domestica residente #\",A2476)","v":"Unità domestica residente #100"},null,null,null,null,null,{"$f":"+P2498","v":0}]
["Data inizio periodo consumo",null,null,null,null,{"$f":"+'Tabella ripartizione'!$C$3","v":"00:00:00"}]
["Data fine periodo consumo",null,null,null,null,{"$f":"+'Tabella ripartizione'!$C$4","v":"00:00:00"}]
["Giorni di consumo",null,null,null,null,{"$f":"+F2479-F2478+1","v":1}]
["Fognatura",null,null,null,null,{"$f":"+'Tabella ripartizione'!$C$6","v":1},"(0 = esente, 1=assoggettato)"]
["Depurazione",null,null,null,null,{"$f":"+'Tabella ripartizione'!$C$7","v":1},"(0 = esente, 1=assoggettato)"]
["Consumo misurato",null,null,null,null,{"$f":"SUMIF('Tabella ripartizione'!$B:$B,A2477,'Tabella ripartizione'!$C:$C)","v":0}]
["Numero di componenti nucleo familiare",null,null,null,null,{"$f":"SUMIF('Tabella ripartizione'!$B:$B,A2477,'Tabella ripartizione'!$D:$D)","v":0}]
[]
["Tariffe TICSI 2022"]
["Domestico Residente","Fasce anno (m3)",null,"Fasce pro-die (m3)",null,"mc riarticolati","Importi servizio",null,null,"Importi Quota fissa",null,null,"Importi perequazione"]
[null,"da","a","da","a",{"$f":"+F2493+F2492+F2491+F2490+F2489","v":0},"Acqua","Fogna","Depurazione","Acqua","Fogna","Depurazione","Acqua","Fogna","Depurazione","Totali"]
[null,0,{"$f":"IF(F2483=0,0,VLOOKUP(F2484,Fasce!A:B,2,FALSE))","v":0},0,{"$f":"+ROUND(C2489/365*F2480,0)","v":0},{"$f":"+IF(F2483>=E2489,E2489,F2483)","v":0},{"$f":"+Tariffe!$A$3*F2489","v":0},{"$f":"+Tariffe!$B$3*F2489*$F$6","v":0},{"$f":"+Tariffe!$C$3*F2489*$F$7","v":0},null,null,null,null,null,null,{"$f":"+ROUND((G2489+H2489+I2489),2)","v":0}]
[null,{"$f":"+C2489+1","v":1},{"$f":"IF(F2483=0,0,VLOOKUP(F2484,Fasce!A:C,3,FALSE))","v":0},{"$f":"+E2489","v":0},{"$f":"+ROUND(C2490/365*F2480,0)","v":0},{"$f":"+IF(F2483>=E2490,E2490-E2489,IF(F2483>=E2489,F2483-E2489,IF(F2483<E2489,0)))","v":0},{"$f":"+Tariffe!$A$4*F2490","v":0},{"$f":"+Tariffe!$B$3*F2490*$F$6","v":0},{"$f":"+Tariffe!$C$3*F2490*$F$7","v":0},null,null,null,null,null,null,0]
[null,1,{"$f":"IF(F2483=0,0,VLOOKUP(F2484,Fasce!A:D,4,FALSE))","v":0},0,{"$f":"+ROUND(C2491/365*F2480,0)","v":0},{"$f":"+IF(F2483>=E2491,E2491-E2490,IF(F2483>=E2490,F2483-E2490,IF(F2483<E2490,0)))","v":0},{"$f":"+Tariffe!$A$5*F2491","v":0},{"$f":"+Tariffe!$B$3*F2491*$F$6","v":0},{"$f":"+Tariffe!$C$3*F2491*$F$7","v":0},null,null,null,null,null,null,0]
[null,1,{"$f":"IF(F2483=0,0,VLOOKUP(F2484,Fasce!A:E,5,FALSE))","v":0},0,{"$f":"+ROUND(C2492/365*F2480,0)","v":0},{"$f":"+IF(F2483>=E2492,E2492-E2491,IF(F2483>=E2491,F2483-E2491,IF(F2483<E2491,0)))","v":0},{"$f":"+Tariffe!$A$6*F2492","v":0},{"$f":"+Tariffe!$B$3*F2492*$F$6","v":0},{"$f":"+Tariffe!$C$3*F2492*$F$7","v":0},null,null,null,null,null,null,0]
[null,1,999999,0,999999,{"$f":"+IF(F2483>=E2493,E2493-E2492,IF(F2483>=E2492,F2483-E2492,IF(F2483<E2492,0,F2483-E2492)))","v":0},{"$f":"+Tariffe!$A$7*F2493","v":0},{"$f":"+Tariffe!$B$3*F2493*$F$6","v":0},{"$f":"+Tariffe!$C$3*F2493*$F$7","v":0},null,null,null,null,null,null,0]
[null,null,null,null,null,null,null,null,null,{"$f":"+IF(A2476>'Tabella ripartizione'!$L$3,0,Tariffe!$E$3*F2480/365)","v":0},{"$f":"+IF(A2476>'Tabella ripartizione'!$L$3,0,Tariffe!$F$3*F2480/365*F2481)","v":0},{"$f":"+IF(A2476>'Tabella ripartizione'!$L$3,0,Tariffe!$G$3*F2480/365*F2482)","v":0},null,null,null,{"$f":"+ROUND(J2494+K2494+L2494,2)","v":0}]
[null,null,null,null,null,null,null,null,null,null,null,null,{"$f":"+(Tariffe!$I$3+Tariffe!$J$3+Tariffe!$K$3+Tariffe!$L$3+Tariffe!$M$3)*F2483","v":0},{"$f":"+(Tariffe!$I$3+Tariffe!$J$3+Tariffe!$K$3+Tariffe!$L$3+Tariffe!$M$3)*F2483*F2481","v":0},{"$f":"+(Tariffe!$I$3+Tariffe!$J$3+Tariffe!$K$3+Tariffe!$L$3+Tariffe!$M$3)*F2483*F2482","v":0},{"$f":"+ROUND(M2495+N2495+O2495,2)","v":0}]
[null,null,null,null,null,null,null,null,null,null,null,null,null,null,null,{"$f":"SUM(P2489:P2495)","v":0},"Imponibile"]
[null,null,null,null,null,null,null,null,null,null,null,null,null,null,null,{"$f":"+ROUND(P2496*0.1,2)","v":0},"IVA (10%)"]
[null,null,null,null,null,null,null,null,null,null,null,null,null,null,null,{"$f":"+P2497+P2496","v":0},"Totale corrispettivi"]

{"sheet":"DOMESTICO_NR","index":2,"n_rows":688,"n_cols":17,"rows_kept":688,"cut":false,"hidden":true,"merged":[[9,9,9,12],[10,0,20,0],[10,1,10,2],[10,3,10,4],[10,6,10,8],[10,9,10,11],[10,12,10,14],[24,0,24,5],[47,0,47,5],[70,0,70,5],[93,0,93,5],[1,0,1,5],[9,0,9,8],[116,0,116,5],[139,0,139,5],[162,0,162,5],[185,0,185,5],[208,0,208,5],[231,0,231,5],[254,0,254,5],[277,0,277,5],[300,0,300,5],[323,0,323,5],[346,0,346,5],[369,0,369,5],[392,0,392,5],[415,0,415,5],[438,0,438,5],[461,0,461,5],[484,0,484,5],[507,0,507,5],[530,0,530,5],[553,0,553,5],[576,0,576,5],[599,0,599,5],[622,0,622,5],[645,0,645,5],[668,0,668,5]]}
[1,null,null,null,null,null,"Impoto"]
["Unità domestica non residente #1",null,null,null,null,null,{"$f":"+P21","v":0}]
["Data inizio periodo consumo",null,null,null,null,{"$f":"+'Tabella ripartizione'!$C$3","v":"00:00:00"}]
["Data fine periodo consumo",null,null,null,null,{"$f":"+'Tabella ripartizione'!$C$4","v":"00:00:00"}]
["Giorni di consumo",null,null,null,null,{"$f":"+F4-F3+1","v":1}]
["Fognatura",null,null,null,null,{"$f":"+'Tabella ripartizione'!$C$6","v":1},"(0 = esente, 1=assoggettato)"]
["Depurazione",null,null,null,null,{"$f":"+'Tabella ripartizione'!$C$7","v":1},"(0 = esente, 1=assoggettato)"]
["Consumo misurato",null,null,null,null,{"$f":"SUMIF('Tabella ripartizione'!$J:$J,A2,'Tabella ripartizione'!$K:$K)","v":0}]
[]
["Tariffe TICSI",null,null,null,null,null,null,null,null,2022]
["Domestico NON Residente","Fasce anno (m3)",null,"Fasce pro-die (m3)",null,"mc riarticolati","Importi servizio",null,null,"Importi Quota fissa",null,null,"Importi perequazione"]
[null,"da","a","da","a",{"$f":"+F16+F15+F14+F13","v":0},"Acqua","Fogna","Depurazione","Acqua","Fogna","Depurazione","Acqua","Fogna","Depurazione","Totali"]
[null,0,80,0,{"$f":"+ROUND(C13/365*F5,0)","v":0},{"$f":"+IF(F8>=E13,E13,F8)","v":0},{"$f":"+Tariffe!$A$19*F13","v":0},{"$f":"+Tariffe!$B$19*F13*F6","v":0},{"$f":"+Tariffe!$C$19*F13*F7","v":0},null,null,null,null,null,null,{"$f":"+ROUND((G13+H13+I13),2)","v":0}]
[null,{"$f":"+C13+1","v":81},110,{"$f":"+E13","v":0},{"$f":"+ROUND(C14/365*F5,0)","v":0},{"$f":"+IF(F8>=E14,E14-E13,IF(F8>=E13,F8-E13,IF(F8<E13,0)))","v":0},{"$f":"+Tariffe!$A$20*F14","v":0},{"$f":"+Tariffe!$B$20*F14*F6","v":0},{"$f":"+Tariffe!$C$20*F14*F7","v":0},null,null,null,null,null,null,{"$f":"+ROUND((G14+H14+I14),2)","v":0}]
[null,{"$f":"+C14+1","v":111},140,{"$f":"+E14","v":0},{"$f":"+ROUND(C15/365*F5,0)","v":0},{"$f":"+IF(F8>=E15,E15-E14,IF(F8>=E14,F8-E14,IF(F8<E14,0)))","v":0},{"$f":"+Tariffe!$A$21*F15","v":0},{"$f":"+Tariffe!$B$21*F15*F6","v":0},{"$f":"+Tariffe!$C$21*F15*F7","v":0},null,null,null,null,null,null,0]
[null,{"$f":"+C15+1","v":141},99999,{"$f":"+E15","v":0},{"$f":"+ROUND(C16/365*F5,0)","v":274},{"$f":"+IF(F8>=E16,E16-E15,IF(F8>=E15,F8-E15,IF(F8<E15,0)))","v":0},{"$f":"+Tariffe!$A$22*F16","v":0},{"$f":"+Tariffe!$B$22*F16*F6","v":0},{"$f":"+Tariffe!$C$22*F16*F7","v":0},null,null,null,null,null,null,0]
[null,null,null,null,null,null,null,null,null,{"$f":"+IF(A1>'Tabella ripartizione'!$L$4,0,Tariffe!$E$19*F5/365)","v":0},{"$f":"+IF(A1>'Tabella ripartizione'!$L$4,0,Tariffe!$F$19*F5/365*F6)","v":0},{"$f":"+IF(A1>'Tabella ripartizione'!$L$4,0,Tariffe!$G$19*F5/365*F7)","v":0},null,null,null,{"$f":"+ROUND(J17+K17+L17,2)","v":0}]
[null,null,null,null,null,null,null,null,null,null,null,null,{"$f":"+(Tariffe!$I$3+Tariffe!$J$3+Tariffe!$K$3+Tariffe!$L$3+Tariffe!$M$3)*F8","v":0},{"$f":"+(Tariffe!$I$3+Tariffe!$J$3+Tariffe!$K$3+Tariffe!$L$3+Tariffe!$M$3)*F8*F6","v":0},{"$f":"+(Tariffe!$I$3+Tariffe!$J$3+Tariffe!$K$3+Tariffe!$L$3+Tariffe!$M$3)*F8*F7","v":0},{"$f":"+ROUND(M18+N18+O18,2)","v":0}]
[null,null,null,null,null,null,null,null,null,null,null,null,null,null,null,{"$f":"SUM(P13:P18)","v":0},"Imponibile"]
[null,null,null,null,null,null,null,null,null,null,null,null,null,null,null,{"$f":"+ROUND(P19*0.1,2)","v":0},"IVA (10%)"]
[null,null,null,null,null,null,null,null,null,null,null,null,null,null,null,{"$f":"+P20+P19","v":0},"Totale corrispettivi"]
[]
[]
[{"$f":"+A1+1","v":2},null,null,null,null,null,"Impoto"]
[{"$f":"CONCATENATE(\"Unità domestica non residente #\",A24)","v":"Unità domestica non residente #2"},null,null,null,null,null,{"$f":"+P44","v":0}]
["Data inizio periodo consumo",null,null,null,null,{"$f":"+'Tabella ripartizione'!$C$3","v":"00:00:00"}]
["Data fine periodo consumo",null,null,null,null,{"$f":"+'Tabella ripartizione'!$C$4","v":"00:00:00"}]
["Giorni di consumo",null,null,null,null,{"$f":"+F27-F26+1","v":1}]
["Fognatura",null,null,null,null,{"$f":"+'Tabella ripartizione'!$C$6","v":1},"(0 = esente, 1=assoggettato)"]
["Depurazione",null,null,null,null,{"$f":"+'Tabella ripartizione'!$C$7","v":1},"(0 = esente, 1=assoggettato)"]
["Consumo misurato",null,null,null,null,{"$f":"SUMIF('Tabella ripartizione'!$J:$J,A25,'Tabella ripartizione'!$K:$K)","v":0}]
[]
["Tariffe TICSI",null,null,null,null,null,null,null,null,2022]
["Domestico NON Residente","Fasce anno (m3)",null,"Fasce pro-die (m3)",null,"mc riarticolati","Importi servizio",null,null,"Importi Quota fissa",null,null,"Importi perequazione"]
[null,"da","a","da","a",{"$f":"+F39+F38+F37+F36","v":0},"Acqua","Fogna","Depurazione","Acqua","Fogna","Depurazione","Acqua","Fogna","Depurazione","Totali"]
[null,{"$f":"+B13","v":0},{"$f":"+C13","v":80},0,{"$f":"+ROUND(C36/365*F28,0)","v":0},{"$f":"+IF(F31>=E36,E36,F31)","v":0},{"$f":"+Tariffe!$A$19*F36","v":0},{"$f":"+Tariffe!$B$19*F36*F29","v":0},{"$f":"+Tariffe!$C$19*F36*F30","v":0},null,null,null,null,null,null,{"$f":"+ROUND((G36+H36+I36),2)","v":0}]
[null,{"$f":"+B14","v":81},110,{"$f":"+E36","v":0},{"$f":"+ROUND(C37/365*F28,0)","v":0},{"$f":"+IF(F31>=E37,E37-E36,IF(F31>=E36,F31-E36,IF(F31<E36,0)))","v":0},{"$f":"+Tariffe!$A$20*F37","v":0},{"$f":"+Tariffe!$B$20*F37*F29","v":0},{"$f":"+Tariffe!$C$20*F37*F30","v":0},null,null,null,null,null,null,{"$f":"+ROUND((G37+H37+I37),2)","v":0}]
[null,111,140,{"$f":"+E37","v":0},{"$f":"+ROUND(C38/365*F28,0)","v":0},{"$f":"+IF(F31>=E38,E38-E37,IF(F31>=E37,F31-E37,IF(F31<E37,0)))","v":0},{"$f":"+Tariffe!$A$21*F38","v":0},{"$f":"+Tariffe!$B$21*F38*F29","v":0},{"$f":"+Tariffe!$C$21*F38*F30","v":0},null,null,null,null,null,null,0]
[null,141,99999,{"$f":"+E38","v":0},{"$f":"+ROUND(C39/365*F28,0)","v":274},{"$f":"+IF(F31>=E39,E39-E38,IF(F31>=E38,F31-E38,IF(F31<E38,0)))","v":0},{"$f":"+Tariffe!$A$22*F39","v":0},{"$f":"+Tariffe!$B$22*F39*F29","v":0},{"$f":"+Tariffe!$C$22*F39*F30","v":0},null,null,null,null,null,null,0]
[null,null,null,null,null,null,null,null,null,{"$f":"+IF(A24>'Tabella ripartizione'!$L$4,0,Tariffe!$E$19*F28/365)","v":0},{"$f":"+IF(A24>'Tabella ripartizione'!$L$4,0,Tariffe!$F$19*F28/365*F29)","v":0},{"$f":"+IF(A24>'Tabella ripartizione'!$L$4,0,Tariffe!$G$19*F28/365*F30)","v":0},null,null,null,{"$f":"+ROUND(J40+K40+L40,2)","v":0}]
[null,null,null,null,null,null,null,null,null,null,null,null,{"$f":"+(Tariffe!$I$3+Tariffe!$J$3+Tariffe!$K$3+Tariffe!$L$3+Tariffe!$M$3)*F31","v":0},{"$f":"+(Tariffe!$I$3+Tariffe!$J$3+Tariffe!$K$3+Tariffe!$L$3+Tariffe!$M$3)*F31*F29","v":0},{"$f":"+(Tariffe!$I$3+Tariffe!$J$3+Tariffe!$K$3+Tariffe!$L$3+Tariffe!$M$3)*F31*F30","v":0},{"$f":"+ROUND(M41+N41+O41,2)","v":0}]
[null,null,null,null,null,null,null,null,null,null,null,null,null,null,null,{"$f":"SUM(P36:P41)","v":0},"Imponibile"]
[null,null,null,null,null,null,null,null,null,null,null,null,null,null,null,{"$f":"+ROUND(P42*0.1,2)","v":0},"IVA (10%)"]
[null,null,null,null,null,null,null,null,null,null,null,null,null,null,null,{"$f":"+P43+P42","v":0},"Totale corrispettivi"]
[]
[]
[{"$f":"+A24+1","v":3},null,null,null,null,null,"Impoto"]
[{"$f":"CONCATENATE(\"Unità domestica non residente #\",A47)","v":"Unità domestica non residente #3"},null,null,null,null,null,{"$f":"+P67","v":0}]
["Data inizio periodo consumo",null,null,null,null,{"$f":"+'Tabella ripartizione'!$C$3","v":"00:00:00"}]
["Data fine periodo consumo",null,null,null,null,{"$f":"+'Tabella ripartizione'!$C$4","v":"00:00:00"}]
["Giorni di consumo",null,null,null,null,{"$f":"+F50-F49+1","v":1}]
["Fognatura",null,null,null,null,{"$f":"+'Tabella ripartizione'!$C$6","v":1},"(0 = esente, 1=assoggettato)"]
["Depurazione",null,null,null,null,{"$f":"+'Tabella ripartizione'!$C$7","v":1},"(0 = esente, 1=assoggettato)"]
["Consumo misurato",null,null,null,null,{"$f":"SUMIF('Tabella ripartizione'!$J:$J,A48,'Tabella ripartizione'!$K:$K)","v":0}]
[]
["Tariffe TICSI",null,null,null,null,null,null,null,null,2022]
["Domestico NON Residente","Fasce anno (m3)",null,"Fasce pro-die (m3)",null,"mc riarticolati","Importi servizio",null,null,"Importi Quota fissa",null,null,"Importi perequazione"]
[null,"da","a","da","a",{"$f":"+F62+F61+F60+F59","v":0},"Acqua","Fogna","Depurazione","Acqua","Fogna","Depurazione","Acqua","Fogna","Depurazione","Totali"]
[null,{"$f":"+B36","v":0},80,0,{"$f":"+ROUND(C59/365*F51,0)","v":0},{"$f":"+IF(F54>=E59,E59,F54)","v":0},{"$f":"+Tariffe!$A$19*F59","v":0},{"$f":"+Tariffe!$B$19*F59*F52","v":0},{"$f":"+Tariffe!$C$19*F59*F53","v":0},null,null,null,null,null,null,{"$f":"+ROUND((G59+H59+I59),2)","v":0}]
[null,81,110,{"$f":"+E59","v":0},{"$f":"+ROUND(C60/365*F51,0)","v":0},{"$f":"+IF(F54>=E60,E60-E59,IF(F54>=E59,F54-E59,IF(F54<E59,0)))","v":0},{"$f":"+Tariffe!$A$20*F60","v":0},{"$f":"+Tariffe!$B$20*F60*F52","v":0},{"$f":"+Tariffe!$C$20*F60*F53","v":0},null,null,null,null,null,null,0]
[null,111,140,0,{"$f":"+ROUND(C61/365*F51,0)","v":0},{"$f":"+IF(F54>=E61,E61-E60,IF(F54>=E60,F54-E60,IF(F54<E60,0)))","v":0},{"$f":"+Tariffe!$A$21*F61","v":0},{"$f":"+Tariffe!$B$21*F61*F52","v":0},{"$f":"+Tariffe!$C$21*F61*F53","v":0},null,null,null,null,null,null,0]
[null,141,99999,0,{"$f":"+ROUND(C62/365*F51,0)","v":274},{"$f":"+IF(F54>=E62,E62-E61,IF(F54>=E61,F54-E61,IF(F54<E61,0)))","v":0},{"$f":"+Tariffe!$A$22*F62","v":0},{"$f":"+Tariffe!$B$22*F62*F52","v":0},{"$f":"+Tariffe!$C$22*F62*F53","v":0},null,null,null,null,null,null,0]
[null,null,null,null,null,null,null,null,null,{"$f":"+IF(A47>'Tabella ripartizione'!$L$4,0,Tariffe!$E$19*F51/365)","v":0},{"$f":"+IF(A47>'Tabella ripartizione'!$L$4,0,Tariffe!$F$19*F51/365*F52)","v":0},{"$f":"+IF(A47>'Tabella ripartizione'!$L$4,0,Tariffe!$G$19*F51/365*F53)","v":0},null,null,null,{"$f":"+ROUND(J63+K63+L63,2)","v":0}]
[null,null,null,null,null,null,null,null,null,null,null,null,{"$f":"+(Tariffe!$I$3+Tariffe!$J$3+Tariffe!$K$3+Tariffe!$L$3+Tariffe!$M$3)*F54","v":0},{"$f":"+(Tariffe!$I$3+Tariffe!$J$3+Tariffe!$K$3+Tariffe!$L$3+Tariffe!$M$3)*F54*F52","v":0},{"$f":"+(Tariffe!$I$3+Tariffe!$J$3+Tariffe!$K$3+Tariffe!$L$3+Tariffe!$M$3)*F54*F53","v":0},{"$f":"+ROUND(M64+N64+O64,2)","v":0}]
[null,null,null,null,null,null,null,null,null,null,null,null,null,null,null,{"$f":"SUM(P59:P64)","v":0},"Imponibile"]
[null,null,null,null,null,null,null,null,null,null,null,null,null,null,null,{"$f":"+ROUND(P65*0.1,2)","v":0},"IVA (10%)"]
[null,null,null,null,null,null,null,null,null,null,null,null,null,null,null,{"$f":"+P66+P65","v":0},"Totale corrispettivi"]
[]
[]
[{"$f":"+A47+1","v":4},null,null,null,null,null,"Impoto"]
[{"$f":"CONCATENATE(\"Unità domestica non residente #\",A70)","v":"Unità domestica non residente #4"},null,null,null,null,null,{"$f":"+P90","v":0}]
["Data inizio periodo consumo",null,null,null,null,{"$f":"+'Tabella ripartizione'!$C$3","v":"00:00:00"}]
["Data fine periodo consumo",null,null,null,null,{"$f":"+'Tabella ripartizione'!$C$4","v":"00:00:00"}]
["Giorni di consumo",null,null,null,null,{"$f":"+F73-F72+1","v":1}]
["Fognatura",null,null,null,null,{"$f":"+'Tabella ripartizione'!$C$6","v":1},"(0 = esente, 1=assoggettato)"]
["Depurazione",null,null,null,null,{"$f":"+'Tabella ripartizione'!$C$7","v":1},"(0 = esente, 1=assoggettato)"]
["Consumo misurato",null,null,null,null,{"$f":"SUMIF('Tabella ripartizione'!$J:$J,A71,'Tabella ripartizione'!$K:$K)","v":0}]
[]
["Tariffe TICSI",null,null,null,null,null,null,null,null,2022]
["Domestico NON Residente","Fasce anno (m3)",null,"Fasce pro-die (m3)",null,"mc riarticolati","Importi servizio",null,null,"Importi Quota fissa",null,null,"Importi perequazione"]
[null,"da","a","da","a",{"$f":"+F85+F84+F83+F82","v":0},"Acqua","Fogna","Depurazione","Acqua","Fogna","Depurazione","Acqua","Fogna","Depurazione","Totali"]
[null,{"$f":"+B59","v":0},80,0,{"$f":"+ROUND(C82/365*F74,0)","v":0},{"$f":"+IF(F77>=E82,E82,F77)","v":0},{"$f":"+Tariffe!$A$19*F82","v":0},{"$f":"+Tariffe!$B$19*F82*F75","v":0},{"$f":"+Tariffe!$C$19*F82*F76","v":0},null,null,null,null,null,null,{"$f":"+ROUND((G82+H82+I82),2)","v":0}]
[null,81,110,{"$f":"+E82","v":0},{"$f":"+ROUND(C83/365*F74,0)","v":0},{"$f":"+IF(F77>=E83,E83-E82,IF(F77>=E82,F77-E82,IF(F77<E82,0)))","v":0},{"$f":"+Tariffe!$A$20*F83","v":0},{"$f":"+Tariffe!$B$20*F83*F75","v":0},{"$f":"+Tariffe!$C$20*F83*F76","v":0},null,null,null,null,null,null,0]
[null,111,140,0,{"$f":"+ROUND(C84/365*F74,0)","v":0},{"$f":"+IF(F77>=E84,E84-E83,IF(F77>=E83,F77-E83,IF(F77<E83,0)))","v":0},{"$f":"+Tariffe!$A$21*F84","v":0},{"$f":"+Tariffe!$B$21*F84*F75","v":0},{"$f":"+Tariffe!$C$21*F84*F76","v":0},null,null,null,null,null,null,0]
[null,141,99999,0,{"$f":"+ROUND(C85/365*F74,0)","v":274},{"$f":"+IF(F77>=E85,E85-E84,IF(F77>=E84,F77-E84,IF(F77<E84,0)))","v":0},{"$f":"+Tariffe!$A$22*F85","v":0},{"$f":"+Tariffe!$B$22*F85*F75","v":0},{"$f":"+Tariffe!$C$22*F85*F76","v":0},null,null,null,null,null,null,0]
[null,null,null,null,null,null,null,null,null,{"$f":"+IF(A70>'Tabella ripartizione'!$L$4,0,Tariffe!$E$19*F74/365)","v":0},{"$f":"+IF(A70>'Tabella ripartizione'!$L$4,0,Tariffe!$F$19*F74/365*F75)","v":0},{"$f":"+IF(A70>'Tabella ripartizione'!$L$4,0,Tariffe!$G$19*F74/365*F76)","v":0},null,null,null,{"$f":"+ROUND(J86+K86+L86,2)","v":0}]
[null,null,null,null,null,null,null,null,null,null,null,null,{"$f":"+(Tariffe!$I$3+Tariffe!$J$3+Tariffe!$K$3+Tariffe!$L$3+Tariffe!$M$3)*F77","v":0},{"$f":"+(Tariffe!$I$3+Tariffe!$J$3+Tariffe!$K$3+Tariffe!$L$3+Tariffe!$M$3)*F77*F75","v":0},{"$f":"+(Tariffe!$I$3+Tariffe!$J$3+Tariffe!$K$3+Tariffe!$L$3+Tariffe!$M$3)*F77*F76","v":0},{"$f":"+ROUND(M87+N87+O87,2)","v":0}]
[null,null,null,null,null,null,null,null,null,null,null,null,null,null,null,{"$f":"SUM(P82:P87)","v":0},"Imponibile"]
[null,null,null,null,null,null,null,null,null,null,null,null,null,null,null,{"$f":"+ROUND(P88*0.1,2)","v":0},"IVA (10%)"]
[null,null,null,null,null,null,null,null,null,null,null,null,null,null,null,{"$f":"+P89+P88","v":0},"Totale corrispettivi"]
[]
[]
[{"$f":"+A70+1","v":5},null,null,null,null,null,"Impoto"]
[{"$f":"CONCATENATE(\"Unità domestica non residente #\",A93)","v":"Unità domestica non residente #5"},null,null,null,null,null,{"$f":"+P113","v":0}]
["Data inizio periodo consumo",null,null,null,null,{"$f":"+'Tabella ripartizione'!$C$3","v":"00:00:00"}]
["Data fine periodo consumo",null,null,null,null,{"$f":"+'Tabella ripartizione'!$C$4","v":"00:00:00"}]
["Giorni di consumo",null,null,null,null,{"$f":"+F96-F95+1","v":1}]
["Fognatura",null,null,null,null,{"$f":"+'Tabella ripartizione'!$C$6","v":1},"(0 = esente, 1=assoggettato)"]
["Depurazione",null,null,null,null,{"$f":"+'Tabella ripartizione'!$C$7","v":1},"(0 = esente, 1=assoggettato)"]
["Consumo misurato",null,null,null,null,{"$f":"SUMIF('Tabella ripartizione'!$J:$J,A94,'Tabella ripartizione'!$K:$K)","v":0}]
[]
["Tariffe TICSI",null,null,null,null,null,null,null,null,2022]
["Domestico NON Residente","Fasce anno (m3)",null,"Fasce pro-die (m3)",null,"mc riarticolati","Importi servizio",null,null,"Importi Quota fissa",null,null,"Importi perequazione"]
[null,"da","a","da","a",{"$f":"+F108+F107+F106+F105","v":0},"Acqua","Fogna","Depurazione","Acqua","Fogna","Depurazione","Acqua","Fogna","Depurazione","Totali"]
[null,{"$f":"+B82","v":0},80,0,{"$f":"+ROUND(C105/365*F97,0)","v":0},{"$f":"+IF(F100>=E105,E105,F100)","v":0},{"$f":"+Tariffe!$A$19*F105","v":0},{"$f":"+Tariffe!$B$19*F105*F98","v":0},{"$f":"+Tariffe!$C$19*F105*F99","v":0},null,null,null,null,null,null,{"$f":"+ROUND((G105+H105+I105),2)","v":0}]
[null,81,110,{"$f":"+E105","v":0},{"$f":"+ROUND(C106/365*F97,0)","v":0},{"$f":"+IF(F100>=E106,E106-E105,IF(F100>=E105,F100-E105,IF(F100<E105,0)))","v":0},{"$f":"+Tariffe!$A$20*F106","v":0},{"$f":"+Tariffe!$B$20*F106*F98","v":0},{"$f":"+Tariffe!$C$20*F106*F99","v":0},null,null,null,null,null,null,0]
[null,111,140,0,{"$f":"+ROUND(C107/365*F97,0)","v":0},{"$f":"+IF(F100>=E107,E107-E106,IF(F100>=E106,F100-E106,IF(F100<E106,0)))","v":0},{"$f":"+Tariffe!$A$21*F107","v":0},{"$f":"+Tariffe!$B$21*F107*F98","v":0},{"$f":"+Tariffe!$C$21*F107*F99","v":0},null,null,null,null,null,null,0]
[null,141,99999,0,{"$f":"+ROUND(C108/365*F97,0)","v":274},{"$f":"+IF(F100>=E108,E108-E107,IF(F100>=E107,F100-E107,IF(F100<E107,0)))","v":0},{"$f":"+Tariffe!$A$22*F108","v":0},{"$f":"+Tariffe!$B$22*F108*F98","v":0},{"$f":"+Tariffe!$C$22*F108*F99","v":0},null,null,null,null,null,null,0]
[null,null,null,null,null,null,null,null,null,{"$f":"+IF(A93>'Tabella ripartizione'!$L$4,0,Tariffe!$E$19*F97/365)","v":0},{"$f":"+IF(A93>'Tabella ripartizione'!$L$4,0,Tariffe!$F$19*F97/365*F98)","v":0},{"$f":"+IF(A93>'Tabella ripartizione'!$L$4,0,Tariffe!$G$19*F97/365*F99)","v":0},null,null,null,{"$f":"+ROUND(J109+K109+L109,2)","v":0}]
[null,null,null,null,null,null,null,null,null,null,null,null,{"$f":"+(Tariffe!$I$3+Tariffe!$J$3+Tariffe!$K$3+Tariffe!$L$3+Tariffe!$M$3)*F100","v":0},{"$f":"+(Tariffe!$I$3+Tariffe!$J$3+Tariffe!$K$3+Tariffe!$L$3+Tariffe!$M$3)*F100*F98","v":0},{"$f":"+(Tariffe!$I$3+Tariffe!$J$3+Tariffe!$K$3+Tariffe!$L$3+Tariffe!$M$3)*F100*F99","v":0},{"$f":"+ROUND(M110+N110+O110,2)","v":0}]
[null,null,null,null,null,null,null,null,null,null,null,null,null,null,null,{"$f":"SUM(P105:P110)","v":0},"Imponibile"]
[null,null,null,null,null,null,null,null,null,null,null,null,null,null,null,{"$f":"+ROUND(P111*0.1,2)","v":0},"IVA (10%)"]
[null,null,null,null,null,null,null,null,null,null,null,null,null,null,null,{"$f":"+P112+P111","v":0},"Totale corrispettivi"]
[]
[]
[{"$f":"+A93+1","v":6},null,null,null,null,null,"Impoto"]
[{"$f":"CONCATENATE(\"Unità domestica non residente #\",A116)","v":"Unità domestica non residente #6"},null,null,null,null,null,{"$f":"+P136","v":0}]
["Data inizio periodo consumo",null,null,null,null,{"$f":"+'Tabella ripartizione'!$C$3","v":"00:00:00"}]
["Data fine periodo consumo",null,null,null,null,{"$f":"+'Tabella ripartizione'!$C$4","v":"00:00:00"}]
["Giorni di consumo",null,null,null,null,{"$f":"+F119-F118+1","v":1}]
["Fognatura",null,null,null,null,{"$f":"+'Tabella ripartizione'!$C$6","v":1},"(0 = esente, 1=assoggettato)"]
["Depurazione",null,null,null,null,{"$f":"+'Tabella ripartizione'!$C$7","v":1},"(0 = esente, 1=assoggettato)"]
["Consumo misurato",null,null,null,null,{"$f":"SUMIF('Tabella ripartizione'!$J:$J,A117,'Tabella ripartizione'!$K:$K)","v":0}]
[]
["Tariffe TICSI",null,null,null,null,null,null,null,null,2022]
["Domestico NON Residente","Fasce anno (m3)",null,"Fasce pro-die (m3)",null,"mc riarticolati","Importi servizio",null,null,"Importi Quota fissa",null,null,"Importi perequazione"]
[null,"da","a","da","a",{"$f":"+F131+F130+F129+F128","v":0},"Acqua","Fogna","Depurazione","Acqua","Fogna","Depurazione","Acqua","Fogna","Depurazione","Totali"]
[null,{"$f":"+B105","v":0},80,0,{"$f":"+ROUND(C128/365*F120,0)","v":0},{"$f":"+IF(F123>=E128,E128,F123)","v":0},{"$f":"+Tariffe!$A$19*F128","v":0},{"$f":"+Tariffe!$B$19*F128*F121","v":0},{"$f":"+Tariffe!$C$19*F128*F122","v":0},null,null,null,null,null,null,{"$f":"+ROUND((G128+H128+I128),2)","v":0}]
[null,81,110,{"$f":"+E128","v":0},{"$f":"+ROUND(C129/365*F120,0)","v":0},{"$f":"+IF(F123>=E129,E129-E128,IF(F123>=E128,F123-E128,IF(F123<E128,0)))","v":0},{"$f":"+Tariffe!$A$20*F129","v":0},{"$f":"+Tariffe!$B$20*F129*F121","v":0},{"$f":"+Tariffe!$C$20*F129*F122","v":0},null,null,null,null,null,null,0]
[null,111,140,0,{"$f":"+ROUND(C130/365*F120,0)","v":0},{"$f":"+IF(F123>=E130,E130-E129,IF(F123>=E129,F123-E129,IF(F123<E129,0)))","v":0},{"$f":"+Tariffe!$A$21*F130","v":0},{"$f":"+Tariffe!$B$21*F130*F121","v":0},{"$f":"+Tariffe!$C$21*F130*F122","v":0},null,null,null,null,null,null,0]
[null,141,99999,0,{"$f":"+ROUND(C131/365*F120,0)","v":274},{"$f":"+IF(F123>=E131,E131-E130,IF(F123>=E130,F123-E130,IF(F123<E130,0)))","v":0},{"$f":"+Tariffe!$A$22*F131","v":0},{"$f":"+Tariffe!$B$22*F131*F121","v":0},{"$f":"+Tariffe!$C$22*F131*F122","v":0},null,null,null,null,null,null,0]
[null,null,null,null,null,null,null,null,null,{"$f":"+IF(A116>'Tabella ripartizione'!$L$4,0,Tariffe!$E$19*F120/365)","v":0},{"$f":"+IF(A116>'Tabella ripartizione'!$L$4,0,Tariffe!$F$19*F120/365*F121)","v":0},{"$f":"+IF(A116>'Tabella ripartizione'!$L$4,0,Tariffe!$G$19*F120/365*F122)","v":0},null,null,null,{"$f":"+ROUND(J132+K132+L132,2)","v":0}]
[null,null,null,null,null,null,null,null,null,null,null,null,{"$f":"+(Tariffe!$I$3+Tariffe!$J$3+Tariffe!$K$3+Tariffe!$L$3+Tariffe!$M$3)*F123","v":0},{"$f":"+(Tariffe!$I$3+Tariffe!$J$3+Tariffe!$K$3+Tariffe!$L$3+Tariffe!$M$3)*F123*F121","v":0},{"$f":"+(Tariffe!$I$3+Tariffe!$J$3+Tariffe!$K$3+Tariffe!$L$3+Tariffe!$M$3)*F123*F122","v":0},{"$f":"+ROUND(M133+N133+O133,2)","v":0}]
[null,null,null,null,null,null,null,null,null,null,null,null,null,null,null,{"$f":"SUM(P128:P133)","v":0},"Imponibile"]
[null,null,null,null,null,null,null,null,null,null,null,null,null,null,null,{"$f":"+ROUND(P134*0.1,2)","v":0},"IVA (10%)"]
[null,null,null,null,null,null,null,null,null,null,null,null,null,null,null,{"$f":"+P135+P134","v":0},"Totale corrispettivi"]
[]
[]
[{"$f":"+A116+1","v":7},null,null,null,null,null,"Impoto"]
[{"$f":"CONCATENATE(\"Unità domestica non residente #\",A139)","v":"Unità domestica non residente #7"},null,null,null,null,null,{"$f":"+P159","v":0}]
["Data inizio periodo consumo",null,null,null,null,{"$f":"+'Tabella ripartizione'!$C$3","v":"00:00:00"}]
["Data fine periodo consumo",null,null,null,null,{"$f":"+'Tabella ripartizione'!$C$4","v":"00:00:00"}]
["Giorni di consumo",null,null,null,null,{"$f":"+F142-F141+1","v":1}]
["Fognatura",null,null,null,null,{"$f":"+'Tabella ripartizione'!$C$6","v":1},"(0 = esente, 1=assoggettato)"]
["Depurazione",null,null,null,null,{"$f":"+'Tabella ripartizione'!$C$7","v":1},"(0 = esente, 1=assoggettato)"]
["Consumo misurato",null,null,null,null,{"$f":"SUMIF('Tabella ripartizione'!$J:$J,A140,'Tabella ripartizione'!$K:$K)","v":0}]
[]
["Tariffe TICSI",null,null,null,null,null,null,null,null,2022]
["Domestico NON Residente","Fasce anno (m3)",null,"Fasce pro-die (m3)",null,"mc riarticolati","Importi servizio",null,null,"Importi Quota fissa",null,null,"Importi perequazione"]
[null,"da","a","da","a",{"$f":"+F154+F153+F152+F151","v":0},"Acqua","Fogna","Depurazione","Acqua","Fogna","Depurazione","Acqua","Fogna","Depurazione","Totali"]
[null,{"$f":"+B128","v":0},80,0,{"$f":"+ROUND(C151/365*F143,0)","v":0},{"$f":"+IF(F146>=E151,E151,F146)","v":0},{"$f":"+Tariffe!$A$19*F151","v":0},{"$f":"+Tariffe!$B$19*F151*F144","v":0},{"$f":"+Tariffe!$C$19*F151*F145","v":0},null,null,null,null,null,null,{"$f":"+ROUND((G151+H151+I151),2)","v":0}]
[null,81,110,{"$f":"+E151","v":0},{"$f":"+ROUND(C152/365*F143,0)","v":0},{"$f":"+IF(F146>=E152,E152-E151,IF(F146>=E151,F146-E151,IF(F146<E151,0)))","v":0},{"$f":"+Tariffe!$A$20*F152","v":0},{"$f":"+Tariffe!$B$20*F152*F144","v":0},{"$f":"+Tariffe!$C$20*F152*F145","v":0},null,null,null,null,null,null,0]
[null,111,140,0,{"$f":"+ROUND(C153/365*F143,0)","v":0},{"$f":"+IF(F146>=E153,E153-E152,IF(F146>=E152,F146-E152,IF(F146<E152,0)))","v":0},{"$f":"+Tariffe!$A$21*F153","v":0},{"$f":"+Tariffe!$B$21*F153*F144","v":0},{"$f":"+Tariffe!$C$21*F153*F145","v":0},null,null,null,null,null,null,0]
[null,141,99999,0,{"$f":"+ROUND(C154/365*F143,0)","v":274},{"$f":"+IF(F146>=E154,E154-E153,IF(F146>=E153,F146-E153,IF(F146<E153,0)))","v":0},{"$f":"+Tariffe!$A$22*F154","v":0},{"$f":"+Tariffe!$B$22*F154*F144","v":0},{"$f":"+Tariffe!$C$22*F154*F145","v":0},null,null,null,null,null,null,0]
[null,null,null,null,null,null,null,null,null,{"$f":"+IF(A139>'Tabella ripartizione'!$L$4,0,Tariffe!$E$19*F143/365)","v":0},{"$f":"+IF(A139>'Tabella ripartizione'!$L$4,0,Tariffe!$F$19*F143/365*F144)","v":0},{"$f":"+IF(A139>'Tabella ripartizione'!$L$4,0,Tariffe!$G$19*F143/365*F145)","v":0},null,null,null,{"$f":"+ROUND(J155+K155+L155,2)","v":0}]
[null,null,null,null,null,null,null,null,null,null,null,null,{"$f":"+(Tariffe!$I$3+Tariffe!$J$3+Tariffe!$K$3+Tariffe!$L$3+Tariffe!$M$3)*F146","v":0},{"$f":"+(Tariffe!$I$3+Tariffe!$J$3+Tariffe!$K$3+Tariffe!$L$3+Tariffe!$M$3)*F146*F144","v":0},{"$f":"+(Tariffe!$I$3+Tariffe!$J$3+Tariffe!$K$3+Tariffe!$L$3+Tariffe!$M$3)*F146*F145","v":0},{"$f":"+ROUND(M156+N156+O156,2)","v":0}]
[null,null,null,null,null,null,null,null,null,null,null,null,null,null,null,{"$f":"SUM(P151:P156)","v":0},"Imponibile"]
[null,null,null,null,null,null,null,null,null,null,null,null,null,null,null,{"$f":"+ROUND(P157*0.1,2)","v":0},"IVA (10%)"]
[null,null,null,null,null,null,null,null,null,null,null,null,null,null,null,{"$f":"+P158+P157","v":0},"Totale corrispettivi"]
[]
[]
[{"$f":"+A139+1","v":8},null,null,null,null,null,"Impoto"]
[{"$f":"CONCATENATE(\"Unità domestica non residente #\",A162)","v":"Unità domestica non residente #8"},null,null,null,null,null,{"$f":"+P182","v":0}]
["Data inizio periodo consumo",null,null,null,null,{"$f":"+'Tabella ripartizione'!$C$3","v":"00:00:00"}]
["Data fine periodo consumo",null,null,null,null,{"$f":"+'Tabella ripartizione'!$C$4","v":"00:00:00"}]
["Giorni di consumo",null,null,null,null,{"$f":"+F165-F164+1","v":1}]
["Fognatura",null,null,null,null,{"$f":"+'Tabella ripartizione'!$C$6","v":1},"(0 = esente, 1=assoggettato)"]
["Depurazione",null,null,null,null,{"$f":"+'Tabella ripartizione'!$C$7","v":1},"(0 = esente, 1=assoggettato)"]
["Consumo misurato",null,null,null,null,{"$f":"SUMIF('Tabella ripartizione'!$J:$J,A163,'Tabella ripartizione'!$K:$K)","v":0}]
[]
["Tariffe TICSI",null,null,null,null,null,null,null,null,2022]
["Domestico NON Residente","Fasce anno (m3)",null,"Fasce pro-die (m3)",null,"mc riarticolati","Importi servizio",null,null,"Importi Quota fissa",null,null,"Importi perequazione"]
[null,"da","a","da","a",{"$f":"+F177+F176+F175+F174","v":0},"Acqua","Fogna","Depurazione","Acqua","Fogna","Depurazione","Acqua","Fogna","Depurazione","Totali"]
[null,{"$f":"+B151","v":0},80,0,{"$f":"+ROUND(C174/365*F166,0)","v":0},{"$f":"+IF(F169>=E174,E174,F169)","v":0},{"$f":"+Tariffe!$A$19*F174","v":0},{"$f":"+Tariffe!$B$19*F174*F167","v":0},{"$f":"+Tariffe!$C$19*F174*F168","v":0},null,null,null,null,null,null,{"$f":"+ROUND((G174+H174+I174),2)","v":0}]
[null,81,110,{"$f":"+E174","v":0},{"$f":"+ROUND(C175/365*F166,0)","v":0},{"$f":"+IF(F169>=E175,E175-E174,IF(F169>=E174,F169-E174,IF(F169<E174,0)))","v":0},{"$f":"+Tariffe!$A$20*F175","v":0},{"$f":"+Tariffe!$B$20*F175*F167","v":0},{"$f":"+Tariffe!$C$20*F175*F168","v":0},null,null,null,null,null,null,0]
[null,111,140,0,{"$f":"+ROUND(C176/365*F166,0)","v":0},{"$f":"+IF(F169>=E176,E176-E175,IF(F169>=E175,F169-E175,IF(F169<E175,0)))","v":0},{"$f":"+Tariffe!$A$21*F176","v":0},{"$f":"+Tariffe!$B$21*F176*F167","v":0},{"$f":"+Tariffe!$C$21*F176*F168","v":0},null,null,null,null,null,null,0]
[null,141,99999,0,{"$f":"+ROUND(C177/365*F166,0)","v":274},{"$f":"+IF(F169>=E177,E177-E176,IF(F169>=E176,F169-E176,IF(F169<E176,0)))","v":0},{"$f":"+Tariffe!$A$22*F177","v":0},{"$f":"+Tariffe!$B$22*F177*F167","v":0},{"$f":"+Tariffe!$C$22*F177*F168","v":0},null,null,null,null,null,null,0]
[null,null,null,null,null,null,null,null,null,{"$f":"+IF(A162>'Tabella ripartizione'!$L$4,0,Tariffe!$E$19*F166/365)","v":0},{"$f":"+IF(A162>'Tabella ripartizione'!$L$4,0,Tariffe!$F$19*F166/365*F167)","v":0},{"$f":"+IF(A162>'Tabella ripartizione'!$L$4,0,Tariffe!$G$19*F166/365*F168)","v":0},null,null,null,{"$f":"+ROUND(J178+K178+L178,2)","v":0}]
[null,null,null,null,null,null,null,null,null,null,null,null,{"$f":"+(Tariffe!$I$3+Tariffe!$J$3+Tariffe!$K$3+Tariffe!$L$3+Tariffe!$M$3)*F169","v":0},{"$f":"+(Tariffe!$I$3+Tariffe!$J$3+Tariffe!$K$3+Tariffe!$L$3+Tariffe!$M$3)*F169*F167","v":0},{"$f":"+(Tariffe!$I$3+Tariffe!$J$3+Tariffe!$K$3+Tariffe!$L$3+Tariffe!$M$3)*F169*F168","v":0},{"$f":"+ROUND(M179+N179+O179,2)","v":0}]
[null,null,null,null,null,null,null,null,null,null,null,null,null,null,null,{"$f":"SUM(P174:P179)","v":0},"Imponibile"]
[null,null,null,null,null,null,null,null,null,null,null,null,null,null,null,{"$f":"+ROUND(P180*0.1,2)","v":0},"IVA (10%)"]
[null,null,null,null,null,null,null,null,null,null,null,null,null,null,null,{"$f":"+P181+P180","v":0},"Totale corrispettivi"]
[]
[]
[{"$f":"+A162+1","v":9},null,null,null,null,null,"Impoto"]
[{"$f":"CONCATENATE(\"Unità domestica non residente #\",A185)","v":"Unità domestica non residente #9"},null,null,null,null,null,{"$f":"+P205","v":0}]
["Data inizio periodo consumo",null,null,null,null,{"$f":"+'Tabella ripartizione'!$C$3","v":"00:00:00"}]
["Data fine periodo consumo",null,null,null,null,{"$f":"+'Tabella ripartizione'!$C$4","v":"00:00:00"}]
["Giorni di consumo",null,null,null,null,{"$f":"+F188-F187+1","v":1}]
["Fognatura",null,null,null,null,{"$f":"+'Tabella ripartizione'!$C$6","v":1},"(0 = esente, 1=assoggettato)"]
["Depurazione",null,null,null,null,{"$f":"+'Tabella ripartizione'!$C$7","v":1},"(0 = esente, 1=assoggettato)"]
["Consumo misurato",null,null,null,null,{"$f":"SUMIF('Tabella ripartizione'!$J:$J,A186,'Tabella ripartizione'!$K:$K)","v":0}]
[]
["Tariffe TICSI",null,null,null,null,null,null,null,null,2022]
["Domestico NON Residente","Fasce anno (m3)",null,"Fasce pro-die (m3)",null,"mc riarticolati","Importi servizio",null,null,"Importi Quota fissa",null,null,"Importi perequazione"]
[null,"da","a","da","a",{"$f":"+F200+F199+F198+F197","v":0},"Acqua","Fogna","Depurazione","Acqua","Fogna","Depurazione","Acqua","Fogna","Depurazione","Totali"]
[null,{"$f":"+B174","v":0},80,0,{"$f":"+ROUND(C197/365*F189,0)","v":0},{"$f":"+IF(F192>=E197,E197,F192)","v":0},{"$f":"+Tariffe!$A$19*F197","v":0},{"$f":"+Tariffe!$B$19*F197*F190","v":0},{"$f":"+Tariffe!$C$19*F197*F191","v":0},null,null,null,null,null,null,{"$f":"+ROUND((G197+H197+I197),2)","v":0}]
[null,81,110,{"$f":"+E197","v":0},{"$f":"+ROUND(C198/365*F189,0)","v":0},{"$f":"+IF(F192>=E198,E198-E197,IF(F192>=E197,F192-E197,IF(F192<E197,0)))","v":0},{"$f":"+Tariffe!$A$20*F198","v":0},{"$f":"+Tariffe!$B$20*F198*F190","v":0},{"$f":"+Tariffe!$C$20*F198*F191","v":0},null,null,null,null,null,null,0]
[null,111,140,0,{"$f":"+ROUND(C199/365*F189,0)","v":0},{"$f":"+IF(F192>=E199,E199-E198,IF(F192>=E198,F192-E198,IF(F192<E198,0)))","v":0},{"$f":"+Tariffe!$A$21*F199","v":0},{"$f":"+Tariffe!$B$21*F199*F190","v":0},{"$f":"+Tariffe!$C$21*F199*F191","v":0},null,null,null,null,null,null,0]
[null,141,99999,0,{"$f":"+ROUND(C200/365*F189,0)","v":274},{"$f":"+IF(F192>=E200,E200-E199,IF(F192>=E199,F192-E199,IF(F192<E199,0)))","v":0},{"$f":"+Tariffe!$A$22*F200","v":0},{"$f":"+Tariffe!$B$22*F200*F190","v":0},{"$f":"+Tariffe!$C$22*F200*F191","v":0},null,null,null,null,null,null,0]
[null,null,null,null,null,null,null,null,null,{"$f":"+IF(A185>'Tabella ripartizione'!$L$4,0,Tariffe!$E$19*F189/365)","v":0},{"$f":"+IF(A185>'Tabella ripartizione'!$L$4,0,Tariffe!$F$19*F189/365*F190)","v":0},{"$f":"+IF(A185>'Tabella ripartizione'!$L$4,0,Tariffe!$G$19*F189/365*F191)","v":0},null,null,null,{"$f":"+ROUND(J201+K201+L201,2)","v":0}]
[null,null,null,null,null,null,null,null,null,null,null,null,{"$f":"+(Tariffe!$I$3+Tariffe!$J$3+Tariffe!$K$3+Tariffe!$L$3+Tariffe!$M$3)*F192","v":0},{"$f":"+(Tariffe!$I$3+Tariffe!$J$3+Tariffe!$K$3+Tariffe!$L$3+Tariffe!$M$3)*F192*F190","v":0},{"$f":"+(Tariffe!$I$3+Tariffe!$J$3+Tariffe!$K$3+Tariffe!$L$3+Tariffe!$M$3)*F192*F191","v":0},{"$f":"+ROUND(M202+N202+O202,2)","v":0}]
[null,null,null,null,null,null,null,null,null,null,null,null,null,null,null,{"$f":"SUM(P197:P202)","v":0},"Imponibile"]
[null,null,null,null,null,null,null,null,null,null,null,null,null,null,null,{"$f":"+ROUND(P203*0.1,2)","v":0},"IVA (10%)"]
[null,null,null,null,null,null,null,null,null,null,null,null,null,null,null,{"$f":"+P204+P203","v":0},"Totale corrispettivi"]
[]
[]
[{"$f":"+A185+1","v":10},null,null,null,null,null,"Impoto"]
[{"$f":"CONCATENATE(\"Unità domestica non residente #\",A208)","v":"Unità domestica non residente #10"},null,null,null,null,null,{"$f":"+P228","v":0}]
["Data inizio periodo consumo",null,null,null,null,{"$f":"+'Tabella ripartizione'!$C$3","v":"00:00:00"}]
["Data fine periodo consumo",null,null,null,null,{"$f":"+'Tabella ripartizione'!$C$4","v":"00:00:00"}]
["Giorni di consumo",null,null,null,null,{"$f":"+F211-F210+1","v":1}]
["Fognatura",null,null,null,null,{"$f":"+'Tabella ripartizione'!$C$6","v":1},"(0 = esente, 1=assoggettato)"]
["Depurazione",null,null,null,null,{"$f":"+'Tabella ripartizione'!$C$7","v":1},"(0 = esente, 1=assoggettato)"]
["Consumo misurato",null,null,null,null,{"$f":"SUMIF('Tabella ripartizione'!$J:$J,A209,'Tabella ripartizione'!$K:$K)","v":0}]
[]
["Tariffe TICSI",null,null,null,null,null,null,null,null,2022]
["Domestico NON Residente","Fasce anno (m3)",null,"Fasce pro-die (m3)",null,"mc riarticolati","Importi servizio",null,null,"Importi Quota fissa",null,null,"Importi perequazione"]
[null,"da","a","da","a",{"$f":"+F223+F222+F221+F220","v":0},"Acqua","Fogna","Depurazione","Acqua","Fogna","Depurazione","Acqua","Fogna","Depurazione","Totali"]
[null,{"$f":"+B197","v":0},80,0,{"$f":"+ROUND(C220/365*F212,0)","v":0},{"$f":"+IF(F215>=E220,E220,F215)","v":0},{"$f":"+Tariffe!$A$19*F220","v":0},{"$f":"+Tariffe!$B$19*F220*F213","v":0},{"$f":"+Tariffe!$C$19*F220*F214","v":0},null,null,null,null,null,null,{"$f":"+ROUND((G220+H220+I220),2)","v":0}]
[null,81,110,{"$f":"+E220","v":0},{"$f":"+ROUND(C221/365*F212,0)","v":0},{"$f":"+IF(F215>=E221,E221-E220,IF(F215>=E220,F215-E220,IF(F215<E220,0)))","v":0},{"$f":"+Tariffe!$A$20*F221","v":0},{"$f":"+Tariffe!$B$20*F221*F213","v":0},{"$f":"+Tariffe!$C$20*F221*F214","v":0},null,null,null,null,null,null,0]
[null,111,140,0,{"$f":"+ROUND(C222/365*F212,0)","v":0},{"$f":"+IF(F215>=E222,E222-E221,IF(F215>=E221,F215-E221,IF(F215<E221,0)))","v":0},{"$f":"+Tariffe!$A$21*F222","v":0},{"$f":"+Tariffe!$B$21*F222*F213","v":0},{"$f":"+Tariffe!$C$21*F222*F214","v":0},null,null,null,null,null,null,0]
[null,141,99999,0,{"$f":"+ROUND(C223/365*F212,0)","v":274},{"$f":"+IF(F215>=E223,E223-E222,IF(F215>=E222,F215-E222,IF(F215<E222,0)))","v":0},{"$f":"+Tariffe!$A$22*F223","v":0},{"$f":"+Tariffe!$B$22*F223*F213","v":0},{"$f":"+Tariffe!$C$22*F223*F214","v":0},null,null,null,null,null,null,0]
[null,null,null,null,null,null,null,null,null,{"$f":"+IF(A208>'Tabella ripartizione'!$L$4,0,Tariffe!$E$19*F212/365)","v":0},{"$f":"+IF(A208>'Tabella ripartizione'!$L$4,0,Tariffe!$F$19*F212/365*F213)","v":0},{"$f":"+IF(A208>'Tabella ripartizione'!$L$4,0,Tariffe!$G$19*F212/365*F214)","v":0},null,null,null,{"$f":"+ROUND(J224+K224+L224,2)","v":0}]
[null,null,null,null,null,null,null,null,null,null,null,null,{"$f":"+(Tariffe!$I$3+Tariffe!$J$3+Tariffe!$K$3+Tariffe!$L$3+Tariffe!$M$3)*F215","v":0},{"$f":"+(Tariffe!$I$3+Tariffe!$J$3+Tariffe!$K$3+Tariffe!$L$3+Tariffe!$M$3)*F215*F213","v":0},{"$f":"+(Tariffe!$I$3+Tariffe!$J$3+Tariffe!$K$3+Tariffe!$L$3+Tariffe!$M$3)*F215*F214","v":0},{"$f":"+ROUND(M225+N225+O225,2)","v":0}]
[null,null,null,null,null,null,null,null,null,null,null,null,null,null,null,{"$f":"SUM(P220:P225)","v":0},"Imponibile"]
[null,null,null,null,null,null,null,null,null,null,null,null,null,null,null,{"$f":"+ROUND(P226*0.1,2)","v":0},"IVA (10%)"]
[null,null,null,null,null,null,null,null,null,null,null,null,null,null,null,{"$f":"+P227+P226","v":0},"Totale corrispettivi"]
[]
[]
[{"$f":"+A208+1","v":11},null,null,null,null,null,"Impoto"]
[{"$f":"CONCATENATE(\"Unità domestica non residente #\",A231)","v":"Unità domestica non residente #11"},null,null,null,null,null,{"$f":"+P251","v":0}]
["Data inizio periodo consumo",null,null,null,null,{"$f":"+'Tabella ripartizione'!$C$3","v":"00:00:00"}]
["Data fine periodo consumo",null,null,null,null,{"$f":"+'Tabella ripartizione'!$C$4","v":"00:00:00"}]
["Giorni di consumo",null,null,null,null,{"$f":"+F234-F233+1","v":1}]
["Fognatura",null,null,null,null,{"$f":"+'Tabella ripartizione'!$C$6","v":1},"(0 = esente, 1=assoggettato)"]
["Depurazione",null,null,null,null,{"$f":"+'Tabella ripartizione'!$C$7","v":1},"(0 = esente, 1=assoggettato)"]
["Consumo misurato",null,null,null,null,{"$f":"SUMIF('Tabella ripartizione'!$J:$J,A232,'Tabella ripartizione'!$K:$K)","v":0}]
[]
["Tariffe TICSI",null,null,null,null,null,null,null,null,2022]
["Domestico NON Residente","Fasce anno (m3)",null,"Fasce pro-die (m3)",null,"mc riarticolati","Importi servizio",null,null,"Importi Quota fissa",null,null,"Importi perequazione"]
[null,"da","a","da","a",{"$f":"+F246+F245+F244+F243","v":0},"Acqua","Fogna","Depurazione","Acqua","Fogna","Depurazione","Acqua","Fogna","Depurazione","Totali"]
[null,{"$f":"+B220","v":0},80,0,{"$f":"+ROUND(C243/365*F235,0)","v":0},{"$f":"+IF(F238>=E243,E243,F238)","v":0},{"$f":"+Tariffe!$A$19*F243","v":0},{"$f":"+Tariffe!$B$19*F243*F236","v":0},{"$f":"+Tariffe!$C$19*F243*F237","v":0},null,null,null,null,null,null,{"$f":"+ROUND((G243+H243+I243),2)","v":0}]
[null,81,110,{"$f":"+E243","v":0},{"$f":"+ROUND(C244/365*F235,0)","v":0},{"$f":"+IF(F238>=E244,E244-E243,IF(F238>=E243,F238-E243,IF(F238<E243,0)))","v":0},{"$f":"+Tariffe!$A$20*F244","v":0},{"$f":"+Tariffe!$B$20*F244*F236","v":0},{"$f":"+Tariffe!$C$20*F244*F237","v":0},null,null,null,null,null,null,0]
[null,111,140,0,{"$f":"+ROUND(C245/365*F235,0)","v":0},{"$f":"+IF(F238>=E245,E245-E244,IF(F238>=E244,F238-E244,IF(F238<E244,0)))","v":0},{"$f":"+Tariffe!$A$21*F245","v":0},{"$f":"+Tariffe!$B$21*F245*F236","v":0},{"$f":"+Tariffe!$C$21*F245*F237","v":0},null,null,null,null,null,null,0]
[null,141,99999,0,{"$f":"+ROUND(C246/365*F235,0)","v":274},{"$f":"+IF(F238>=E246,E246-E245,IF(F238>=E245,F238-E245,IF(F238<E245,0)))","v":0},{"$f":"+Tariffe!$A$22*F246","v":0},{"$f":"+Tariffe!$B$22*F246*F236","v":0},{"$f":"+Tariffe!$C$22*F246*F237","v":0},null,null,null,null,null,null,0]
[null,null,null,null,null,null,null,null,null,{"$f":"+IF(A231>'Tabella ripartizione'!$L$4,0,Tariffe!$E$19*F235/365)","v":0},{"$f":"+IF(A231>'Tabella ripartizione'!$L$4,0,Tariffe!$F$19*F235/365*F236)","v":0},{"$f":"+IF(A231>'Tabella ripartizione'!$L$4,0,Tariffe!$G$19*F235/365*F237)","v":0},null,null,null,{"$f":"+ROUND(J247+K247+L247,2)","v":0}]
[null,null,null,null,null,null,null,null,null,null,null,null,{"$f":"+(Tariffe!$I$3+Tariffe!$J$3+Tariffe!$K$3+Tariffe!$L$3+Tariffe!$M$3)*F238","v":0},{"$f":"+(Tariffe!$I$3+Tariffe!$J$3+Tariffe!$K$3+Tariffe!$L$3+Tariffe!$M$3)*F238*F236","v":0},{"$f":"+(Tariffe!$I$3+Tariffe!$J$3+Tariffe!$K$3+Tariffe!$L$3+Tariffe!$M$3)*F238*F237","v":0},{"$f":"+ROUND(M248+N248+O248,2)","v":0}]
[null,null,null,null,null,null,null,null,null,null,null,null,null,null,null,{"$f":"SUM(P243:P248)","v":0},"Imponibile"]
[null,null,null,null,null,null,null,null,null,null,null,null,null,null,null,{"$f":"+ROUND(P249*0.1,2)","v":0},"IVA (10%)"]
[null,null,null,null,null,null,null,null,null,null,null,null,null,null,null,{"$f":"+P250+P249","v":0},"Totale corrispettivi"]
[]
[]
[{"$f":"+A231+1","v":12},null,null,null,null,null,"Impoto"]
[{"$f":"CONCATENATE(\"Unità domestica non residente #\",A254)","v":"Unità domestica non residente #12"},null,null,null,null,null,{"$f":"+P274","v":0}]
["Data inizio periodo consumo",null,null,null,null,{"$f":"+'Tabella ripartizione'!$C$3","v":"00:00:00"}]
["Data fine periodo consumo",null,null,null,null,{"$f":"+'Tabella ripartizione'!$C$4","v":"00:00:00"}]
["Giorni di consumo",null,null,null,null,{"$f":"+F257-F256+1","v":1}]
["Fognatura",null,null,null,null,{"$f":"+'Tabella ripartizione'!$C$6","v":1},"(0 = esente, 1=assoggettato)"]
["Depurazione",null,null,null,null,{"$f":"+'Tabella ripartizione'!$C$7","v":1},"(0 = esente, 1=assoggettato)"]
["Consumo misurato",null,null,null,null,{"$f":"SUMIF('Tabella ripartizione'!$J:$J,A255,'Tabella ripartizione'!$K:$K)","v":0}]
[]
["Tariffe TICSI",null,null,null,null,null,null,null,null,2022]
["Domestico NON Residente","Fasce anno (m3)",null,"Fasce pro-die (m3)",null,"mc riarticolati","Importi servizio",null,null,"Importi Quota fissa",null,null,"Importi perequazione"]
[null,"da","a","da","a",{"$f":"+F269+F268+F267+F266","v":0},"Acqua","Fogna","Depurazione","Acqua","Fogna","Depurazione","Acqua","Fogna","Depurazione","Totali"]
[null,{"$f":"+B243","v":0},80,0,{"$f":"+ROUND(C266/365*F258,0)","v":0},{"$f":"+IF(F261>=E266,E266,F261)","v":0},{"$f":"+Tariffe!$A$19*F266","v":0},{"$f":"+Tariffe!$B$19*F266*F259","v":0},{"$f":"+Tariffe!$C$19*F266*F260","v":0},null,null,null,null,null,null,{"$f":"+ROUND((G266+H266+I266),2)","v":0}]
[null,81,110,{"$f":"+E266","v":0},{"$f":"+ROUND(C267/365*F258,0)","v":0},{"$f":"+IF(F261>=E267,E267-E266,IF(F261>=E266,F261-E266,IF(F261<E266,0)))","v":0},{"$f":"+Tariffe!$A$20*F267","v":0},{"$f":"+Tariffe!$B$20*F267*F259","v":0},{"$f":"+Tariffe!$C$20*F267*F260","v":0},null,null,null,null,null,null,0]
[null,111,140,0,{"$f":"+ROUND(C268/365*F258,0)","v":0},{"$f":"+IF(F261>=E268,E268-E267,IF(F261>=E267,F261-E267,IF(F261<E267,0)))","v":0},{"$f":"+Tariffe!$A$21*F268","v":0},{"$f":"+Tariffe!$B$21*F268*F259","v":0},{"$f":"+Tariffe!$C$21*F268*F260","v":0},null,null,null,null,null,null,0]
[null,141,99999,0,{"$f":"+ROUND(C269/365*F258,0)","v":274},{"$f":"+IF(F261>=E269,E269-E268,IF(F261>=E268,F261-E268,IF(F261<E268,0)))","v":0},{"$f":"+Tariffe!$A$22*F269","v":0},{"$f":"+Tariffe!$B$22*F269*F259","v":0},{"$f":"+Tariffe!$C$22*F269*F260","v":0},null,null,null,null,null,null,0]
[null,null,null,null,null,null,null,null,null,{"$f":"+IF(A254>'Tabella ripartizione'!$L$4,0,Tariffe!$E$19*F258/365)","v":0},{"$f":"+IF(A254>'Tabella ripartizione'!$L$4,0,Tariffe!$F$19*F258/365*F259)","v":0},{"$f":"+IF(A254>'Tabella ripartizione'!$L$4,0,Tariffe!$G$19*F258/365*F260)","v":0},null,null,null,{"$f":"+ROUND(J270+K270+L270,2)","v":0}]
[null,null,null,null,null,null,null,null,null,null,null,null,{"$f":"+(Tariffe!$I$3+Tariffe!$J$3+Tariffe!$K$3+Tariffe!$L$3+Tariffe!$M$3)*F261","v":0},{"$f":"+(Tariffe!$I$3+Tariffe!$J$3+Tariffe!$K$3+Tariffe!$L$3+Tariffe!$M$3)*F261*F259","v":0},{"$f":"+(Tariffe!$I$3+Tariffe!$J$3+Tariffe!$K$3+Tariffe!$L$3+Tariffe!$M$3)*F261*F260","v":0},{"$f":"+ROUND(M271+N271+O271,2)","v":0}]
[null,null,null,null,null,null,null,null,null,null,null,null,null,null,null,{"$f":"SUM(P266:P271)","v":0},"Imponibile"]
[null,null,null,null,null,null,null,null,null,null,null,null,null,null,null,{"$f":"+ROUND(P272*0.1,2)","v":0},"IVA (10%)"]
[null,null,null,null,null,null,null,null,null,null,null,null,null,null,null,{"$f":"+P273+P272","v":0},"Totale corrispettivi"]
[]
[]
[{"$f":"+A254+1","v":13},null,null,null,null,null,"Impoto"]
[{"$f":"CONCATENATE(\"Unità domestica non residente #\",A277)","v":"Unità domestica non residente #13"},null,null,null,null,null,{"$f":"+P297","v":0}]
["Data inizio periodo consumo",null,null,null,null,{"$f":"+'Tabella ripartizione'!$C$3","v":"00:00:00"}]
["Data fine periodo consumo",null,null,null,null,{"$f":"+'Tabella ripartizione'!$C$4","v":"00:00:00"}]
["Giorni di consumo",null,null,null,null,{"$f":"+F280-F279+1","v":1}]
["Fognatura",null,null,null,null,{"$f":"+'Tabella ripartizione'!$C$6","v":1},"(0 = esente, 1=assoggettato)"]
["Depurazione",null,null,null,null,{"$f":"+'Tabella ripartizione'!$C$7","v":1},"(0 = esente, 1=assoggettato)"]
["Consumo misurato",null,null,null,null,{"$f":"SUMIF('Tabella ripartizione'!$J:$J,A278,'Tabella ripartizione'!$K:$K)","v":0}]
[]
["Tariffe TICSI",null,null,null,null,null,null,null,null,2022]
["Domestico NON Residente","Fasce anno (m3)",null,"Fasce pro-die (m3)",null,"mc riarticolati","Importi servizio",null,null,"Importi Quota fissa",null,null,"Importi perequazione"]
[null,"da","a","da","a",{"$f":"+F292+F291+F290+F289","v":0},"Acqua","Fogna","Depurazione","Acqua","Fogna","Depurazione","Acqua","Fogna","Depurazione","Totali"]
[null,{"$f":"+B266","v":0},80,0,{"$f":"+ROUND(C289/365*F281,0)","v":0},{"$f":"+IF(F284>=E289,E289,F284)","v":0},{"$f":"+Tariffe!$A$19*F289","v":0},{"$f":"+Tariffe!$B$19*F289*F282","v":0},{"$f":"+Tariffe!$C$19*F289*F283","v":0},null,null,null,null,null,null,{"$f":"+ROUND((G289+H289+I289),2)","v":0}]
[null,81,110,{"$f":"+E289","v":0},{"$f":"+ROUND(C290/365*F281,0)","v":0},{"$f":"+IF(F284>=E290,E290-E289,IF(F284>=E289,F284-E289,IF(F284<E289,0)))","v":0},{"$f":"+Tariffe!$A$20*F290","v":0},{"$f":"+Tariffe!$B$20*F290*F282","v":0},{"$f":"+Tariffe!$C$20*F290*F283","v":0},null,null,null,null,null,null,0]
[null,111,140,0,{"$f":"+ROUND(C291/365*F281,0)","v":0},{"$f":"+IF(F284>=E291,E291-E290,IF(F284>=E290,F284-E290,IF(F284<E290,0)))","v":0},{"$f":"+Tariffe!$A$21*F291","v":0},{"$f":"+Tariffe!$B$21*F291*F282","v":0},{"$f":"+Tariffe!$C$21*F291*F283","v":0},null,null,null,null,null,null,0]
[null,141,99999,0,{"$f":"+ROUND(C292/365*F281,0)","v":274},{"$f":"+IF(F284>=E292,E292-E291,IF(F284>=E291,F284-E291,IF(F284<E291,0)))","v":0},{"$f":"+Tariffe!$A$22*F292","v":0},{"$f":"+Tariffe!$B$22*F292*F282","v":0},{"$f":"+Tariffe!$C$22*F292*F283","v":0},null,null,null,null,null,null,0]
[null,null,null,null,null,null,null,null,null,{"$f":"+IF(A277>'Tabella ripartizione'!$L$4,0,Tariffe!$E$19*F281/365)","v":0},{"$f":"+IF(A277>'Tabella ripartizione'!$L$4,0,Tariffe!$F$19*F281/365*F282)","v":0},{"$f":"+IF(A277>'Tabella ripartizione'!$L$4,0,Tariffe!$G$19*F281/365*F283)","v":0},null,null,null,{"$f":"+ROUND(J293+K293+L293,2)","v":0}]
[null,null,null,null,null,null,null,null,null,null,null,null,{"$f":"+(Tariffe!$I$3+Tariffe!$J$3+Tariffe!$K$3+Tariffe!$L$3+Tariffe!$M$3)*F284","v":0},{"$f":"+(Tariffe!$I$3+Tariffe!$J$3+Tariffe!$K$3+Tariffe!$L$3+Tariffe!$M$3)*F284*F282","v":0},{"$f":"+(Tariffe!$I$3+Tariffe!$J$3+Tariffe!$K$3+Tariffe!$L$3+Tariffe!$M$3)*F284*F283","v":0},{"$f":"+ROUND(M294+N294+O294,2)","v":0}]
[null,null,null,null,null,null,null,null,null,null,null,null,null,null,null,{"$f":"SUM(P289:P294)","v":0},"Imponibile"]
[null,null,null,null,null,null,null,null,null,null,null,null,null,null,null,{"$f":"+ROUND(P295*0.1,2)","v":0},"IVA (10%)"]
[null,null,null,null,null,null,null,null,null,null,null,null,null,null,null,{"$f":"+P296+P295","v":0},"Totale corrispettivi"]
[]
[]
[{"$f":"+A277+1","v":14},null,null,null,null,null,"Impoto"]
[{"$f":"CONCATENATE(\"Unità domestica non residente #\",A300)","v":"Unità domestica non residente #14"},null,null,null,null,null,{"$f":"+P320","v":0}]
["Data inizio periodo consumo",null,null,null,null,{"$f":"+'Tabella ripartizione'!$C$3","v":"00:00:00"}]
["Data fine periodo consumo",null,null,null,null,{"$f":"+'Tabella ripartizione'!$C$4","v":"00:00:00"}]
["Giorni di consumo",null,null,null,null,{"$f":"+F303-F302+1","v":1}]
["Fognatura",null,null,null,null,{"$f":"+'Tabella ripartizione'!$C$6","v":1},"(0 = esente, 1=assoggettato)"]
["Depurazione",null,null,null,null,{"$f":"+'Tabella ripartizione'!$C$7","v":1},"(0 = esente, 1=assoggettato)"]
["Consumo misurato",null,null,null,null,{"$f":"SUMIF('Tabella ripartizione'!$J:$J,A301,'Tabella ripartizione'!$K:$K)","v":0}]
[]
["Tariffe TICSI",null,null,null,null,null,null,null,null,2022]
["Domestico NON Residente","Fasce anno (m3)",null,"Fasce pro-die (m3)",null,"mc riarticolati","Importi servizio",null,null,"Importi Quota fissa",null,null,"Importi perequazione"]
[null,"da","a","da","a",{"$f":"+F315+F314+F313+F312","v":0},"Acqua","Fogna","Depurazione","Acqua","Fogna","Depurazione","Acqua","Fogna","Depurazione","Totali"]
[null,{"$f":"+B289","v":0},80,0,{"$f":"+ROUND(C312/365*F304,0)","v":0},{"$f":"+IF(F307>=E312,E312,F307)","v":0},{"$f":"+Tariffe!$A$19*F312","v":0},{"$f":"+Tariffe!$B$19*F312*F305","v":0},{"$f":"+Tariffe!$C$19*F312*F306","v":0},null,null,null,null,null,null,{"$f":"+ROUND((G312+H312+I312),2)","v":0}]
[null,81,110,{"$f":"+E312","v":0},{"$f":"+ROUND(C313/365*F304,0)","v":0},{"$f":"+IF(F307>=E313,E313-E312,IF(F307>=E312,F307-E312,IF(F307<E312,0)))","v":0},{"$f":"+Tariffe!$A$20*F313","v":0},{"$f":"+Tariffe!$B$20*F313*F305","v":0},{"$f":"+Tariffe!$C$20*F313*F306","v":0},null,null,null,null,null,null,0]
[null,111,140,0,{"$f":"+ROUND(C314/365*F304,0)","v":0},{"$f":"+IF(F307>=E314,E314-E313,IF(F307>=E313,F307-E313,IF(F307<E313,0)))","v":0},{"$f":"+Tariffe!$A$21*F314","v":0},{"$f":"+Tariffe!$B$21*F314*F305","v":0},{"$f":"+Tariffe!$C$21*F314*F306","v":0},null,null,null,null,null,null,0]
[null,141,99999,0,{"$f":"+ROUND(C315/365*F304,0)","v":274},{"$f":"+IF(F307>=E315,E315-E314,IF(F307>=E314,F307-E314,IF(F307<E314,0)))","v":0},{"$f":"+Tariffe!$A$22*F315","v":0},{"$f":"+Tariffe!$B$22*F315*F305","v":0},{"$f":"+Tariffe!$C$22*F315*F306","v":0},null,null,null,null,null,null,0]
[null,null,null,null,null,null,null,null,null,{"$f":"+IF(A300>'Tabella ripartizione'!$L$4,0,Tariffe!$E$19*F304/365)","v":0},{"$f":"+IF(A300>'Tabella ripartizione'!$L$4,0,Tariffe!$F$19*F304/365*F305)","v":0},{"$f":"+IF(A300>'Tabella ripartizione'!$L$4,0,Tariffe!$G$19*F304/365*F306)","v":0},null,null,null,{"$f":"+ROUND(J316+K316+L316,2)","v":0}]
[null,null,null,null,null,null,null,null,null,null,null,null,{"$f":"+(Tariffe!$I$3+Tariffe!$J$3+Tariffe!$K$3+Tariffe!$L$3+Tariffe!$M$3)*F307","v":0},{"$f":"+(Tariffe!$I$3+Tariffe!$J$3+Tariffe!$K$3+Tariffe!$L$3+Tariffe!$M$3)*F307*F305","v":0},{"$f":"+(Tariffe!$I$3+Tariffe!$J$3+Tariffe!$K$3+Tariffe!$L$3+Tariffe!$M$3)*F307*F306","v":0},{"$f":"+ROUND(M317+N317+O317,2)","v":0}]
[null,null,null,null,null,null,null,null,null,null,null,null,null,null,null,{"$f":"SUM(P312:P317)","v":0},"Imponibile"]
[null,null,null,null,null,null,null,null,null,null,null,null,null,null,null,{"$f":"+ROUND(P318*0.1,2)","v":0},"IVA (10%)"]
[null,null,null,null,null,null,null,null,null,null,null,null,null,null,null,{"$f":"+P319+P318","v":0},"Totale corrispettivi"]
[]
[]
[{"$f":"+A300+1","v":15},null,null,null,null,null,"Impoto"]
[{"$f":"CONCATENATE(\"Unità domestica non residente #\",A323)","v":"Unità domestica non residente #15"},null,null,null,null,null,{"$f":"+P343","v":0}]
["Data inizio periodo consumo",null,null,null,null,{"$f":"+'Tabella ripartizione'!$C$3","v":"00:00:00"}]
["Data fine periodo consumo",null,null,null,null,{"$f":"+'Tabella ripartizione'!$C$4","v":"00:00:00"}]
["Giorni di consumo",null,null,null,null,{"$f":"+F326-F325+1","v":1}]
["Fognatura",null,null,null,null,{"$f":"+'Tabella ripartizione'!$C$6","v":1},"(0 = esente, 1=assoggettato)"]
["Depurazione",null,null,null,null,{"$f":"+'Tabella ripartizione'!$C$7","v":1},"(0 = esente, 1=assoggettato)"]
["Consumo misurato",null,null,null,null,{"$f":"SUMIF('Tabella ripartizione'!$J:$J,A324,'Tabella ripartizione'!$K:$K)","v":0}]
[]
["Tariffe TICSI",null,null,null,null,null,null,null,null,2022]
["Domestico NON Residente","Fasce anno (m3)",null,"Fasce pro-die (m3)",null,"mc riarticolati","Importi servizio",null,null,"Importi Quota fissa",null,null,"Importi perequazione"]
[null,"da","a","da","a",{"$f":"+F338+F337+F336+F335","v":0},"Acqua","Fogna","Depurazione","Acqua","Fogna","Depurazione","Acqua","Fogna","Depurazione","Totali"]
[null,{"$f":"+B312","v":0},80,0,{"$f":"+ROUND(C335/365*F327,0)","v":0},{"$f":"+IF(F330>=E335,E335,F330)","v":0},{"$f":"+Tariffe!$A$19*F335","v":0},{"$f":"+Tariffe!$B$19*F335*F328","v":0},{"$f":"+Tariffe!$C$19*F335*F329","v":0},null,null,null,null,null,null,{"$f":"+ROUND((G335+H335+I335),2)","v":0}]
[null,81,110,{"$f":"+E335","v":0},{"$f":"+ROUND(C336/365*F327,0)","v":0},{"$f":"+IF(F330>=E336,E336-E335,IF(F330>=E335,F330-E335,IF(F330<E335,0)))","v":0},{"$f":"+Tariffe!$A$20*F336","v":0},{"$f":"+Tariffe!$B$20*F336*F328","v":0},{"$f":"+Tariffe!$C$20*F336*F329","v":0},null,null,null,null,null,null,0]
[null,111,140,0,{"$f":"+ROUND(C337/365*F327,0)","v":0},{"$f":"+IF(F330>=E337,E337-E336,IF(F330>=E336,F330-E336,IF(F330<E336,0)))","v":0},{"$f":"+Tariffe!$A$21*F337","v":0},{"$f":"+Tariffe!$B$21*F337*F328","v":0},{"$f":"+Tariffe!$C$21*F337*F329","v":0},null,null,null,null,null,null,0]
[null,141,99999,0,{"$f":"+ROUND(C338/365*F327,0)","v":274},{"$f":"+IF(F330>=E338,E338-E337,IF(F330>=E337,F330-E337,IF(F330<E337,0)))","v":0},{"$f":"+Tariffe!$A$22*F338","v":0},{"$f":"+Tariffe!$B$22*F338*F328","v":0},{"$f":"+Tariffe!$C$22*F338*F329","v":0},null,null,null,null,null,null,0]
[null,null,null,null,null,null,null,null,null,{"$f":"+IF(A323>'Tabella ripartizione'!$L$4,0,Tariffe!$E$19*F327/365)","v":0},{"$f":"+IF(A323>'Tabella ripartizione'!$L$4,0,Tariffe!$F$19*F327/365*F328)","v":0},{"$f":"+IF(A323>'Tabella ripartizione'!$L$4,0,Tariffe!$G$19*F327/365*F329)","v":0},null,null,null,{"$f":"+ROUND(J339+K339+L339,2)","v":0}]
[null,null,null,null,null,null,null,null,null,null,null,null,{"$f":"+(Tariffe!$I$3+Tariffe!$J$3+Tariffe!$K$3+Tariffe!$L$3+Tariffe!$M$3)*F330","v":0},{"$f":"+(Tariffe!$I$3+Tariffe!$J$3+Tariffe!$K$3+Tariffe!$L$3+Tariffe!$M$3)*F330*F328","v":0},{"$f":"+(Tariffe!$I$3+Tariffe!$J$3+Tariffe!$K$3+Tariffe!$L$3+Tariffe!$M$3)*F330*F329","v":0},{"$f":"+ROUND(M340+N340+O340,2)","v":0}]
[null,null,null,null,null,null,null,null,null,null,null,null,null,null,null,{"$f":"SUM(P335:P340)","v":0},"Imponibile"]
[null,null,null,null,null,null,null,null,null,null,null,null,null,null,null,{"$f":"+ROUND(P341*0.1,2)","v":0},"IVA (10%)"]
[null,null,null,null,null,null,null,null,null,null,null,null,null,null,null,{"$f":"+P342+P341","v":0},"Totale corrispettivi"]
[]
[]
[{"$f":"+A323+1","v":16},null,null,null,null,null,"Impoto"]
[{"$f":"CONCATENATE(\"Unità domestica non residente #\",A346)","v":"Unità domestica non residente #16"},null,null,null,null,null,{"$f":"+P366","v":0}]
["Data inizio periodo consumo",null,null,null,null,{"$f":"+'Tabella ripartizione'!$C$3","v":"00:00:00"}]
["Data fine periodo consumo",null,null,null,null,{"$f":"+'Tabella ripartizione'!$C$4","v":"00:00:00"}]
["Giorni di consumo",null,null,null,null,{"$f":"+F349-F348+1","v":1}]
["Fognatura",null,null,null,null,{"$f":"+'Tabella ripartizione'!$C$6","v":1},"(0 = esente, 1=assoggettato)"]
["Depurazione",null,null,null,null,{"$f":"+'Tabella ripartizione'!$C$7","v":1},"(0 = esente, 1=assoggettato)"]
["Consumo misurato",null,null,null,null,{"$f":"SUMIF('Tabella ripartizione'!$J:$J,A347,'Tabella ripartizione'!$K:$K)","v":0}]
[]
["Tariffe TICSI",null,null,null,null,null,null,null,null,2022]
["Domestico NON Residente","Fasce anno (m3)",null,"Fasce pro-die (m3)",null,"mc riarticolati","Importi servizio",null,null,"Importi Quota fissa",null,null,"Importi perequazione"]
[null,"da","a","da","a",{"$f":"+F361+F360+F359+F358","v":0},"Acqua","Fogna","Depurazione","Acqua","Fogna","Depurazione","Acqua","Fogna","Depurazione","Totali"]
[null,{"$f":"+B335","v":0},80,0,{"$f":"+ROUND(C358/365*F350,0)","v":0},{"$f":"+IF(F353>=E358,E358,F353)","v":0},{"$f":"+Tariffe!$A$19*F358","v":0},{"$f":"+Tariffe!$B$19*F358*F351","v":0},{"$f":"+Tariffe!$C$19*F358*F352","v":0},null,null,null,null,null,null,{"$f":"+ROUND((G358+H358+I358),2)","v":0}]
[null,81,110,{"$f":"+E358","v":0},{"$f":"+ROUND(C359/365*F350,0)","v":0},{"$f":"+IF(F353>=E359,E359-E358,IF(F353>=E358,F353-E358,IF(F353<E358,0)))","v":0},{"$f":"+Tariffe!$A$20*F359","v":0},{"$f":"+Tariffe!$B$20*F359*F351","v":0},{"$f":"+Tariffe!$C$20*F359*F352","v":0},null,null,null,null,null,null,0]
[null,111,140,0,{"$f":"+ROUND(C360/365*F350,0)","v":0},{"$f":"+IF(F353>=E360,E360-E359,IF(F353>=E359,F353-E359,IF(F353<E359,0)))","v":0},{"$f":"+Tariffe!$A$21*F360","v":0},{"$f":"+Tariffe!$B$21*F360*F351","v":0},{"$f":"+Tariffe!$C$21*F360*F352","v":0},null,null,null,null,null,null,0]
[null,141,99999,0,{"$f":"+ROUND(C361/365*F350,0)","v":274},{"$f":"+IF(F353>=E361,E361-E360,IF(F353>=E360,F353-E360,IF(F353<E360,0)))","v":0},{"$f":"+Tariffe!$A$22*F361","v":0},{"$f":"+Tariffe!$B$22*F361*F351","v":0},{"$f":"+Tariffe!$C$22*F361*F352","v":0},null,null,null,null,null,null,0]
[null,null,null,null,null,null,null,null,null,{"$f":"+IF(A346>'Tabella ripartizione'!$L$4,0,Tariffe!$E$19*F350/365)","v":0},{"$f":"+IF(A346>'Tabella ripartizione'!$L$4,0,Tariffe!$F$19*F350/365*F351)","v":0},{"$f":"+IF(A346>'Tabella ripartizione'!$L$4,0,Tariffe!$G$19*F350/365*F352)","v":0},null,null,null,{"$f":"+ROUND(J362+K362+L362,2)","v":0}]
[null,null,null,null,null,null,null,null,null,null,null,null,{"$f":"+(Tariffe!$I$3+Tariffe!$J$3+Tariffe!$K$3+Tariffe!$L$3+Tariffe!$M$3)*F353","v":0},{"$f":"+(Tariffe!$I$3+Tariffe!$J$3+Tariffe!$K$3+Tariffe!$L$3+Tariffe!$M$3)*F353*F351","v":0},{"$f":"+(Tariffe!$I$3+Tariffe!$J$3+Tariffe!$K$3+Tariffe!$L$3+Tariffe!$M$3)*F353*F352","v":0},{"$f":"+ROUND(M363+N363+O363,2)","v":0}]
[null,null,null,null,null,null,null,null,null,null,null,null,null,null,null,{"$f":"SUM(P358:P363)","v":0},"Imponibile"]
[null,null,null,null,null,null,null,null,null,null,null,null,null,null,null,{"$f":"+ROUND(P364*0.1,2)","v":0},"IVA (10%)"]
[null,null,null,null,null,null,null,null,null,null,null,null,null,null,null,{"$f":"+P365+P364","v":0},"Totale corrispettivi"]
[]
[]
[{"$f":"+A346+1","v":17},null,null,null,null,null,"Impoto"]
[{"$f":"CONCATENATE(\"Unità domestica non residente #\",A369)","v":"Unità domestica non residente #17"},null,null,null,null,null,{"$f":"+P389","v":0}]
["Data inizio periodo consumo",null,null,null,null,{"$f":"+'Tabella ripartizione'!$C$3","v":"00:00:00"}]
["Data fine periodo consumo",null,null,null,null,{"$f":"+'Tabella ripartizione'!$C$4","v":"00:00:00"}]
["Giorni di consumo",null,null,null,null,{"$f":"+F372-F371+1","v":1}]
["Fognatura",null,null,null,null,{"$f":"+'Tabella ripartizione'!$C$6","v":1},"(0 = esente, 1=assoggettato)"]
["Depurazione",null,null,null,null,{"$f":"+'Tabella ripartizione'!$C$7","v":1},"(0 = esente, 1=assoggettato)"]
["Consumo misurato",null,null,null,null,{"$f":"SUMIF('Tabella ripartizione'!$J:$J,A370,'Tabella ripartizione'!$K:$K)","v":0}]
[]
["Tariffe TICSI",null,null,null,null,null,null,null,null,2022]
["Domestico NON Residente","Fasce anno (m3)",null,"Fasce pro-die (m3)",null,"mc riarticolati","Importi servizio",null,null,"Importi Quota fissa",null,null,"Importi perequazione"]
[null,"da","a","da","a",{"$f":"+F384+F383+F382+F381","v":0},"Acqua","Fogna","Depurazione","Acqua","Fogna","Depurazione","Acqua","Fogna","Depurazione","Totali"]
[null,{"$f":"+B358","v":0},80,0,{"$f":"+ROUND(C381/365*F373,0)","v":0},{"$f":"+IF(F376>=E381,E381,F376)","v":0},{"$f":"+Tariffe!$A$19*F381","v":0},{"$f":"+Tariffe!$B$19*F381*F374","v":0},{"$f":"+Tariffe!$C$19*F381*F375","v":0},null,null,null,null,null,null,{"$f":"+ROUND((G381+H381+I381),2)","v":0}]
[null,81,110,{"$f":"+E381","v":0},{"$f":"+ROUND(C382/365*F373,0)","v":0},{"$f":"+IF(F376>=E382,E382-E381,IF(F376>=E381,F376-E381,IF(F376<E381,0)))","v":0},{"$f":"+Tariffe!$A$20*F382","v":0},{"$f":"+Tariffe!$B$20*F382*F374","v":0},{"$f":"+Tariffe!$C$20*F382*F375","v":0},null,null,null,null,null,null,0]
[null,111,140,0,{"$f":"+ROUND(C383/365*F373,0)","v":0},{"$f":"+IF(F376>=E383,E383-E382,IF(F376>=E382,F376-E382,IF(F376<E382,0)))","v":0},{"$f":"+Tariffe!$A$21*F383","v":0},{"$f":"+Tariffe!$B$21*F383*F374","v":0},{"$f":"+Tariffe!$C$21*F383*F375","v":0},null,null,null,null,null,null,0]
[null,141,99999,0,{"$f":"+ROUND(C384/365*F373,0)","v":274},{"$f":"+IF(F376>=E384,E384-E383,IF(F376>=E383,F376-E383,IF(F376<E383,0)))","v":0},{"$f":"+Tariffe!$A$22*F384","v":0},{"$f":"+Tariffe!$B$22*F384*F374","v":0},{"$f":"+Tariffe!$C$22*F384*F375","v":0},null,null,null,null,null,null,0]
[null,null,null,null,null,null,null,null,null,{"$f":"+IF(A369>'Tabella ripartizione'!$L$4,0,Tariffe!$E$19*F373/365)","v":0},{"$f":"+IF(A369>'Tabella ripartizione'!$L$4,0,Tariffe!$F$19*F373/365*F374)","v":0},{"$f":"+IF(A369>'Tabella ripartizione'!$L$4,0,Tariffe!$G$19*F373/365*F375)","v":0},null,null,null,{"$f":"+ROUND(J385+K385+L385,2)","v":0}]
[null,null,null,null,null,null,null,null,null,null,null,null,{"$f":"+(Tariffe!$I$3+Tariffe!$J$3+Tariffe!$K$3+Tariffe!$L$3+Tariffe!$M$3)*F376","v":0},{"$f":"+(Tariffe!$I$3+Tariffe!$J$3+Tariffe!$K$3+Tariffe!$L$3+Tariffe!$M$3)*F376*F374","v":0},{"$f":"+(Tariffe!$I$3+Tariffe!$J$3+Tariffe!$K$3+Tariffe!$L$3+Tariffe!$M$3)*F376*F375","v":0},{"$f":"+ROUND(M386+N386+O386,2)","v":0}]
[null,null,null,null,null,null,null,null,null,null,null,null,null,null,null,{"$f":"SUM(P381:P386)","v":0},"Imponibile"]
[null,null,null,null,null,null,null,null,null,null,null,null,null,null,null,{"$f":"+ROUND(P387*0.1,2)","v":0},"IVA (10%)"]
[null,null,null,null,null,null,null,null,null,null,null,null,null,null,null,{"$f":"+P388+P387","v":0},"Totale corrispettivi"]
[]
[]
[{"$f":"+A369+1","v":18},null,null,null,null,null,"Impoto"]
[{"$f":"CONCATENATE(\"Unità domestica non residente #\",A392)","v":"Unità domestica non residente #18"},null,null,null,null,null,{"$f":"+P412","v":0}]
["Data inizio periodo consumo",null,null,null,null,{"$f":"+'Tabella ripartizione'!$C$3","v":"00:00:00"}]
["Data fine periodo consumo",null,null,null,null,{"$f":"+'Tabella ripartizione'!$C$4","v":"00:00:00"}]
["Giorni di consumo",null,null,null,null,{"$f":"+F395-F394+1","v":1}]
["Fognatura",null,null,null,null,{"$f":"+'Tabella ripartizione'!$C$6","v":1},"(0 = esente, 1=assoggettato)"]
["Depurazione",null,null,null,null,{"$f":"+'Tabella ripartizione'!$C$7","v":1},"(0 = esente, 1=assoggettato)"]
["Consumo misurato",null,null,null,null,{"$f":"SUMIF('Tabella ripartizione'!$J:$J,A393,'Tabella ripartizione'!$K:$K)","v":0}]
[]
["Tariffe TICSI",null,null,null,null,null,null,null,null,2022]
["Domestico NON Residente","Fasce anno (m3)",null,"Fasce pro-die (m3)",null,"mc riarticolati","Importi servizio",null,null,"Importi Quota fissa",null,null,"Importi perequazione"]
[null,"da","a","da","a",{"$f":"+F407+F406+F405+F404","v":0},"Acqua","Fogna","Depurazione","Acqua","Fogna","Depurazione","Acqua","Fogna","Depurazione","Totali"]
[null,{"$f":"+B381","v":0},80,0,{"$f":"+ROUND(C404/365*F396,0)","v":0},{"$f":"+IF(F399>=E404,E404,F399)","v":0},{"$f":"+Tariffe!$A$19*F404","v":0},{"$f":"+Tariffe!$B$19*F404*F397","v":0},{"$f":"+Tariffe!$C$19*F404*F398","v":0},null,null,null,null,null,null,{"$f":"+ROUND((G404+H404+I404),2)","v":0}]
[null,81,110,{"$f":"+E404","v":0},{"$f":"+ROUND(C405/365*F396,0)","v":0},{"$f":"+IF(F399>=E405,E405-E404,IF(F399>=E404,F399-E404,IF(F399<E404,0)))","v":0},{"$f":"+Tariffe!$A$20*F405","v":0},{"$f":"+Tariffe!$B$20*F405*F397","v":0},{"$f":"+Tariffe!$C$20*F405*F398","v":0},null,null,null,null,null,null,0]
[null,111,140,0,{"$f":"+ROUND(C406/365*F396,0)","v":0},{"$f":"+IF(F399>=E406,E406-E405,IF(F399>=E405,F399-E405,IF(F399<E405,0)))","v":0},{"$f":"+Tariffe!$A$21*F406","v":0},{"$f":"+Tariffe!$B$21*F406*F397","v":0},{"$f":"+Tariffe!$C$21*F406*F398","v":0},null,null,null,null,null,null,0]
[null,141,99999,0,{"$f":"+ROUND(C407/365*F396,0)","v":274},{"$f":"+IF(F399>=E407,E407-E406,IF(F399>=E406,F399-E406,IF(F399<E406,0)))","v":0},{"$f":"+Tariffe!$A$22*F407","v":0},{"$f":"+Tariffe!$B$22*F407*F397","v":0},{"$f":"+Tariffe!$C$22*F407*F398","v":0},null,null,null,null,null,null,0]
[null,null,null,null,null,null,null,null,null,{"$f":"+IF(A392>'Tabella ripartizione'!$L$4,0,Tariffe!$E$19*F396/365)","v":0},{"$f":"+IF(A392>'Tabella ripartizione'!$L$4,0,Tariffe!$F$19*F396/365*F397)","v":0},{"$f":"+IF(A392>'Tabella ripartizione'!$L$4,0,Tariffe!$G$19*F396/365*F398)","v":0},null,null,null,{"$f":"+ROUND(J408+K408+L408,2)","v":0}]
[null,null,null,null,null,null,null,null,null,null,null,null,{"$f":"+(Tariffe!$I$3+Tariffe!$J$3+Tariffe!$K$3+Tariffe!$L$3+Tariffe!$M$3)*F399","v":0},{"$f":"+(Tariffe!$I$3+Tariffe!$J$3+Tariffe!$K$3+Tariffe!$L$3+Tariffe!$M$3)*F399*F397","v":0},{"$f":"+(Tariffe!$I$3+Tariffe!$J$3+Tariffe!$K$3+Tariffe!$L$3+Tariffe!$M$3)*F399*F398","v":0},{"$f":"+ROUND(M409+N409+O409,2)","v":0}]
[null,null,null,null,null,null,null,null,null,null,null,null,null,null,null,{"$f":"SUM(P404:P409)","v":0},"Imponibile"]
[null,null,null,null,null,null,null,null,null,null,null,null,null,null,null,{"$f":"+ROUND(P410*0.1,2)","v":0},"IVA (10%)"]
[null,null,null,null,null,null,null,null,null,null,null,null,null,null,null,{"$f":"+P411+P410","v":0},"Totale corrispettivi"]
[]
[]
[{"$f":"+A392+1","v":19},null,null,null,null,null,"Impoto"]
[{"$f":"CONCATENATE(\"Unità domestica non residente #\",A415)","v":"Unità domestica non residente #19"},null,null,null,null,null,{"$f":"+P435","v":0}]
["Data inizio periodo consumo",null,null,null,null,{"$f":"+'Tabella ripartizione'!$C$3","v":"00:00:00"}]
["Data fine periodo consumo",null,null,null,null,{"$f":"+'Tabella ripartizione'!$C$4","v":"00:00:00"}]
["Giorni di consumo",null,null,null,null,{"$f":"+F418-F417+1","v":1}]
["Fognatura",null,null,null,null,{"$f":"+'Tabella ripartizione'!$C$6","v":1},"(0 = esente, 1=assoggettato)"]
["Depurazione",null,null,null,null,{"$f":"+'Tabella ripartizione'!$C$7","v":1},"(0 = esente, 1=assoggettato)"]
["Consumo misurato",null,null,null,null,{"$f":"SUMIF('Tabella ripartizione'!$J:$J,A416,'Tabella ripartizione'!$K:$K)","v":0}]
[]
["Tariffe TICSI",null,null,null,null,null,null,null,null,2022]
["Domestico NON Residente","Fasce anno (m3)",null,"Fasce pro-die (m3)",null,"mc riarticolati","Importi servizio",null,null,"Importi Quota fissa",null,null,"Importi perequazione"]
[null,"da","a","da","a",{"$f":"+F430+F429+F428+F427","v":0},"Acqua","Fogna","Depurazione","Acqua","Fogna","Depurazione","Acqua","Fogna","Depurazione","Totali"]
[null,{"$f":"+B404","v":0},80,0,{"$f":"+ROUND(C427/365*F419,0)","v":0},{"$f":"+IF(F422>=E427,E427,F422)","v":0},{"$f":"+Tariffe!$A$19*F427","v":0},{"$f":"+Tariffe!$B$19*F427*F420","v":0},{"$f":"+Tariffe!$C$19*F427*F421","v":0},null,null,null,null,null,null,{"$f":"+ROUND((G427+H427+I427),2)","v":0}]
[null,81,110,{"$f":"+E427","v":0},{"$f":"+ROUND(C428/365*F419,0)","v":0},{"$f":"+IF(F422>=E428,E428-E427,IF(F422>=E427,F422-E427,IF(F422<E427,0)))","v":0},{"$f":"+Tariffe!$A$20*F428","v":0},{"$f":"+Tariffe!$B$20*F428*F420","v":0},{"$f":"+Tariffe!$C$20*F428*F421","v":0},null,null,null,null,null,null,0]
[null,111,140,0,{"$f":"+ROUND(C429/365*F419,0)","v":0},{"$f":"+IF(F422>=E429,E429-E428,IF(F422>=E428,F422-E428,IF(F422<E428,0)))","v":0},{"$f":"+Tariffe!$A$21*F429","v":0},{"$f":"+Tariffe!$B$21*F429*F420","v":0},{"$f":"+Tariffe!$C$21*F429*F421","v":0},null,null,null,null,null,null,0]
[null,141,99999,0,{"$f":"+ROUND(C430/365*F419,0)","v":274},{"$f":"+IF(F422>=E430,E430-E429,IF(F422>=E429,F422-E429,IF(F422<E429,0)))","v":0},{"$f":"+Tariffe!$A$22*F430","v":0},{"$f":"+Tariffe!$B$22*F430*F420","v":0},{"$f":"+Tariffe!$C$22*F430*F421","v":0},null,null,null,null,null,null,0]
[null,null,null,null,null,null,null,null,null,{"$f":"+IF(A415>'Tabella ripartizione'!$L$4,0,Tariffe!$E$19*F419/365)","v":0},{"$f":"+IF(A415>'Tabella ripartizione'!$L$4,0,Tariffe!$F$19*F419/365*F420)","v":0},{"$f":"+IF(A415>'Tabella ripartizione'!$L$4,0,Tariffe!$G$19*F419/365*F421)","v":0},null,null,null,{"$f":"+ROUND(J431+K431+L431,2)","v":0}]
[null,null,null,null,null,null,null,null,null,null,null,null,{"$f":"+(Tariffe!$I$3+Tariffe!$J$3+Tariffe!$K$3+Tariffe!$L$3+Tariffe!$M$3)*F422","v":0},{"$f":"+(Tariffe!$I$3+Tariffe!$J$3+Tariffe!$K$3+Tariffe!$L$3+Tariffe!$M$3)*F422*F420","v":0},{"$f":"+(Tariffe!$I$3+Tariffe!$J$3+Tariffe!$K$3+Tariffe!$L$3+Tariffe!$M$3)*F422*F421","v":0},{"$f":"+ROUND(M432+N432+O432,2)","v":0}]
[null,null,null,null,null,null,null,null,null,null,null,null,null,null,null,{"$f":"SUM(P427:P432)","v":0},"Imponibile"]
[null,null,null,null,null,null,null,null,null,null,null,null,null,null,null,{"$f":"+ROUND(P433*0.1,2)","v":0},"IVA (10%)"]
[null,null,null,null,null,null,null,null,null,null,null,null,null,null,null,{"$f":"+P434+P433","v":0},"Totale corrispettivi"]
[]
[]
[{"$f":"+A415+1","v":20},null,null,null,null,null,"Impoto"]
[{"$f":"CONCATENATE(\"Unità domestica non residente #\",A438)","v":"Unità domestica non residente #20"},null,null,null,null,null,{"$f":"+P458","v":0}]
["Data inizio periodo consumo",null,null,null,null,{"$f":"+'Tabella ripartizione'!$C$3","v":"00:00:00"}]
["Data fine periodo consumo",null,null,null,null,{"$f":"+'Tabella ripartizione'!$C$4","v":"00:00:00"}]
["Giorni di consumo",null,null,null,null,{"$f":"+F441-F440+1","v":1}]
["Fognatura",null,null,null,null,{"$f":"+'Tabella ripartizione'!$C$6","v":1},"(0 = esente, 1=assoggettato)"]
["Depurazione",null,null,null,null,{"$f":"+'Tabella ripartizione'!$C$7","v":1},"(0 = esente, 1=assoggettato)"]
["Consumo misurato",null,null,null,null,{"$f":"SUMIF('Tabella ripartizione'!$J:$J,A439,'Tabella ripartizione'!$K:$K)","v":0}]
[]
["Tariffe TICSI",null,null,null,null,null,null,null,null,2022]
["Domestico NON Residente","Fasce anno (m3)",null,"Fasce pro-die (m3)",null,"mc riarticolati","Importi servizio",null,null,"Importi Quota fissa",null,null,"Importi perequazione"]
[null,"da","a","da","a",{"$f":"+F453+F452+F451+F450","v":0},"Acqua","Fogna","Depurazione","Acqua","Fogna","Depurazione","Acqua","Fogna","Depurazione","Totali"]
[null,{"$f":"+B427","v":0},80,0,{"$f":"+ROUND(C450/365*F442,0)","v":0},{"$f":"+IF(F445>=E450,E450,F445)","v":0},{"$f":"+Tariffe!$A$19*F450","v":0},{"$f":"+Tariffe!$B$19*F450*F443","v":0},{"$f":"+Tariffe!$C$19*F450*F444","v":0},null,null,null,null,null,null,{"$f":"+ROUND((G450+H450+I450),2)","v":0}]
[null,81,110,{"$f":"+E450","v":0},{"$f":"+ROUND(C451/365*F442,0)","v":0},{"$f":"+IF(F445>=E451,E451-E450,IF(F445>=E450,F445-E450,IF(F445<E450,0)))","v":0},{"$f":"+Tariffe!$A$20*F451","v":0},{"$f":"+Tariffe!$B$20*F451*F443","v":0},{"$f":"+Tariffe!$C$20*F451*F444","v":0},null,null,null,null,null,null,0]
[null,111,140,0,{"$f":"+ROUND(C452/365*F442,0)","v":0},{"$f":"+IF(F445>=E452,E452-E451,IF(F445>=E451,F445-E451,IF(F445<E451,0)))","v":0},{"$f":"+Tariffe!$A$21*F452","v":0},{"$f":"+Tariffe!$B$21*F452*F443","v":0},{"$f":"+Tariffe!$C$21*F452*F444","v":0},null,null,null,null,null,null,0]
[null,141,99999,0,{"$f":"+ROUND(C453/365*F442,0)","v":274},{"$f":"+IF(F445>=E453,E453-E452,IF(F445>=E452,F445-E452,IF(F445<E452,0)))","v":0},{"$f":"+Tariffe!$A$22*F453","v":0},{"$f":"+Tariffe!$B$22*F453*F443","v":0},{"$f":"+Tariffe!$C$22*F453*F444","v":0},null,null,null,null,null,null,0]
[null,null,null,null,null,null,null,null,null,{"$f":"+IF(A438>'Tabella ripartizione'!$L$4,0,Tariffe!$E$19*F442/365)","v":0},{"$f":"+IF(A438>'Tabella ripartizione'!$L$4,0,Tariffe!$F$19*F442/365*F443)","v":0},{"$f":"+IF(A438>'Tabella ripartizione'!$L$4,0,Tariffe!$G$19*F442/365*F444)","v":0},null,null,null,{"$f":"+ROUND(J454+K454+L454,2)","v":0}]
[null,null,null,null,null,null,null,null,null,null,null,null,{"$f":"+(Tariffe!$I$3+Tariffe!$J$3+Tariffe!$K$3+Tariffe!$L$3+Tariffe!$M$3)*F445","v":0},{"$f":"+(Tariffe!$I$3+Tariffe!$J$3+Tariffe!$K$3+Tariffe!$L$3+Tariffe!$M$3)*F445*F443","v":0},{"$f":"+(Tariffe!$I$3+Tariffe!$J$3+Tariffe!$K$3+Tariffe!$L$3+Tariffe!$M$3)*F445*F444","v":0},{"$f":"+ROUND(M455+N455+O455,2)","v":0}]
[null,null,null,null,null,null,null,null,null,null,null,null,null,null,null,{"$f":"SUM(P450:P455)","v":0},"Imponibile"]
[null,null,null,null,null,null,null,null,null,null,null,null,null,null,null,{"$f":"+ROUND(P456*0.1,2)","v":0},"IVA (10%)"]
[null,null,null,null,null,null,null,null,null,null,null,null,null,null,null,{"$f":"+P457+P456","v":0},"Totale corrispettivi"]
[]
[]
[{"$f":"+A438+1","v":21},null,null,null,null,null,"Impoto"]
[{"$f":"CONCATENATE(\"Unità domestica non residente #\",A461)","v":"Unità domestica non residente #21"},null,null,null,null,null,{"$f":"+P481","v":0}]
["Data inizio periodo consumo",null,null,null,null,{"$f":"+'Tabella ripartizione'!$C$3","v":"00:00:00"}]
["Data fine periodo consumo",null,null,null,null,{"$f":"+'Tabella ripartizione'!$C$4","v":"00:00:00"}]
["Giorni di consumo",null,null,null,null,{"$f":"+F464-F463+1","v":1}]
["Fognatura",null,null,null,null,{"$f":"+'Tabella ripartizione'!$C$6","v":1},"(0 = esente, 1=assoggettato)"]
["Depurazione",null,null,null,null,{"$f":"+'Tabella ripartizione'!$C$7","v":1},"(0 = esente, 1=assoggettato)"]
["Consumo misurato",null,null,null,null,{"$f":"SUMIF('Tabella ripartizione'!$J:$J,A462,'Tabella ripartizione'!$K:$K)","v":0}]
[]
["Tariffe TICSI",null,null,null,null,null,null,null,null,2022]
["Domestico NON Residente","Fasce anno (m3)",null,"Fasce pro-die (m3)",null,"mc riarticolati","Importi servizio",null,null,"Importi Quota fissa",null,null,"Importi perequazione"]
[null,"da","a","da","a",{"$f":"+F476+F475+F474+F473","v":0},"Acqua","Fogna","Depurazione","Acqua","Fogna","Depurazione","Acqua","Fogna","Depurazione","Totali"]
[null,{"$f":"+B450","v":0},80,0,{"$f":"+ROUND(C473/365*F465,0)","v":0},{"$f":"+IF(F468>=E473,E473,F468)","v":0},{"$f":"+Tariffe!$A$19*F473","v":0},{"$f":"+Tariffe!$B$19*F473*F466","v":0},{"$f":"+Tariffe!$C$19*F473*F467","v":0},null,null,null,null,null,null,{"$f":"+ROUND((G473+H473+I473),2)","v":0}]
[null,81,110,{"$f":"+E473","v":0},{"$f":"+ROUND(C474/365*F465,0)","v":0},{"$f":"+IF(F468>=E474,E474-E473,IF(F468>=E473,F468-E473,IF(F468<E473,0)))","v":0},{"$f":"+Tariffe!$A$20*F474","v":0},{"$f":"+Tariffe!$B$20*F474*F466","v":0},{"$f":"+Tariffe!$C$20*F474*F467","v":0},null,null,null,null,null,null,0]
[null,111,140,0,{"$f":"+ROUND(C475/365*F465,0)","v":0},{"$f":"+IF(F468>=E475,E475-E474,IF(F468>=E474,F468-E474,IF(F468<E474,0)))","v":0},{"$f":"+Tariffe!$A$21*F475","v":0},{"$f":"+Tariffe!$B$21*F475*F466","v":0},{"$f":"+Tariffe!$C$21*F475*F467","v":0},null,null,null,null,null,null,0]
[null,141,99999,0,{"$f":"+ROUND(C476/365*F465,0)","v":274},{"$f":"+IF(F468>=E476,E476-E475,IF(F468>=E475,F468-E475,IF(F468<E475,0)))","v":0},{"$f":"+Tariffe!$A$22*F476","v":0},{"$f":"+Tariffe!$B$22*F476*F466","v":0},{"$f":"+Tariffe!$C$22*F476*F467","v":0},null,null,null,null,null,null,0]
[null,null,null,null,null,null,null,null,null,{"$f":"+IF(A461>'Tabella ripartizione'!$L$4,0,Tariffe!$E$19*F465/365)","v":0},{"$f":"+IF(A461>'Tabella ripartizione'!$L$4,0,Tariffe!$F$19*F465/365*F466)","v":0},{"$f":"+IF(A461>'Tabella ripartizione'!$L$4,0,Tariffe!$G$19*F465/365*F467)","v":0},null,null,null,{"$f":"+ROUND(J477+K477+L477,2)","v":0}]
[null,null,null,null,null,null,null,null,null,null,null,null,{"$f":"+(Tariffe!$I$3+Tariffe!$J$3+Tariffe!$K$3+Tariffe!$L$3+Tariffe!$M$3)*F468","v":0},{"$f":"+(Tariffe!$I$3+Tariffe!$J$3+Tariffe!$K$3+Tariffe!$L$3+Tariffe!$M$3)*F468*F466","v":0},{"$f":"+(Tariffe!$I$3+Tariffe!$J$3+Tariffe!$K$3+Tariffe!$L$3+Tariffe!$M$3)*F468*F467","v":0},{"$f":"+ROUND(M478+N478+O478,2)","v":0}]
[null,null,null,null,null,null,null,null,null,null,null,null,null,null,null,{"$f":"SUM(P473:P478)","v":0},"Imponibile"]
[null,null,null,null,null,null,null,null,null,null,null,null,null,null,null,{"$f":"+ROUND(P479*0.1,2)","v":0},"IVA (10%)"]
[null,null,null,null,null,null,null,null,null,null,null,null,null,null,null,{"$f":"+P480+P479","v":0},"Totale corrispettivi"]
[]
[]
[{"$f":"+A461+1","v":22},null,null,null,null,null,"Impoto"]
[{"$f":"CONCATENATE(\"Unità domestica non residente #\",A484)","v":"Unità domestica non residente #22"},null,null,null,null,null,{"$f":"+P504","v":0}]
["Data inizio periodo consumo",null,null,null,null,{"$f":"+'Tabella ripartizione'!$C$3","v":"00:00:00"}]
["Data fine periodo consumo",null,null,null,null,{"$f":"+'Tabella ripartizione'!$C$4","v":"00:00:00"}]
["Giorni di consumo",null,null,null,null,{"$f":"+F487-F486+1","v":1}]
["Fognatura",null,null,null,null,{"$f":"+'Tabella ripartizione'!$C$6","v":1},"(0 = esente, 1=assoggettato)"]
["Depurazione",null,null,null,null,{"$f":"+'Tabella ripartizione'!$C$7","v":1},"(0 = esente, 1=assoggettato)"]
["Consumo misurato",null,null,null,null,{"$f":"SUMIF('Tabella ripartizione'!$J:$J,A485,'Tabella ripartizione'!$K:$K)","v":0}]
[]
["Tariffe TICSI",null,null,null,null,null,null,null,null,2022]
["Domestico NON Residente","Fasce anno (m3)",null,"Fasce pro-die (m3)",null,"mc riarticolati","Importi servizio",null,null,"Importi Quota fissa",null,null,"Importi perequazione"]
[null,"da","a","da","a",{"$f":"+F499+F498+F497+F496","v":0},"Acqua","Fogna","Depurazione","Acqua","Fogna","Depurazione","Acqua","Fogna","Depurazione","Totali"]
[null,{"$f":"+B473","v":0},80,0,{"$f":"+ROUND(C496/365*F488,0)","v":0},{"$f":"+IF(F491>=E496,E496,F491)","v":0},{"$f":"+Tariffe!$A$19*F496","v":0},{"$f":"+Tariffe!$B$19*F496*F489","v":0},{"$f":"+Tariffe!$C$19*F496*F490","v":0},null,null,null,null,null,null,{"$f":"+ROUND((G496+H496+I496),2)","v":0}]
[null,81,110,{"$f":"+E496","v":0},{"$f":"+ROUND(C497/365*F488,0)","v":0},{"$f":"+IF(F491>=E497,E497-E496,IF(F491>=E496,F491-E496,IF(F491<E496,0)))","v":0},{"$f":"+Tariffe!$A$20*F497","v":0},{"$f":"+Tariffe!$B$20*F497*F489","v":0},{"$f":"+Tariffe!$C$20*F497*F490","v":0},null,null,null,null,null,null,0]
[null,111,140,0,{"$f":"+ROUND(C498/365*F488,0)","v":0},{"$f":"+IF(F491>=E498,E498-E497,IF(F491>=E497,F491-E497,IF(F491<E497,0)))","v":0},{"$f":"+Tariffe!$A$21*F498","v":0},{"$f":"+Tariffe!$B$21*F498*F489","v":0},{"$f":"+Tariffe!$C$21*F498*F490","v":0},null,null,null,null,null,null,0]
[null,141,99999,0,{"$f":"+ROUND(C499/365*F488,0)","v":274},{"$f":"+IF(F491>=E499,E499-E498,IF(F491>=E498,F491-E498,IF(F491<E498,0)))","v":0},{"$f":"+Tariffe!$A$22*F499","v":0},{"$f":"+Tariffe!$B$22*F499*F489","v":0},{"$f":"+Tariffe!$C$22*F499*F490","v":0},null,null,null,null,null,null,0]
[null,null,null,null,null,null,null,null,null,{"$f":"+IF(A484>'Tabella ripartizione'!$L$4,0,Tariffe!$E$19*F488/365)","v":0},{"$f":"+IF(A484>'Tabella ripartizione'!$L$4,0,Tariffe!$F$19*F488/365*F489)","v":0},{"$f":"+IF(A484>'Tabella ripartizione'!$L$4,0,Tariffe!$G$19*F488/365*F490)","v":0},null,null,null,{"$f":"+ROUND(J500+K500+L500,2)","v":0}]
[null,null,null,null,null,null,null,null,null,null,null,null,{"$f":"+(Tariffe!$I$3+Tariffe!$J$3+Tariffe!$K$3+Tariffe!$L$3+Tariffe!$M$3)*F491","v":0},{"$f":"+(Tariffe!$I$3+Tariffe!$J$3+Tariffe!$K$3+Tariffe!$L$3+Tariffe!$M$3)*F491*F489","v":0},{"$f":"+(Tariffe!$I$3+Tariffe!$J$3+Tariffe!$K$3+Tariffe!$L$3+Tariffe!$M$3)*F491*F490","v":0},{"$f":"+ROUND(M501+N501+O501,2)","v":0}]
[null,null,null,null,null,null,null,null,null,null,null,null,null,null,null,{"$f":"SUM(P496:P501)","v":0},"Imponibile"]
[null,null,null,null,null,null,null,null,null,null,null,null,null,null,null,{"$f":"+ROUND(P502*0.1,2)","v":0},"IVA (10%)"]
[null,null,null,null,null,null,null,null,null,null,null,null,null,null,null,{"$f":"+P503+P502","v":0},"Totale corrispettivi"]
[]
[]
[{"$f":"+A484+1","v":23},null,null,null,null,null,"Impoto"]
[{"$f":"CONCATENATE(\"Unità domestica non residente #\",A507)","v":"Unità domestica non residente #23"},null,null,null,null,null,{"$f":"+P527","v":0}]
["Data inizio periodo consumo",null,null,null,null,{"$f":"+'Tabella ripartizione'!$C$3","v":"00:00:00"}]
["Data fine periodo consumo",null,null,null,null,{"$f":"+'Tabella ripartizione'!$C$4","v":"00:00:00"}]
["Giorni di consumo",null,null,null,null,{"$f":"+F510-F509+1","v":1}]
["Fognatura",null,null,null,null,{"$f":"+'Tabella ripartizione'!$C$6","v":1},"(0 = esente, 1=assoggettato)"]
["Depurazione",null,null,null,null,{"$f":"+'Tabella ripartizione'!$C$7","v":1},"(0 = esente, 1=assoggettato)"]
["Consumo misurato",null,null,null,null,{"$f":"SUMIF('Tabella ripartizione'!$J:$J,A508,'Tabella ripartizione'!$K:$K)","v":0}]
[]
["Tariffe TICSI",null,null,null,null,null,null,null,null,2022]
["Domestico NON Residente","Fasce anno (m3)",null,"Fasce pro-die (m3)",null,"mc riarticolati","Importi servizio",null,null,"Importi Quota fissa",null,null,"Importi perequazione"]
[null,"da","a","da","a",{"$f":"+F522+F521+F520+F519","v":0},"Acqua","Fogna","Depurazione","Acqua","Fogna","Depurazione","Acqua","Fogna","Depurazione","Totali"]
[null,{"$f":"+B496","v":0},80,0,{"$f":"+ROUND(C519/365*F511,0)","v":0},{"$f":"+IF(F514>=E519,E519,F514)","v":0},{"$f":"+Tariffe!$A$19*F519","v":0},{"$f":"+Tariffe!$B$19*F519*F512","v":0},{"$f":"+Tariffe!$C$19*F519*F513","v":0},null,null,null,null,null,null,{"$f":"+ROUND((G519+H519+I519),2)","v":0}]
[null,81,110,{"$f":"+E519","v":0},{"$f":"+ROUND(C520/365*F511,0)","v":0},{"$f":"+IF(F514>=E520,E520-E519,IF(F514>=E519,F514-E519,IF(F514<E519,0)))","v":0},{"$f":"+Tariffe!$A$20*F520","v":0},{"$f":"+Tariffe!$B$20*F520*F512","v":0},{"$f":"+Tariffe!$C$20*F520*F513","v":0},null,null,null,null,null,null,0]
[null,111,140,0,{"$f":"+ROUND(C521/365*F511,0)","v":0},{"$f":"+IF(F514>=E521,E521-E520,IF(F514>=E520,F514-E520,IF(F514<E520,0)))","v":0},{"$f":"+Tariffe!$A$21*F521","v":0},{"$f":"+Tariffe!$B$21*F521*F512","v":0},{"$f":"+Tariffe!$C$21*F521*F513","v":0},null,null,null,null,null,null,0]
[null,141,99999,0,{"$f":"+ROUND(C522/365*F511,0)","v":274},{"$f":"+IF(F514>=E522,E522-E521,IF(F514>=E521,F514-E521,IF(F514<E521,0)))","v":0},{"$f":"+Tariffe!$A$22*F522","v":0},{"$f":"+Tariffe!$B$22*F522*F512","v":0},{"$f":"+Tariffe!$C$22*F522*F513","v":0},null,null,null,null,null,null,0]
[null,null,null,null,null,null,null,null,null,{"$f":"+IF(A507>'Tabella ripartizione'!$L$4,0,Tariffe!$E$19*F511/365)","v":0},{"$f":"+IF(A507>'Tabella ripartizione'!$L$4,0,Tariffe!$F$19*F511/365*F512)","v":0},{"$f":"+IF(A507>'Tabella ripartizione'!$L$4,0,Tariffe!$G$19*F511/365*F513)","v":0},null,null,null,{"$f":"+ROUND(J523+K523+L523,2)","v":0}]
[null,null,null,null,null,null,null,null,null,null,null,null,{"$f":"+(Tariffe!$I$3+Tariffe!$J$3+Tariffe!$K$3+Tariffe!$L$3+Tariffe!$M$3)*F514","v":0},{"$f":"+(Tariffe!$I$3+Tariffe!$J$3+Tariffe!$K$3+Tariffe!$L$3+Tariffe!$M$3)*F514*F512","v":0},{"$f":"+(Tariffe!$I$3+Tariffe!$J$3+Tariffe!$K$3+Tariffe!$L$3+Tariffe!$M$3)*F514*F513","v":0},{"$f":"+ROUND(M524+N524+O524,2)","v":0}]
[null,null,null,null,null,null,null,null,null,null,null,null,null,null,null,{"$f":"SUM(P519:P524)","v":0},"Imponibile"]
[null,null,null,null,null,null,null,null,null,null,null,null,null,null,null,{"$f":"+ROUND(P525*0.1,2)","v":0},"IVA (10%)"]
[null,null,null,null,null,null,null,null,null,null,null,null,null,null,null,{"$f":"+P526+P525","v":0},"Totale corrispettivi"]
[]
[]
[{"$f":"+A507+1","v":24},null,null,null,null,null,"Impoto"]
[{"$f":"CONCATENATE(\"Unità domestica non residente #\",A530)","v":"Unità domestica non residente #24"},null,null,null,null,null,{"$f":"+P550","v":0}]
["Data inizio periodo consumo",null,null,null,null,{"$f":"+'Tabella ripartizione'!$C$3","v":"00:00:00"}]
["Data fine periodo consumo",null,null,null,null,{"$f":"+'Tabella ripartizione'!$C$4","v":"00:00:00"}]
["Giorni di consumo",null,null,null,null,{"$f":"+F533-F532+1","v":1}]
["Fognatura",null,null,null,null,{"$f":"+'Tabella ripartizione'!$C$6","v":1},"(0 = esente, 1=assoggettato)"]
["Depurazione",null,null,null,null,{"$f":"+'Tabella ripartizione'!$C$7","v":1},"(0 = esente, 1=assoggettato)"]
["Consumo misurato",null,null,null,null,{"$f":"SUMIF('Tabella ripartizione'!$J:$J,A531,'Tabella ripartizione'!$K:$K)","v":0}]
[]
["Tariffe TICSI",null,null,null,null,null,null,null,null,2022]
["Domestico NON Residente","Fasce anno (m3)",null,"Fasce pro-die (m3)",null,"mc riarticolati","Importi servizio",null,null,"Importi Quota fissa",null,null,"Importi perequazione"]
[null,"da","a","da","a",{"$f":"+F545+F544+F543+F542","v":0},"Acqua","Fogna","Depurazione","Acqua","Fogna","Depurazione","Acqua","Fogna","Depurazione","Totali"]
[null,{"$f":"+B519","v":0},80,0,{"$f":"+ROUND(C542/365*F534,0)","v":0},{"$f":"+IF(F537>=E542,E542,F537)","v":0},{"$f":"+Tariffe!$A$19*F542","v":0},{"$f":"+Tariffe!$B$19*F542*F535","v":0},{"$f":"+Tariffe!$C$19*F542*F536","v":0},null,null,null,null,null,null,{"$f":"+ROUND((G542+H542+I542),2)","v":0}]
[null,81,110,{"$f":"+E542","v":0},{"$f":"+ROUND(C543/365*F534,0)","v":0},{"$f":"+IF(F537>=E543,E543-E542,IF(F537>=E542,F537-E542,IF(F537<E542,0)))","v":0},{"$f":"+Tariffe!$A$20*F543","v":0},{"$f":"+Tariffe!$B$20*F543*F535","v":0},{"$f":"+Tariffe!$C$20*F543*F536","v":0},null,null,null,null,null,null,0]
[null,111,140,0,{"$f":"+ROUND(C544/365*F534,0)","v":0},{"$f":"+IF(F537>=E544,E544-E543,IF(F537>=E543,F537-E543,IF(F537<E543,0)))","v":0},{"$f":"+Tariffe!$A$21*F544","v":0},{"$f":"+Tariffe!$B$21*F544*F535","v":0},{"$f":"+Tariffe!$C$21*F544*F536","v":0},null,null,null,null,null,null,0]
[null,141,99999,0,{"$f":"+ROUND(C545/365*F534,0)","v":274},{"$f":"+IF(F537>=E545,E545-E544,IF(F537>=E544,F537-E544,IF(F537<E544,0)))","v":0},{"$f":"+Tariffe!$A$22*F545","v":0},{"$f":"+Tariffe!$B$22*F545*F535","v":0},{"$f":"+Tariffe!$C$22*F545*F536","v":0},null,null,null,null,null,null,0]
[null,null,null,null,null,null,null,null,null,{"$f":"+IF(A530>'Tabella ripartizione'!$L$4,0,Tariffe!$E$19*F534/365)","v":0},{"$f":"+IF(A530>'Tabella ripartizione'!$L$4,0,Tariffe!$F$19*F534/365*F535)","v":0},{"$f":"+IF(A530>'Tabella ripartizione'!$L$4,0,Tariffe!$G$19*F534/365*F536)","v":0},null,null,null,{"$f":"+ROUND(J546+K546+L546,2)","v":0}]
[null,null,null,null,null,null,null,null,null,null,null,null,{"$f":"+(Tariffe!$I$3+Tariffe!$J$3+Tariffe!$K$3+Tariffe!$L$3+Tariffe!$M$3)*F537","v":0},{"$f":"+(Tariffe!$I$3+Tariffe!$J$3+Tariffe!$K$3+Tariffe!$L$3+Tariffe!$M$3)*F537*F535","v":0},{"$f":"+(Tariffe!$I$3+Tariffe!$J$3+Tariffe!$K$3+Tariffe!$L$3+Tariffe!$M$3)*F537*F536","v":0},{"$f":"+ROUND(M547+N547+O547,2)","v":0}]
[null,null,null,null,null,null,null,null,null,null,null,null,null,null,null,{"$f":"SUM(P542:P547)","v":0},"Imponibile"]
[null,null,null,null,null,null,null,null,null,null,null,null,null,null,null,{"$f":"+ROUND(P548*0.1,2)","v":0},"IVA (10%)"]
[null,null,null,null,null,null,null,null,null,null,null,null,null,null,null,{"$f":"+P549+P548","v":0},"Totale corrispettivi"]
[]
[]
[{"$f":"+A530+1","v":25},null,null,null,null,null,"Impoto"]
[{"$f":"CONCATENATE(\"Unità domestica non residente #\",A553)","v":"Unità domestica non residente #25"},null,null,null,null,null,{"$f":"+P573","v":0}]
["Data inizio periodo consumo",null,null,null,null,{"$f":"+'Tabella ripartizione'!$C$3","v":"00:00:00"}]
["Data fine periodo consumo",null,null,null,null,{"$f":"+'Tabella ripartizione'!$C$4","v":"00:00:00"}]
["Giorni di consumo",null,null,null,null,{"$f":"+F556-F555+1","v":1}]
["Fognatura",null,null,null,null,{"$f":"+'Tabella ripartizione'!$C$6","v":1},"(0 = esente, 1=assoggettato)"]
["Depurazione",null,null,null,null,{"$f":"+'Tabella ripartizione'!$C$7","v":1},"(0 = esente, 1=assoggettato)"]
["Consumo misurato",null,null,null,null,{"$f":"SUMIF('Tabella ripartizione'!$J:$J,A554,'Tabella ripartizione'!$K:$K)","v":0}]
[]
["Tariffe TICSI",null,null,null,null,null,null,null,null,2022]
["Domestico NON Residente","Fasce anno (m3)",null,"Fasce pro-die (m3)",null,"mc riarticolati","Importi servizio",null,null,"Importi Quota fissa",null,null,"Importi perequazione"]
[null,"da","a","da","a",{"$f":"+F568+F567+F566+F565","v":0},"Acqua","Fogna","Depurazione","Acqua","Fogna","Depurazione","Acqua","Fogna","Depurazione","Totali"]
[null,{"$f":"+B542","v":0},80,0,{"$f":"+ROUND(C565/365*F557,0)","v":0},{"$f":"+IF(F560>=E565,E565,F560)","v":0},{"$f":"+Tariffe!$A$19*F565","v":0},{"$f":"+Tariffe!$B$19*F565*F558","v":0},{"$f":"+Tariffe!$C$19*F565*F559","v":0},null,null,null,null,null,null,{"$f":"+ROUND((G565+H565+I565),2)","v":0}]
[null,81,110,{"$f":"+E565","v":0},{"$f":"+ROUND(C566/365*F557,0)","v":0},{"$f":"+IF(F560>=E566,E566-E565,IF(F560>=E565,F560-E565,IF(F560<E565,0)))","v":0},{"$f":"+Tariffe!$A$20*F566","v":0},{"$f":"+Tariffe!$B$20*F566*F558","v":0},{"$f":"+Tariffe!$C$20*F566*F559","v":0},null,null,null,null,null,null,0]
[null,111,140,0,{"$f":"+ROUND(C567/365*F557,0)","v":0},{"$f":"+IF(F560>=E567,E567-E566,IF(F560>=E566,F560-E566,IF(F560<E566,0)))","v":0},{"$f":"+Tariffe!$A$21*F567","v":0},{"$f":"+Tariffe!$B$21*F567*F558","v":0},{"$f":"+Tariffe!$C$21*F567*F559","v":0},null,null,null,null,null,null,0]
[null,141,99999,0,{"$f":"+ROUND(C568/365*F557,0)","v":274},{"$f":"+IF(F560>=E568,E568-E567,IF(F560>=E567,F560-E567,IF(F560<E567,0)))","v":0},{"$f":"+Tariffe!$A$22*F568","v":0},{"$f":"+Tariffe!$B$22*F568*F558","v":0},{"$f":"+Tariffe!$C$22*F568*F559","v":0},null,null,null,null,null,null,0]
[null,null,null,null,null,null,null,null,null,{"$f":"+IF(A553>'Tabella ripartizione'!$L$4,0,Tariffe!$E$19*F557/365)","v":0},{"$f":"+IF(A553>'Tabella ripartizione'!$L$4,0,Tariffe!$F$19*F557/365*F558)","v":0},{"$f":"+IF(A553>'Tabella ripartizione'!$L$4,0,Tariffe!$G$19*F557/365*F559)","v":0},null,null,null,{"$f":"+ROUND(J569+K569+L569,2)","v":0}]
[null,null,null,null,null,null,null,null,null,null,null,null,{"$f":"+(Tariffe!$I$3+Tariffe!$J$3+Tariffe!$K$3+Tariffe!$L$3+Tariffe!$M$3)*F560","v":0},{"$f":"+(Tariffe!$I$3+Tariffe!$J$3+Tariffe!$K$3+Tariffe!$L$3+Tariffe!$M$3)*F560*F558","v":0},{"$f":"+(Tariffe!$I$3+Tariffe!$J$3+Tariffe!$K$3+Tariffe!$L$3+Tariffe!$M$3)*F560*F559","v":0},{"$f":"+ROUND(M570+N570+O570,2)","v":0}]
[null,null,null,null,null,null,null,null,null,null,null,null,null,null,null,{"$f":"SUM(P565:P570)","v":0},"Imponibile"]
[null,null,null,null,null,null,null,null,null,null,null,null,null,null,null,{"$f":"+ROUND(P571*0.1,2)","v":0},"IVA (10%)"]
[null,null,null,null,null,null,null,null,null,null,null,null,null,null,null,{"$f":"+P572+P571","v":0},"Totale corrispettivi"]
[]
[]
[{"$f":"+A553+1","v":26},null,null,null,null,null,"Impoto"]
[{"$f":"CONCATENATE(\"Unità domestica non residente #\",A576)","v":"Unità domestica non residente #26"},null,null,null,null,null,{"$f":"+P596","v":0}]
["Data inizio periodo consumo",null,null,null,null,{"$f":"+'Tabella ripartizione'!$C$3","v":"00:00:00"}]
["Data fine periodo consumo",null,null,null,null,{"$f":"+'Tabella ripartizione'!$C$4","v":"00:00:00"}]
["Giorni di consumo",null,null,null,null,{"$f":"+F579-F578+1","v":1}]
["Fognatura",null,null,null,null,{"$f":"+'Tabella ripartizione'!$C$6","v":1},"(0 = esente, 1=assoggettato)"]
["Depurazione",null,null,null,null,{"$f":"+'Tabella ripartizione'!$C$7","v":1},"(0 = esente, 1=assoggettato)"]
["Consumo misurato",null,null,null,null,{"$f":"SUMIF('Tabella ripartizione'!$J:$J,A577,'Tabella ripartizione'!$K:$K)","v":0}]
[]
["Tariffe TICSI",null,null,null,null,null,null,null,null,2022]
["Domestico NON Residente","Fasce anno (m3)",null,"Fasce pro-die (m3)",null,"mc riarticolati","Importi servizio",null,null,"Importi Quota fissa",null,null,"Importi perequazione"]
[null,"da","a","da","a",{"$f":"+F591+F590+F589+F588","v":0},"Acqua","Fogna","Depurazione","Acqua","Fogna","Depurazione","Acqua","Fogna","Depurazione","Totali"]
[null,{"$f":"+B565","v":0},80,0,{"$f":"+ROUND(C588/365*F580,0)","v":0},{"$f":"+IF(F583>=E588,E588,F583)","v":0},{"$f":"+Tariffe!$A$19*F588","v":0},{"$f":"+Tariffe!$B$19*F588*F581","v":0},{"$f":"+Tariffe!$C$19*F588*F582","v":0},null,null,null,null,null,null,{"$f":"+ROUND((G588+H588+I588),2)","v":0}]
[null,81,110,{"$f":"+E588","v":0},{"$f":"+ROUND(C589/365*F580,0)","v":0},{"$f":"+IF(F583>=E589,E589-E588,IF(F583>=E588,F583-E588,IF(F583<E588,0)))","v":0},{"$f":"+Tariffe!$A$20*F589","v":0},{"$f":"+Tariffe!$B$20*F589*F581","v":0},{"$f":"+Tariffe!$C$20*F589*F582","v":0},null,null,null,null,null,null,0]
[null,111,140,0,{"$f":"+ROUND(C590/365*F580,0)","v":0},{"$f":"+IF(F583>=E590,E590-E589,IF(F583>=E589,F583-E589,IF(F583<E589,0)))","v":0},{"$f":"+Tariffe!$A$21*F590","v":0},{"$f":"+Tariffe!$B$21*F590*F581","v":0},{"$f":"+Tariffe!$C$21*F590*F582","v":0},null,null,null,null,null,null,0]
[null,141,99999,0,{"$f":"+ROUND(C591/365*F580,0)","v":274},{"$f":"+IF(F583>=E591,E591-E590,IF(F583>=E590,F583-E590,IF(F583<E590,0)))","v":0},{"$f":"+Tariffe!$A$22*F591","v":0},{"$f":"+Tariffe!$B$22*F591*F581","v":0},{"$f":"+Tariffe!$C$22*F591*F582","v":0},null,null,null,null,null,null,0]
[null,null,null,null,null,null,null,null,null,{"$f":"+IF(A576>'Tabella ripartizione'!$L$4,0,Tariffe!$E$19*F580/365)","v":0},{"$f":"+IF(A576>'Tabella ripartizione'!$L$4,0,Tariffe!$F$19*F580/365*F581)","v":0},{"$f":"+IF(A576>'Tabella ripartizione'!$L$4,0,Tariffe!$G$19*F580/365*F582)","v":0},null,null,null,{"$f":"+ROUND(J592+K592+L592,2)","v":0}]
[null,null,null,null,null,null,null,null,null,null,null,null,{"$f":"+(Tariffe!$I$3+Tariffe!$J$3+Tariffe!$K$3+Tariffe!$L$3+Tariffe!$M$3)*F583","v":0},{"$f":"+(Tariffe!$I$3+Tariffe!$J$3+Tariffe!$K$3+Tariffe!$L$3+Tariffe!$M$3)*F583*F581","v":0},{"$f":"+(Tariffe!$I$3+Tariffe!$J$3+Tariffe!$K$3+Tariffe!$L$3+Tariffe!$M$3)*F583*F582","v":0},{"$f":"+ROUND(M593+N593+O593,2)","v":0}]
[null,null,null,null,null,null,null,null,null,null,null,null,null,null,null,{"$f":"SUM(P588:P593)","v":0},"Imponibile"]
[null,null,null,null,null,null,null,null,null,null,null,null,null,null,null,{"$f":"+ROUND(P594*0.1,2)","v":0},"IVA (10%)"]
[null,null,null,null,null,null,null,null,null,null,null,null,null,null,null,{"$f":"+P595+P594","v":0},"Totale corrispettivi"]
[]
[]
[{"$f":"+A576+1","v":27},null,null,null,null,null,"Impoto"]
[{"$f":"CONCATENATE(\"Unità domestica non residente #\",A599)","v":"Unità domestica non residente #27"},null,null,null,null,null,{"$f":"+P619","v":0}]
["Data inizio periodo consumo",null,null,null,null,{"$f":"+'Tabella ripartizione'!$C$3","v":"00:00:00"}]
["Data fine periodo consumo",null,null,null,null,{"$f":"+'Tabella ripartizione'!$C$4","v":"00:00:00"}]
["Giorni di consumo",null,null,null,null,{"$f":"+F602-F601+1","v":1}]
["Fognatura",null,null,null,null,{"$f":"+'Tabella ripartizione'!$C$6","v":1},"(0 = esente, 1=assoggettato)"]
["Depurazione",null,null,null,null,{"$f":"+'Tabella ripartizione'!$C$7","v":1},"(0 = esente, 1=assoggettato)"]
["Consumo misurato",null,null,null,null,{"$f":"SUMIF('Tabella ripartizione'!$J:$J,A600,'Tabella ripartizione'!$K:$K)","v":0}]
[]
["Tariffe TICSI",null,null,null,null,null,null,null,null,2022]
["Domestico NON Residente","Fasce anno (m3)",null,"Fasce pro-die (m3)",null,"mc riarticolati","Importi servizio",null,null,"Importi Quota fissa",null,null,"Importi perequazione"]
[null,"da","a","da","a",{"$f":"+F614+F613+F612+F611","v":0},"Acqua","Fogna","Depurazione","Acqua","Fogna","Depurazione","Acqua","Fogna","Depurazione","Totali"]
[null,{"$f":"+B588","v":0},80,0,{"$f":"+ROUND(C611/365*F603,0)","v":0},{"$f":"+IF(F606>=E611,E611,F606)","v":0},{"$f":"+Tariffe!$A$19*F611","v":0},{"$f":"+Tariffe!$B$19*F611*F604","v":0},{"$f":"+Tariffe!$C$19*F611*F605","v":0},null,null,null,null,null,null,{"$f":"+ROUND((G611+H611+I611),2)","v":0}]
[null,81,110,{"$f":"+E611","v":0},{"$f":"+ROUND(C612/365*F603,0)","v":0},{"$f":"+IF(F606>=E612,E612-E611,IF(F606>=E611,F606-E611,IF(F606<E611,0)))","v":0},{"$f":"+Tariffe!$A$20*F612","v":0},{"$f":"+Tariffe!$B$20*F612*F604","v":0},{"$f":"+Tariffe!$C$20*F612*F605","v":0},null,null,null,null,null,null,0]
[null,111,140,0,{"$f":"+ROUND(C613/365*F603,0)","v":0},{"$f":"+IF(F606>=E613,E613-E612,IF(F606>=E612,F606-E612,IF(F606<E612,0)))","v":0},{"$f":"+Tariffe!$A$21*F613","v":0},{"$f":"+Tariffe!$B$21*F613*F604","v":0},{"$f":"+Tariffe!$C$21*F613*F605","v":0},null,null,null,null,null,null,0]
[null,141,99999,0,{"$f":"+ROUND(C614/365*F603,0)","v":274},{"$f":"+IF(F606>=E614,E614-E613,IF(F606>=E613,F606-E613,IF(F606<E613,0)))","v":0},{"$f":"+Tariffe!$A$22*F614","v":0},{"$f":"+Tariffe!$B$22*F614*F604","v":0},{"$f":"+Tariffe!$C$22*F614*F605","v":0},null,null,null,null,null,null,0]
[null,null,null,null,null,null,null,null,null,{"$f":"+IF(A599>'Tabella ripartizione'!$L$4,0,Tariffe!$E$19*F603/365)","v":0},{"$f":"+IF(A599>'Tabella ripartizione'!$L$4,0,Tariffe!$F$19*F603/365*F604)","v":0},{"$f":"+IF(A599>'Tabella ripartizione'!$L$4,0,Tariffe!$G$19*F603/365*F605)","v":0},null,null,null,{"$f":"+ROUND(J615+K615+L615,2)","v":0}]
[null,null,null,null,null,null,null,null,null,null,null,null,{"$f":"+(Tariffe!$I$3+Tariffe!$J$3+Tariffe!$K$3+Tariffe!$L$3+Tariffe!$M$3)*F606","v":0},{"$f":"+(Tariffe!$I$3+Tariffe!$J$3+Tariffe!$K$3+Tariffe!$L$3+Tariffe!$M$3)*F606*F604","v":0},{"$f":"+(Tariffe!$I$3+Tariffe!$J$3+Tariffe!$K$3+Tariffe!$L$3+Tariffe!$M$3)*F606*F605","v":0},{"$f":"+ROUND(M616+N616+O616,2)","v":0}]
[null,null,null,null,null,null,null,null,null,null,null,null,null,null,null,{"$f":"SUM(P611:P616)","v":0},"Imponibile"]
[null,null,null,null,null,null,null,null,null,null,null,null,null,null,null,{"$f":"+ROUND(P617*0.1,2)","v":0},"IVA (10%)"]
[null,null,null,null,null,null,null,null,null,null,null,null,null,null,null,{"$f":"+P618+P617","v":0},"Totale corrispettivi"]
[]
[]
[{"$f":"+A599+1","v":28},null,null,null,null,null,"Impoto"]
[{"$f":"CONCATENATE(\"Unità domestica non residente #\",A622)","v":"Unità domestica non residente #28"},null,null,null,null,null,{"$f":"+P642","v":0}]
["Data inizio periodo consumo",null,null,null,null,{"$f":"+'Tabella ripartizione'!$C$3","v":"00:00:00"}]
["Data fine periodo consumo",null,null,null,null,{"$f":"+'Tabella ripartizione'!$C$4","v":"00:00:00"}]
["Giorni di consumo",null,null,null,null,{"$f":"+F625-F624+1","v":1}]
["Fognatura",null,null,null,null,{"$f":"+'Tabella ripartizione'!$C$6","v":1},"(0 = esente, 1=assoggettato)"]
["Depurazione",null,null,null,null,{"$f":"+'Tabella ripartizione'!$C$7","v":1},"(0 = esente, 1=assoggettato)"]
["Consumo misurato",null,null,null,null,{"$f":"SUMIF('Tabella ripartizione'!$J:$J,A623,'Tabella ripartizione'!$K:$K)","v":0}]
[]
["Tariffe TICSI",null,null,null,null,null,null,null,null,2022]
["Domestico NON Residente","Fasce anno (m3)",null,"Fasce pro-die (m3)",null,"mc riarticolati","Importi servizio",null,null,"Importi Quota fissa",null,null,"Importi perequazione"]
[null,"da","a","da","a",{"$f":"+F637+F636+F635+F634","v":0},"Acqua","Fogna","Depurazione","Acqua","Fogna","Depurazione","Acqua","Fogna","Depurazione","Totali"]
[null,{"$f":"+B611","v":0},80,0,{"$f":"+ROUND(C634/365*F626,0)","v":0},{"$f":"+IF(F629>=E634,E634,F629)","v":0},{"$f":"+Tariffe!$A$19*F634","v":0},{"$f":"+Tariffe!$B$19*F634*F627","v":0},{"$f":"+Tariffe!$C$19*F634*F628","v":0},null,null,null,null,null,null,{"$f":"+ROUND((G634+H634+I634),2)","v":0}]
[null,81,110,{"$f":"+E634","v":0},{"$f":"+ROUND(C635/365*F626,0)","v":0},{"$f":"+IF(F629>=E635,E635-E634,IF(F629>=E634,F629-E634,IF(F629<E634,0)))","v":0},{"$f":"+Tariffe!$A$20*F635","v":0},{"$f":"+Tariffe!$B$20*F635*F627","v":0},{"$f":"+Tariffe!$C$20*F635*F628","v":0},null,null,null,null,null,null,0]
[null,111,140,0,{"$f":"+ROUND(C636/365*F626,0)","v":0},{"$f":"+IF(F629>=E636,E636-E635,IF(F629>=E635,F629-E635,IF(F629<E635,0)))","v":0},{"$f":"+Tariffe!$A$21*F636","v":0},{"$f":"+Tariffe!$B$21*F636*F627","v":0},{"$f":"+Tariffe!$C$21*F636*F628","v":0},null,null,null,null,null,null,0]
[null,141,99999,0,{"$f":"+ROUND(C637/365*F626,0)","v":274},{"$f":"+IF(F629>=E637,E637-E636,IF(F629>=E636,F629-E636,IF(F629<E636,0)))","v":0},{"$f":"+Tariffe!$A$22*F637","v":0},{"$f":"+Tariffe!$B$22*F637*F627","v":0},{"$f":"+Tariffe!$C$22*F637*F628","v":0},null,null,null,null,null,null,0]
[null,null,null,null,null,null,null,null,null,{"$f":"+IF(A622>'Tabella ripartizione'!$L$4,0,Tariffe!$E$19*F626/365)","v":0},{"$f":"+IF(A622>'Tabella ripartizione'!$L$4,0,Tariffe!$F$19*F626/365*F627)","v":0},{"$f":"+IF(A622>'Tabella ripartizione'!$L$4,0,Tariffe!$G$19*F626/365*F628)","v":0},null,null,null,{"$f":"+ROUND(J638+K638+L638,2)","v":0}]
[null,null,null,null,null,null,null,null,null,null,null,null,{"$f":"+(Tariffe!$I$3+Tariffe!$J$3+Tariffe!$K$3+Tariffe!$L$3+Tariffe!$M$3)*F629","v":0},{"$f":"+(Tariffe!$I$3+Tariffe!$J$3+Tariffe!$K$3+Tariffe!$L$3+Tariffe!$M$3)*F629*F627","v":0},{"$f":"+(Tariffe!$I$3+Tariffe!$J$3+Tariffe!$K$3+Tariffe!$L$3+Tariffe!$M$3)*F629*F628","v":0},{"$f":"+ROUND(M639+N639+O639,2)","v":0}]
[null,null,null,null,null,null,null,null,null,null,null,null,null,null,null,{"$f":"SUM(P634:P639)","v":0},"Imponibile"]
[null,null,null,null,null,null,null,null,null,null,null,null,null,null,null,{"$f":"+ROUND(P640*0.1,2)","v":0},"IVA (10%)"]
[null,null,null,null,null,null,null,null,null,null,null,null,null,null,null,{"$f":"+P641+P640","v":0},"Totale corrispettivi"]
[]
[]
[{"$f":"+A622+1","v":29},null,null,null,null,null,"Impoto"]
[{"$f":"CONCATENATE(\"Unità domestica non residente #\",A645)","v":"Unità domestica non residente #29"},null,null,null,null,null,{"$f":"+P665","v":0}]
["Data inizio periodo consumo",null,null,null,null,{"$f":"+'Tabella ripartizione'!$C$3","v":"00:00:00"}]
["Data fine periodo consumo",null,null,null,null,{"$f":"+'Tabella ripartizione'!$C$4","v":"00:00:00"}]
["Giorni di consumo",null,null,null,null,{"$f":"+F648-F647+1","v":1}]
["Fognatura",null,null,null,null,{"$f":"+'Tabella ripartizione'!$C$6","v":1},"(0 = esente, 1=assoggettato)"]
["Depurazione",null,null,null,null,{"$f":"+'Tabella ripartizione'!$C$7","v":1},"(0 = esente, 1=assoggettato)"]
["Consumo misurato",null,null,null,null,{"$f":"SUMIF('Tabella ripartizione'!$J:$J,A646,'Tabella ripartizione'!$K:$K)","v":0}]
[]
["Tariffe TICSI",null,null,null,null,null,null,null,null,2022]
["Domestico NON Residente","Fasce anno (m3)",null,"Fasce pro-die (m3)",null,"mc riarticolati","Importi servizio",null,null,"Importi Quota fissa",null,null,"Importi perequazione"]
[null,"da","a","da","a",{"$f":"+F660+F659+F658+F657","v":0},"Acqua","Fogna","Depurazione","Acqua","Fogna","Depurazione","Acqua","Fogna","Depurazione","Totali"]
[null,{"$f":"+B634","v":0},80,0,{"$f":"+ROUND(C657/365*F649,0)","v":0},{"$f":"+IF(F652>=E657,E657,F652)","v":0},{"$f":"+Tariffe!$A$19*F657","v":0},{"$f":"+Tariffe!$B$19*F657*F650","v":0},{"$f":"+Tariffe!$C$19*F657*F651","v":0},null,null,null,null,null,null,{"$f":"+ROUND((G657+H657+I657),2)","v":0}]
[null,81,110,{"$f":"+E657","v":0},{"$f":"+ROUND(C658/365*F649,0)","v":0},{"$f":"+IF(F652>=E658,E658-E657,IF(F652>=E657,F652-E657,IF(F652<E657,0)))","v":0},{"$f":"+Tariffe!$A$20*F658","v":0},{"$f":"+Tariffe!$B$20*F658*F650","v":0},{"$f":"+Tariffe!$C$20*F658*F651","v":0},null,null,null,null,null,null,0]
[null,111,140,0,{"$f":"+ROUND(C659/365*F649,0)","v":0},{"$f":"+IF(F652>=E659,E659-E658,IF(F652>=E658,F652-E658,IF(F652<E658,0)))","v":0},{"$f":"+Tariffe!$A$21*F659","v":0},{"$f":"+Tariffe!$B$21*F659*F650","v":0},{"$f":"+Tariffe!$C$21*F659*F651","v":0},null,null,null,null,null,null,0]
[null,141,99999,0,{"$f":"+ROUND(C660/365*F649,0)","v":274},{"$f":"+IF(F652>=E660,E660-E659,IF(F652>=E659,F652-E659,IF(F652<E659,0)))","v":0},{"$f":"+Tariffe!$A$22*F660","v":0},{"$f":"+Tariffe!$B$22*F660*F650","v":0},{"$f":"+Tariffe!$C$22*F660*F651","v":0},null,null,null,null,null,null,0]
[null,null,null,null,null,null,null,null,null,{"$f":"+IF(A645>'Tabella ripartizione'!$L$4,0,Tariffe!$E$19*F649/365)","v":0},{"$f":"+IF(A645>'Tabella ripartizione'!$L$4,0,Tariffe!$F$19*F649/365*F650)","v":0},{"$f":"+IF(A645>'Tabella ripartizione'!$L$4,0,Tariffe!$G$19*F649/365*F651)","v":0},null,null,null,{"$f":"+ROUND(J661+K661+L661,2)","v":0}]
[null,null,null,null,null,null,null,null,null,null,null,null,{"$f":"+(Tariffe!$I$3+Tariffe!$J$3+Tariffe!$K$3+Tariffe!$L$3+Tariffe!$M$3)*F652","v":0},{"$f":"+(Tariffe!$I$3+Tariffe!$J$3+Tariffe!$K$3+Tariffe!$L$3+Tariffe!$M$3)*F652*F650","v":0},{"$f":"+(Tariffe!$I$3+Tariffe!$J$3+Tariffe!$K$3+Tariffe!$L$3+Tariffe!$M$3)*F652*F651","v":0},{"$f":"+ROUND(M662+N662+O662,2)","v":0}]
[null,null,null,null,null,null,null,null,null,null,null,null,null,null,null,{"$f":"SUM(P657:P662)","v":0},"Imponibile"]
[null,null,null,null,null,null,null,null,null,null,null,null,null,null,null,{"$f":"+ROUND(P663*0.1,2)","v":0},"IVA (10%)"]
[null,null,null,null,null,null,null,null,null,null,null,null,null,null,null,{"$f":"+P664+P663","v":0},"Totale corrispettivi"]
[]
[]
[{"$f":"+A645+1","v":30},null,null,null,null,null,"Impoto"]
[{"$f":"CONCATENATE(\"Unità domestica non residente #\",A668)","v":"Unità domestica non residente #30"},null,null,null,null,null,{"$f":"+P688","v":0}]
["Data inizio periodo consumo",null,null,null,null,{"$f":"+'Tabella ripartizione'!$C$3","v":"00:00:00"}]
["Data fine periodo consumo",null,null,null,null,{"$f":"+'Tabella ripartizione'!$C$4","v":"00:00:00"}]
["Giorni di consumo",null,null,null,null,{"$f":"+F671-F670+1","v":1}]
["Fognatura",null,null,null,null,{"$f":"+'Tabella ripartizione'!$C$6","v":1},"(0 = esente, 1=assoggettato)"]
["Depurazione",null,null,null,null,{"$f":"+'Tabella ripartizione'!$C$7","v":1},"(0 = esente, 1=assoggettato)"]
["Consumo misurato",null,null,null,null,{"$f":"SUMIF('Tabella ripartizione'!$J:$J,A669,'Tabella ripartizione'!$K:$K)","v":0}]
[]
["Tariffe TICSI",null,null,null,null,null,null,null,null,2022]
["Domestico NON Residente","Fasce anno (m3)",null,"Fasce pro-die (m3)",null,"mc riarticolati","Importi servizio",null,null,"Importi Quota fissa",null,null,"Importi perequazione"]
[null,"da","a","da","a",{"$f":"+F683+F682+F681+F680","v":0},"Acqua","Fogna","Depurazione","Acqua","Fogna","Depurazione","Acqua","Fogna","Depurazione","Totali"]
[null,{"$f":"+B657","v":0},80,0,{"$f":"+ROUND(C680/365*F672,0)","v":0},{"$f":"+IF(F675>=E680,E680,F675)","v":0},{"$f":"+Tariffe!$A$19*F680","v":0},{"$f":"+Tariffe!$B$19*F680*F673","v":0},{"$f":"+Tariffe!$C$19*F680*F674","v":0},null,null,null,null,null,null,{"$f":"+ROUND((G680+H680+I680),2)","v":0}]
[null,81,110,{"$f":"+E680","v":0},{"$f":"+ROUND(C681/365*F672,0)","v":0},{"$f":"+IF(F675>=E681,E681-E680,IF(F675>=E680,F675-E680,IF(F675<E680,0)))","v":0},{"$f":"+Tariffe!$A$20*F681","v":0},{"$f":"+Tariffe!$B$20*F681*F673","v":0},{"$f":"+Tariffe!$C$20*F681*F674","v":0},null,null,null,null,null,null,0]
[null,111,140,0,{"$f":"+ROUND(C682/365*F672,0)","v":0},{"$f":"+IF(F675>=E682,E682-E681,IF(F675>=E681,F675-E681,IF(F675<E681,0)))","v":0},{"$f":"+Tariffe!$A$21*F682","v":0},{"$f":"+Tariffe!$B$21*F682*F673","v":0},{"$f":"+Tariffe!$C$21*F682*F674","v":0},null,null,null,null,null,null,0]
[null,141,99999,0,{"$f":"+ROUND(C683/365*F672,0)","v":274},{"$f":"+IF(F675>=E683,E683-E682,IF(F675>=E682,F675-E682,IF(F675<E682,0)))","v":0},{"$f":"+Tariffe!$A$22*F683","v":0},{"$f":"+Tariffe!$B$22*F683*F673","v":0},{"$f":"+Tariffe!$C$22*F683*F674","v":0},null,null,null,null,null,null,0]
[null,null,null,null,null,null,null,null,null,{"$f":"+IF(A668>'Tabella ripartizione'!$L$4,0,Tariffe!$E$19*F672/365)","v":0},{"$f":"+IF(A668>'Tabella ripartizione'!$L$4,0,Tariffe!$F$19*F672/365*F673)","v":0},{"$f":"+IF(A668>'Tabella ripartizione'!$L$4,0,Tariffe!$G$19*F672/365*F674)","v":0},null,null,null,{"$f":"+ROUND(J684+K684+L684,2)","v":0}]
[null,null,null,null,null,null,null,null,null,null,null,null,{"$f":"+(Tariffe!$I$3+Tariffe!$J$3+Tariffe!$K$3+Tariffe!$L$3+Tariffe!$M$3)*F675","v":0},{"$f":"+(Tariffe!$I$3+Tariffe!$J$3+Tariffe!$K$3+Tariffe!$L$3+Tariffe!$M$3)*F675*F673","v":0},{"$f":"+(Tariffe!$I$3+Tariffe!$J$3+Tariffe!$K$3+Tariffe!$L$3+Tariffe!$M$3)*F675*F674","v":0},{"$f":"+ROUND(M685+N685+O685,2)","v":0}]
[null,null,null,null,null,null,null,null,null,null,null,null,null,null,null,{"$f":"SUM(P680:P685)","v":0},"Imponibile"]
[null,null,null,null,null,null,null,null,null,null,null,null,null,null,null,{"$f":"+ROUND(P686*0.1,2)","v":0},"IVA (10%)"]
[null,null,null,null,null,null,null,null,null,null,null,null,null,null,null,{"$f":"+P687+P686","v":0},"Totale corrispettivi"]

{"sheet":"COMMERCIALE","index":3,"n_rows":688,"n_cols":17,"rows_kept":688,"cut":false,"hidden":true,"merged":[[1,0,1,4],[9,0,9,8],[9,9,9,12],[10,0,20,0],[10,1,10,2],[10,3,10,4],[10,6,10,8],[93,0,93,4],[116,0,116,4],[139,0,139,4],[162,0,162,4],[185,0,185,4],[10,9,10,11],[10,12,10,14],[24,0,24,4],[47,0,47,4],[70,0,70,4],[507,0,507,4],[193,9,193,12],[194,9,194,11],[194,12,194,14],[216,9,216,12],[217,9,217,11],[217,12,217,14],[147,9,147,12],[148,9,148,11],[148,12,148,14],[170,9,170,12],[171,9,171,11],[171,12,171,14],[285,9,285,12],[286,9,286,11],[286,12,286,14],[530,0,530,4],[323,0,323,4],[346,0,346,4],[369,0,369,4],[392,0,392,4],[415,0,415,4],[208,0,208,4],[231,0,231,4],[254,0,254,4],[277,0,277,4],[300,0,300,4],[668,0,668,4],[32,9,32,12],[33,9,33,11],[33,12,33,14],[55,9,55,12],[56,9,56,11],[56,12,56,14],[78,9,78,12],[79,9,79,11],[79,12,79,14],[101,9,101,12],[102,9,102,11],[102,12,102,14],[124,9,124,12],[125,9,125,11],[125,12,125,14],[553,0,553,4],[576,0,576,4],[599,0,599,4],[622,0,622,4],[645,0,645,4],[438,0,438,4],[461,0,461,4],[484,0,484,4],[308,9,308,12],[309,9,309,11],[309,12,309,14],[239,9,239,12],[240,9,240,11],[240,12,240,14],[262,9,262,12],[263,9,263,11],[263,12,263,14],[377,9,377,12],[378,9,378,11],[378,12,378,14],[400,9,400,12],[401,9,401,11],[401,12,401,14],[331,9,331,12],[332,9,332,11],[332,12,332,14],[354,9,354,12],[355,9,355,11],[355,12,355,14],[469,9,469,12],[470,9,470,11],[470,12,470,14],[492,9,492,12],[493,9,493,11],[493,12,493,14],[423,9,423,12],[424,9,424,11],[424,12,424,14],[446,9,446,12],[447,9,447,11],[447,12,447,14],[561,9,561,12],[562,9,562,11],[562,12,562,14],[584,9,584,12],[585,9,585,11],[585,12,585,14],[515,9,515,12],[516,9,516,11],[516,12,516,14],[538,9,538,12],[539,9,539,11],[539,12,539,14],[653,9,653,12],[654,9,654,11],[654,12,654,14],[676,9,676,12],[677,9,677,11],[677,12,677,14],[607,9,607,12],[608,9,608,11],[608,12,608,14],[630,9,630,12],[631,9,631,11],[631,12,631,14]]}
[1,null,null,null,null,null,"Impoto"]
[{"$f":"CONCATENATE(\"Unità commerciale #\",A1)","v":"Unità commerciale #1"},null,null,null,null,null,{"$f":"+P21","v":0}]
["Data inizio periodo consumo",null,null,null,null,{"$f":"+'Tabella ripartizione'!$C$3","v":"00:00:00"}]
["Data fine periodo consumo",null,null,null,null,{"$f":"+'Tabella ripartizione'!$C$4","v":"00:00:00"}]
["Giorni di consumo",null,null,null,null,{"$f":"+F4-F3+1","v":1}]
["Fognatura",null,null,null,null,{"$f":"+'Tabella ripartizione'!$C$6","v":1},"(0 = esente, 1=assoggettato)"]
["Depurazione",null,null,null,null,{"$f":"+'Tabella ripartizione'!$C$7","v":1},"(0 = esente, 1=assoggettato)"]
["Consumo misurato",null,null,null,null,{"$f":"SUMIF('Tabella ripartizione'!$Q:$Q,A2,'Tabella ripartizione'!$R:$R)","v":0}]
[]
["Tariffe TICSI",null,null,null,null,null,null,null,null,2022]
["Commerciale artigianale","Fasce anno (m3)",null,"Fasce pro-die (m3)",null,"mc riarticolati","Importi servizio",null,null,"Importi Quota fissa",null,null,"Importi perequazione"]
[null,"da","a","da","a",{"$f":"++F16+F14+F15+F13","v":0},"Acqua","Fogna","Depurazione","Acqua","Fogna","Depurazione","Acqua","Fogna","Depurazione","Totali"]
[null,0,120,0,{"$f":"+ROUND(C13/365*F5,0)","v":0},{"$f":"+IF(F8>=E13,E13,F8)","v":0},{"$f":"+Tariffe!$A$12*F13","v":0},{"$f":"+Tariffe!$B$12*F13","v":0},{"$f":"+Tariffe!$C$12*F13*$F$7","v":0},null,null,null,null,null,null,{"$f":"+ROUND((G13+H13+I13),2)","v":0}]
[null,{"$f":"+C13+1","v":121},180,{"$f":"+E13","v":0},{"$f":"+ROUND(C14/365*F5,0)","v":0},{"$f":"+IF(F8>=E14,E14-E13,IF(F8>=E13,F8-E13,IF(F8<E13,0)))","v":0},{"$f":"+Tariffe!$A$13*F14","v":0},{"$f":"+Tariffe!$B$13*F14","v":0},{"$f":"+Tariffe!$C$13*F14*$F$7","v":0},null,null,null,null,null,null,{"$f":"+ROUND((G14+H14+I14),2)","v":0}]
[null,181,240,{"$f":"+E14","v":0},{"$f":"+ROUND(C15/365*F5,0)","v":1},{"$f":"+IF(F8>=E15,E15-E14,IF(F8>=E14,F8-E14,IF(F8<E14,0)))","v":0},{"$f":"+Tariffe!$A$14*F15","v":0},{"$f":"+Tariffe!$B$14*F15","v":0},{"$f":"+Tariffe!$C$14*F15*$F$7","v":0},null,null,null,null,null,null,0]
[null,{"$f":"+C15+1","v":241},999999,{"$f":"+E15","v":1},{"$f":"+ROUND(C16/365*F5,0)","v":2740},{"$f":"+IF(F8>=E16,E16-E15,IF(F8>=E15,F8-E15,IF(F8<E15,0)))","v":0},{"$f":"+Tariffe!$A$15*F16","v":0},{"$f":"+Tariffe!$B$15*F16","v":0},{"$f":"+Tariffe!$C$15*F16*$F$7","v":0},null,null,null,null,null,null,0]
[null,null,null,null,null,null,null,null,null,{"$f":"+IF(A1>'Tabella ripartizione'!$L$5,0,Tariffe!$E$12*F5/365)","v":0},{"$f":"+IF(A1>'Tabella ripartizione'!$L$5,0,Tariffe!$F$12*F5/365*F6)","v":0},{"$f":"+IF(A1>'Tabella ripartizione'!$L$5,0,Tariffe!$G$12*F5/365*F7)","v":0},null,null,null,{"$f":"+ROUND((J17+K17+L17),2)","v":0}]
[null,null,null,null,null,null,null,null,null,null,null,null,{"$f":"+(Tariffe!$I$3+Tariffe!$J$3+Tariffe!$K$3+Tariffe!$L$3+Tariffe!$M$3)*F8","v":0},{"$f":"+(Tariffe!$I$3+Tariffe!$J$3+Tariffe!$K$3+Tariffe!$L$3+Tariffe!$M$3)*F6*F8","v":0},{"$f":"+(Tariffe!$I$3+Tariffe!$J$3+Tariffe!$K$3+Tariffe!$L$3+Tariffe!$M$3)*F7*F8","v":0},{"$f":"+ROUND(M18+N18+O18,2)","v":0}]
[null,null,null,null,null,null,null,null,null,null,null,null,null,null,null,{"$f":"SUM(P13:P18)","v":0},"Imponibile"]
[null,null,null,null,null,null,null,null,null,null,null,null,null,null,null,{"$f":"+ROUND(P19*0.1,2)","v":0},"IVA (10%)"]
[null,null,null,null,null,null,null,null,null,null,null,null,null,null,null,{"$f":"+P20+P19","v":0},"Totale corrispettivi"]
[]
[]
[{"$f":"+A1+1","v":2},null,null,null,null,null,"Impoto"]
[{"$f":"CONCATENATE(\"Unità commerciale #\",A24)","v":"Unità commerciale #2"},null,null,null,null,null,{"$f":"+P44","v":0}]
["Data inizio periodo consumo",null,null,null,null,{"$f":"+'Tabella ripartizione'!$C$3","v":"00:00:00"}]
["Data fine periodo consumo",null,null,null,null,{"$f":"+'Tabella ripartizione'!$C$4","v":"00:00:00"}]
["Giorni di consumo",null,null,null,null,{"$f":"+F27-F26+1","v":1}]
["Fognatura",null,null,null,null,{"$f":"+'Tabella ripartizione'!$C$6","v":1},"(0 = esente, 1=assoggettato)"]
["Depurazione",null,null,null,null,{"$f":"+'Tabella ripartizione'!$C$7","v":1},"(0 = esente, 1=assoggettato)"]
["Consumo misurato",null,null,null,null,{"$f":"SUMIF('Tabella ripartizione'!$Q:$Q,A25,'Tabella ripartizione'!$R:$R)","v":0}]
[]
["Tariffe TICSI",null,null,null,null,null,null,null,null,2022]
["Commerciale artigianale","Fasce anno (m3)",null,"Fasce pro-die (m3)",null,"mc riarticolati","Importi servizio",null,null,"Importi Quota fissa",null,null,"Importi perequazione"]
[null,"da","a","da","a",{"$f":"++F39+F37+F38+F36","v":0},"Acqua","Fogna","Depurazione","Acqua","Fogna","Depurazione","Acqua","Fogna","Depurazione","Totali"]
[null,0,120,0,{"$f":"+ROUND(C36/365*F28,0)","v":0},{"$f":"+IF(F31>=E36,E36,F31)","v":0},{"$f":"+Tariffe!$A$12*F36","v":0},{"$f":"+Tariffe!$B$12*F36","v":0},{"$f":"+Tariffe!$C$12*F36*$F$7","v":0},null,null,null,null,null,null,{"$f":"+ROUND((G36+H36+I36),2)","v":0}]
[null,{"$f":"+C36+1","v":121},180,{"$f":"+E36","v":0},{"$f":"+ROUND(C37/365*F28,0)","v":0},{"$f":"+IF(F31>=E37,E37-E36,IF(F31>=E36,F31-E36,IF(F31<E36,0)))","v":0},{"$f":"+Tariffe!$A$13*F37","v":0},{"$f":"+Tariffe!$B$13*F37","v":0},{"$f":"+Tariffe!$C$13*F37*$F$7","v":0},null,null,null,null,null,null,{"$f":"+ROUND((G37+H37+I37),2)","v":0}]
[null,181,240,{"$f":"+E37","v":0},{"$f":"+ROUND(C38/365*F28,0)","v":1},{"$f":"+IF(F31>=E38,E38-E37,IF(F31>=E37,F31-E37,IF(F31<E37,0)))","v":0},{"$f":"+Tariffe!$A$14*F38","v":0},{"$f":"+Tariffe!$B$14*F38","v":0},{"$f":"+Tariffe!$C$14*F38*$F$7","v":0},null,null,null,null,null,null,0]
[null,{"$f":"+C38+1","v":241},999999,{"$f":"+E38","v":1},{"$f":"+ROUND(C39/365*F28,0)","v":2740},{"$f":"+IF(F31>=E39,E39-E38,IF(F31>=E38,F31-E38,IF(F31<E38,0)))","v":0},{"$f":"+Tariffe!$A$15*F39","v":0},{"$f":"+Tariffe!$B$15*F39","v":0},{"$f":"+Tariffe!$C$15*F39*$F$7","v":0},null,null,null,null,null,null,0]
[null,null,null,null,null,null,null,null,null,{"$f":"+IF(A24>'Tabella ripartizione'!$L$5,0,Tariffe!$E$12*F28/365)","v":0},{"$f":"+IF(A24>'Tabella ripartizione'!$L$5,0,Tariffe!$F$12*F28/365*F29)","v":0},{"$f":"+IF(A24>'Tabella ripartizione'!$L$5,0,Tariffe!$G$12*F28/365*F30)","v":0},null,null,null,{"$f":"+ROUND((J40+K40+L40),2)","v":0}]
[null,null,null,null,null,null,null,null,null,null,null,null,{"$f":"+(Tariffe!$I$3+Tariffe!$J$3+Tariffe!$K$3+Tariffe!$L$3+Tariffe!$M$3)*F31","v":0},{"$f":"+(Tariffe!$I$3+Tariffe!$J$3+Tariffe!$K$3+Tariffe!$L$3+Tariffe!$M$3)*F29*F31","v":0},{"$f":"+(Tariffe!$I$3+Tariffe!$J$3+Tariffe!$K$3+Tariffe!$L$3+Tariffe!$M$3)*F30*F31","v":0},{"$f":"+ROUND(M41+N41+O41,2)","v":0}]
[null,null,null,null,null,null,null,null,null,null,null,null,null,null,null,{"$f":"SUM(P36:P41)","v":0},"Imponibile"]
[null,null,null,null,null,null,null,null,null,null,null,null,null,null,null,{"$f":"+ROUND(P42*0.1,2)","v":0},"IVA (10%)"]
[null,null,null,null,null,null,null,null,null,null,null,null,null,null,null,{"$f":"+P43+P42","v":0},"Totale corrispettivi"]
[]
[]
[{"$f":"+A24+1","v":3},null,null,null,null,null,"Impoto"]
[{"$f":"CONCATENATE(\"Unità commerciale #\",A47)","v":"Unità commerciale #3"},null,null,null,null,null,{"$f":"+P67","v":0}]
["Data inizio periodo consumo",null,null,null,null,{"$f":"+'Tabella ripartizione'!$C$3","v":"00:00:00"}]
["Data fine periodo consumo",null,null,null,null,{"$f":"+'Tabella ripartizione'!$C$4","v":"00:00:00"}]
["Giorni di consumo",null,null,null,null,{"$f":"+F50-F49+1","v":1}]
["Fognatura",null,null,null,null,{"$f":"+'Tabella ripartizione'!$C$6","v":1},"(0 = esente, 1=assoggettato)"]
["Depurazione",null,null,null,null,{"$f":"+'Tabella ripartizione'!$C$7","v":1},"(0 = esente, 1=assoggettato)"]
["Consumo misurato",null,null,null,null,{"$f":"SUMIF('Tabella ripartizione'!$Q:$Q,A48,'Tabella ripartizione'!$R:$R)","v":0}]
[]
["Tariffe TICSI",null,null,null,null,null,null,null,null,2022]
["Commerciale artigianale","Fasce anno (m3)",null,"Fasce pro-die (m3)",null,"mc riarticolati","Importi servizio",null,null,"Importi Quota fissa",null,null,"Importi perequazione"]
[null,"da","a","da","a",{"$f":"++F62+F60+F61+F59","v":0},"Acqua","Fogna","Depurazione","Acqua","Fogna","Depurazione","Acqua","Fogna","Depurazione","Totali"]
[null,0,120,0,{"$f":"+ROUND(C59/365*F51,0)","v":0},{"$f":"+IF(F54>=E59,E59,F54)","v":0},{"$f":"+Tariffe!$A$12*F59","v":0},{"$f":"+Tariffe!$B$12*F59","v":0},{"$f":"+Tariffe!$C$12*F59*$F$7","v":0},null,null,null,null,null,null,{"$f":"+ROUND((G59+H59+I59),2)","v":0}]
[null,{"$f":"+C59+1","v":121},180,{"$f":"+E59","v":0},{"$f":"+ROUND(C60/365*F51,0)","v":0},{"$f":"+IF(F54>=E60,E60-E59,IF(F54>=E59,F54-E59,IF(F54<E59,0)))","v":0},{"$f":"+Tariffe!$A$13*F60","v":0},{"$f":"+Tariffe!$B$13*F60","v":0},{"$f":"+Tariffe!$C$13*F60*$F$7","v":0},null,null,null,null,null,null,0]
[null,181,240,0,{"$f":"+ROUND(C61/365*F51,0)","v":1},{"$f":"+IF(F54>=E61,E61-E60,IF(F54>=E60,F54-E60,IF(F54<E60,0)))","v":0},{"$f":"+Tariffe!$A$14*F61","v":0},{"$f":"+Tariffe!$B$14*F61","v":0},{"$f":"+Tariffe!$C$14*F61*$F$7","v":0},null,null,null,null,null,null,0]
[null,241,999999,1,{"$f":"+ROUND(C62/365*F51,0)","v":2740},{"$f":"+IF(F54>=E62,E62-E61,IF(F54>=E61,F54-E61,IF(F54<E61,0)))","v":0},{"$f":"+Tariffe!$A$15*F62","v":0},{"$f":"+Tariffe!$B$15*F62","v":0},{"$f":"+Tariffe!$C$15*F62*$F$7","v":0},null,null,null,null,null,null,0]
[null,null,null,null,null,null,null,null,null,{"$f":"+IF(A47>'Tabella ripartizione'!$L$5,0,Tariffe!$E$12*F51/365)","v":0},{"$f":"+IF(A47>'Tabella ripartizione'!$L$5,0,Tariffe!$F$12*F51/365*F52)","v":0},{"$f":"+IF(A47>'Tabella ripartizione'!$L$5,0,Tariffe!$G$12*F51/365*F53)","v":0},null,null,null,{"$f":"+ROUND((J63+K63+L63),2)","v":0}]
[null,null,null,null,null,null,null,null,null,null,null,null,{"$f":"+(Tariffe!$I$3+Tariffe!$J$3+Tariffe!$K$3+Tariffe!$L$3+Tariffe!$M$3)*F54","v":0},{"$f":"+(Tariffe!$I$3+Tariffe!$J$3+Tariffe!$K$3+Tariffe!$L$3+Tariffe!$M$3)*F52*F54","v":0},{"$f":"+(Tariffe!$I$3+Tariffe!$J$3+Tariffe!$K$3+Tariffe!$L$3+Tariffe!$M$3)*F53*F54","v":0},{"$f":"+ROUND(M64+N64+O64,2)","v":0}]
[null,null,null,null,null,null,null,null,null,null,null,null,null,null,null,{"$f":"SUM(P59:P64)","v":0},"Imponibile"]
[null,null,null,null,null,null,null,null,null,null,null,null,null,null,null,{"$f":"+ROUND(P65*0.1,2)","v":0},"IVA (10%)"]
[null,null,null,null,null,null,null,null,null,null,null,null,null,null,null,{"$f":"+P66+P65","v":0},"Totale corrispettivi"]
[]
[]
[{"$f":"+A47+1","v":4},null,null,null,null,null,"Impoto"]
[{"$f":"CONCATENATE(\"Unità commerciale #\",A70)","v":"Unità commerciale #4"},null,null,null,null,null,{"$f":"+P90","v":0}]
["Data inizio periodo consumo",null,null,null,null,{"$f":"+'Tabella ripartizione'!$C$3","v":"00:00:00"}]
["Data fine periodo consumo",null,null,null,null,{"$f":"+'Tabella ripartizione'!$C$4","v":"00:00:00"}]
["Giorni di consumo",null,null,null,null,{"$f":"+F73-F72+1","v":1}]
["Fognatura",null,null,null,null,{"$f":"+'Tabella ripartizione'!$C$6","v":1},"(0 = esente, 1=assoggettato)"]
["Depurazione",null,null,null,null,{"$f":"+'Tabella ripartizione'!$C$7","v":1},"(0 = esente, 1=assoggettato)"]
["Consumo misurato",null,null,null,null,{"$f":"SUMIF('Tabella ripartizione'!$Q:$Q,A71,'Tabella ripartizione'!$R:$R)","v":0}]
[]
["Tariffe TICSI",null,null,null,null,null,null,null,null,2022]
["Commerciale artigianale","Fasce anno (m3)",null,"Fasce pro-die (m3)",null,"mc riarticolati","Importi servizio",null,null,"Importi Quota fissa",null,null,"Importi perequazione"]
[null,"da","a","da","a",{"$f":"++F85+F83+F84+F82","v":0},"Acqua","Fogna","Depurazione","Acqua","Fogna","Depurazione","Acqua","Fogna","Depurazione","Totali"]
[null,0,120,0,{"$f":"+ROUND(C82/365*F74,0)","v":0},{"$f":"+IF(F77>=E82,E82,F77)","v":0},{"$f":"+Tariffe!$A$12*F82","v":0},{"$f":"+Tariffe!$B$12*F82","v":0},{"$f":"+Tariffe!$C$12*F82*$F$7","v":0},null,null,null,null,null,null,{"$f":"+ROUND((G82+H82+I82),2)","v":0}]
[null,{"$f":"+C82+1","v":121},180,{"$f":"+E82","v":0},{"$f":"+ROUND(C83/365*F74,0)","v":0},{"$f":"+IF(F77>=E83,E83-E82,IF(F77>=E82,F77-E82,IF(F77<E82,0)))","v":0},{"$f":"+Tariffe!$A$13*F83","v":0},{"$f":"+Tariffe!$B$13*F83","v":0},{"$f":"+Tariffe!$C$13*F83*$F$7","v":0},null,null,null,null,null,null,0]
[null,181,240,0,{"$f":"+ROUND(C84/365*F74,0)","v":1},{"$f":"+IF(F77>=E84,E84-E83,IF(F77>=E83,F77-E83,IF(F77<E83,0)))","v":0},{"$f":"+Tariffe!$A$14*F84","v":0},{"$f":"+Tariffe!$B$14*F84","v":0},{"$f":"+Tariffe!$C$14*F84*$F$7","v":0},null,null,null,null,null,null,0]
[null,241,999999,1,{"$f":"+ROUND(C85/365*F74,0)","v":2740},{"$f":"+IF(F77>=E85,E85-E84,IF(F77>=E84,F77-E84,IF(F77<E84,0)))","v":0},{"$f":"+Tariffe!$A$15*F85","v":0},{"$f":"+Tariffe!$B$15*F85","v":0},{"$f":"+Tariffe!$C$15*F85*$F$7","v":0},null,null,null,null,null,null,0]
[null,null,null,null,null,null,null,null,null,{"$f":"+IF(A70>'Tabella ripartizione'!$L$5,0,Tariffe!$E$12*F74/365)","v":0},{"$f":"+IF(A70>'Tabella ripartizione'!$L$5,0,Tariffe!$F$12*F74/365*F75)","v":0},{"$f":"+IF(A70>'Tabella ripartizione'!$L$5,0,Tariffe!$G$12*F74/365*F76)","v":0},null,null,null,{"$f":"+ROUND((J86+K86+L86),2)","v":0}]
[null,null,null,null,null,null,null,null,null,null,null,null,{"$f":"+(Tariffe!$I$3+Tariffe!$J$3+Tariffe!$K$3+Tariffe!$L$3+Tariffe!$M$3)*F77","v":0},{"$f":"+(Tariffe!$I$3+Tariffe!$J$3+Tariffe!$K$3+Tariffe!$L$3+Tariffe!$M$3)*F75*F77","v":0},{"$f":"+(Tariffe!$I$3+Tariffe!$J$3+Tariffe!$K$3+Tariffe!$L$3+Tariffe!$M$3)*F76*F77","v":0},{"$f":"+ROUND(M87+N87+O87,2)","v":0}]
[null,null,null,null,null,null,null,null,null,null,null,null,null,null,null,{"$f":"SUM(P82:P87)","v":0},"Imponibile"]
[null,null,null,null,null,null,null,null,null,null,null,null,null,null,null,{"$f":"+ROUND(P88*0.1,2)","v":0},"IVA (10%)"]
[null,null,null,null,null,null,null,null,null,null,null,null,null,null,null,{"$f":"+P89+P88","v":0},"Totale corrispettivi"]
[]
[]
[{"$f":"+A70+1","v":5},null,null,null,null,null,"Impoto"]
[{"$f":"CONCATENATE(\"Unità commerciale #\",A93)","v":"Unità commerciale #5"},null,null,null,null,null,{"$f":"+P113","v":0}]
["Data inizio periodo consumo",null,null,null,null,{"$f":"+'Tabella ripartizione'!$C$3","v":"00:00:00"}]
["Data fine periodo consumo",null,null,null,null,{"$f":"+'Tabella ripartizione'!$C$4","v":"00:00:00"}]
["Giorni di consumo",null,null,null,null,{"$f":"+F96-F95+1","v":1}]
["Fognatura",null,null,null,null,{"$f":"+'Tabella ripartizione'!$C$6","v":1},"(0 = esente, 1=assoggettato)"]
["Depurazione",null,null,null,null,{"$f":"+'Tabella ripartizione'!$C$7","v":1},"(0 = esente, 1=assoggettato)"]
["Consumo misurato",null,null,null,null,{"$f":"SUMIF('Tabella ripartizione'!$Q:$Q,A94,'Tabella ripartizione'!$R:$R)","v":0}]
[]
["Tariffe TICSI",null,null,null,null,null,null,null,null,2022]
["Commerciale artigianale","Fasce anno (m3)",null,"Fasce pro-die (m3)",null,"mc riarticolati","Importi servizio",null,null,"Importi Quota fissa",null,null,"Importi perequazione"]
[null,"da","a","da","a",{"$f":"++F108+F106+F107+F105","v":0},"Acqua","Fogna","Depurazione","Acqua","Fogna","Depurazione","Acqua","Fogna","Depurazione","Totali"]
[null,0,120,0,{"$f":"+ROUND(C105/365*F97,0)","v":0},{"$f":"+IF(F100>=E105,E105,F100)","v":0},{"$f":"+Tariffe!$A$12*F105","v":0},{"$f":"+Tariffe!$B$12*F105","v":0},{"$f":"+Tariffe!$C$12*F105*$F$7","v":0},null,null,null,null,null,null,{"$f":"+ROUND((G105+H105+I105),2)","v":0}]
[null,{"$f":"+C105+1","v":121},180,{"$f":"+E105","v":0},{"$f":"+ROUND(C106/365*F97,0)","v":0},{"$f":"+IF(F100>=E106,E106-E105,IF(F100>=E105,F100-E105,IF(F100<E105,0)))","v":0},{"$f":"+Tariffe!$A$13*F106","v":0},{"$f":"+Tariffe!$B$13*F106","v":0},{"$f":"+Tariffe!$C$13*F106*$F$7","v":0},null,null,null,null,null,null,0]
[null,181,240,0,{"$f":"+ROUND(C107/365*F97,0)","v":1},{"$f":"+IF(F100>=E107,E107-E106,IF(F100>=E106,F100-E106,IF(F100<E106,0)))","v":0},{"$f":"+Tariffe!$A$14*F107","v":0},{"$f":"+Tariffe!$B$14*F107","v":0},{"$f":"+Tariffe!$C$14*F107*$F$7","v":0},null,null,null,null,null,null,0]
[null,241,999999,1,{"$f":"+ROUND(C108/365*F97,0)","v":2740},{"$f":"+IF(F100>=E108,E108-E107,IF(F100>=E107,F100-E107,IF(F100<E107,0)))","v":0},{"$f":"+Tariffe!$A$15*F108","v":0},{"$f":"+Tariffe!$B$15*F108","v":0},{"$f":"+Tariffe!$C$15*F108*$F$7","v":0},null,null,null,null,null,null,0]
[null,null,null,null,null,null,null,null,null,{"$f":"+IF(A93>'Tabella ripartizione'!$L$5,0,Tariffe!$E$12*F97/365)","v":0},{"$f":"+IF(A93>'Tabella ripartizione'!$L$5,0,Tariffe!$F$12*F97/365*F98)","v":0},{"$f":"+IF(A93>'Tabella ripartizione'!$L$5,0,Tariffe!$G$12*F97/365*F99)","v":0},null,null,null,{"$f":"+ROUND((J109+K109+L109),2)","v":0}]
[null,null,null,null,null,null,null,null,null,null,null,null,{"$f":"+(Tariffe!$I$3+Tariffe!$J$3+Tariffe!$K$3+Tariffe!$L$3+Tariffe!$M$3)*F100","v":0},{"$f":"+(Tariffe!$I$3+Tariffe!$J$3+Tariffe!$K$3+Tariffe!$L$3+Tariffe!$M$3)*F98*F100","v":0},{"$f":"+(Tariffe!$I$3+Tariffe!$J$3+Tariffe!$K$3+Tariffe!$L$3+Tariffe!$M$3)*F99*F100","v":0},{"$f":"+ROUND(M110+N110+O110,2)","v":0}]
[null,null,null,null,null,null,null,null,null,null,null,null,null,null,null,{"$f":"SUM(P105:P110)","v":0},"Imponibile"]
[null,null,null,null,null,null,null,null,null,null,null,null,null,null,null,{"$f":"+ROUND(P111*0.1,2)","v":0},"IVA (10%)"]
[null,null,null,null,null,null,null,null,null,null,null,null,null,null,null,{"$f":"+P112+P111","v":0},"Totale corrispettivi"]
[]
[]
[{"$f":"+A93+1","v":6},null,null,null,null,null,"Impoto"]
[{"$f":"CONCATENATE(\"Unità commerciale #\",A116)","v":"Unità commerciale #6"},null,null,null,null,null,{"$f":"+P136","v":0}]
["Data inizio periodo consumo",null,null,null,null,{"$f":"+'Tabella ripartizione'!$C$3","v":"00:00:00"}]
["Data fine periodo consumo",null,null,null,null,{"$f":"+'Tabella ripartizione'!$C$4","v":"00:00:00"}]
["Giorni di consumo",null,null,null,null,{"$f":"+F119-F118+1","v":1}]
["Fognatura",null,null,null,null,{"$f":"+'Tabella ripartizione'!$C$6","v":1},"(0 = esente, 1=assoggettato)"]
["Depurazione",null,null,null,null,{"$f":"+'Tabella ripartizione'!$C$7","v":1},"(0 = esente, 1=assoggettato)"]
["Consumo misurato",null,null,null,null,{"$f":"SUMIF('Tabella ripartizione'!$Q:$Q,A117,'Tabella ripartizione'!$R:$R)","v":0}]
[]
["Tariffe TICSI",null,null,null,null,null,null,null,null,2022]
["Commerciale artigianale","Fasce anno (m3)",null,"Fasce pro-die (m3)",null,"mc riarticolati","Importi servizio",null,null,"Importi Quota fissa",null,null,"Importi perequazione"]
[null,"da","a","da","a",{"$f":"++F131+F129+F130+F128","v":0},"Acqua","Fogna","Depurazione","Acqua","Fogna","Depurazione","Acqua","Fogna","Depurazione","Totali"]
[null,0,120,0,{"$f":"+ROUND(C128/365*F120,0)","v":0},{"$f":"+IF(F123>=E128,E128,F123)","v":0},{"$f":"+Tariffe!$A$12*F128","v":0},{"$f":"+Tariffe!$B$12*F128","v":0},{"$f":"+Tariffe!$C$12*F128*$F$7","v":0},null,null,null,null,null,null,{"$f":"+ROUND((G128+H128+I128),2)","v":0}]
[null,{"$f":"+C128+1","v":121},180,{"$f":"+E128","v":0},{"$f":"+ROUND(C129/365*F120,0)","v":0},{"$f":"+IF(F123>=E129,E129-E128,IF(F123>=E128,F123-E128,IF(F123<E128,0)))","v":0},{"$f":"+Tariffe!$A$13*F129","v":0},{"$f":"+Tariffe!$B$13*F129","v":0},{"$f":"+Tariffe!$C$13*F129*$F$7","v":0},null,null,null,null,null,null,0]
[null,181,240,0,{"$f":"+ROUND(C130/365*F120,0)","v":1},{"$f":"+IF(F123>=E130,E130-E129,IF(F123>=E129,F123-E129,IF(F123<E129,0)))","v":0},{"$f":"+Tariffe!$A$14*F130","v":0},{"$f":"+Tariffe!$B$14*F130","v":0},{"$f":"+Tariffe!$C$14*F130*$F$7","v":0},null,null,null,null,null,null,0]
[null,241,999999,1,{"$f":"+ROUND(C131/365*F120,0)","v":2740},{"$f":"+IF(F123>=E131,E131-E130,IF(F123>=E130,F123-E130,IF(F123<E130,0)))","v":0},{"$f":"+Tariffe!$A$15*F131","v":0},{"$f":"+Tariffe!$B$15*F131","v":0},{"$f":"+Tariffe!$C$15*F131*$F$7","v":0},null,null,null,null,null,null,0]
[null,null,null,null,null,null,null,null,null,{"$f":"+IF(A116>'Tabella ripartizione'!$L$5,0,Tariffe!$E$12*F120/365)","v":0},{"$f":"+IF(A116>'Tabella ripartizione'!$L$5,0,Tariffe!$F$12*F120/365*F121)","v":0},{"$f":"+IF(A116>'Tabella ripartizione'!$L$5,0,Tariffe!$G$12*F120/365*F122)","v":0},null,null,null,{"$f":"+ROUND((J132+K132+L132),2)","v":0}]
[null,null,null,null,null,null,null,null,null,null,null,null,{"$f":"+(Tariffe!$I$3+Tariffe!$J$3+Tariffe!$K$3+Tariffe!$L$3+Tariffe!$M$3)*F123","v":0},{"$f":"+(Tariffe!$I$3+Tariffe!$J$3+Tariffe!$K$3+Tariffe!$L$3+Tariffe!$M$3)*F121*F123","v":0},{"$f":"+(Tariffe!$I$3+Tariffe!$J$3+Tariffe!$K$3+Tariffe!$L$3+Tariffe!$M$3)*F122*F123","v":0},{"$f":"+ROUND(M133+N133+O133,2)","v":0}]
[null,null,null,null,null,null,null,null,null,null,null,null,null,null,null,{"$f":"SUM(P128:P133)","v":0},"Imponibile"]
[null,null,null,null,null,null,null,null,null,null,null,null,null,null,null,{"$f":"+ROUND(P134*0.1,2)","v":0},"IVA (10%)"]
[null,null,null,null,null,null,null,null,null,null,null,null,null,null,null,{"$f":"+P135+P134","v":0},"Totale corrispettivi"]
[]
[]
[{"$f":"+A116+1","v":7},null,null,null,null,null,"Impoto"]
[{"$f":"CONCATENATE(\"Unità commerciale #\",A139)","v":"Unità commerciale #7"},null,null,null,null,null,{"$f":"+P159","v":0}]
["Data inizio periodo consumo",null,null,null,null,{"$f":"+'Tabella ripartizione'!$C$3","v":"00:00:00"}]
["Data fine periodo consumo",null,null,null,null,{"$f":"+'Tabella ripartizione'!$C$4","v":"00:00:00"}]
["Giorni di consumo",null,null,null,null,{"$f":"+F142-F141+1","v":1}]
["Fognatura",null,null,null,null,{"$f":"+'Tabella ripartizione'!$C$6","v":1},"(0 = esente, 1=assoggettato)"]
["Depurazione",null,null,null,null,{"$f":"+'Tabella ripartizione'!$C$7","v":1},"(0 = esente, 1=assoggettato)"]
["Consumo misurato",null,null,null,null,{"$f":"SUMIF('Tabella ripartizione'!$Q:$Q,A140,'Tabella ripartizione'!$R:$R)","v":0}]
[]
["Tariffe TICSI",null,null,null,null,null,null,null,null,2022]
["Commerciale artigianale","Fasce anno (m3)",null,"Fasce pro-die (m3)",null,"mc riarticolati","Importi servizio",null,null,"Importi Quota fissa",null,null,"Importi perequazione"]
[null,"da","a","da","a",{"$f":"++F154+F152+F153+F151","v":0},"Acqua","Fogna","Depurazione","Acqua","Fogna","Depurazione","Acqua","Fogna","Depurazione","Totali"]
[null,0,120,0,{"$f":"+ROUND(C151/365*F143,0)","v":0},{"$f":"+IF(F146>=E151,E151,F146)","v":0},{"$f":"+Tariffe!$A$12*F151","v":0},{"$f":"+Tariffe!$B$12*F151","v":0},{"$f":"+Tariffe!$C$12*F151*$F$7","v":0},null,null,null,null,null,null,{"$f":"+ROUND((G151+H151+I151),2)","v":0}]
[null,{"$f":"+C151+1","v":121},180,{"$f":"+E151","v":0},{"$f":"+ROUND(C152/365*F143,0)","v":0},{"$f":"+IF(F146>=E152,E152-E151,IF(F146>=E151,F146-E151,IF(F146<E151,0)))","v":0},{"$f":"+Tariffe!$A$13*F152","v":0},{"$f":"+Tariffe!$B$13*F152","v":0},{"$f":"+Tariffe!$C$13*F152*$F$7","v":0},null,null,null,null,null,null,0]
[null,181,240,0,{"$f":"+ROUND(C153/365*F143,0)","v":1},{"$f":"+IF(F146>=E153,E153-E152,IF(F146>=E152,F146-E152,IF(F146<E152,0)))","v":0},{"$f":"+Tariffe!$A$14*F153","v":0},{"$f":"+Tariffe!$B$14*F153","v":0},{"$f":"+Tariffe!$C$14*F153*$F$7","v":0},null,null,null,null,null,null,0]
[null,241,999999,1,{"$f":"+ROUND(C154/365*F143,0)","v":2740},{"$f":"+IF(F146>=E154,E154-E153,IF(F146>=E153,F146-E153,IF(F146<E153,0)))","v":0},{"$f":"+Tariffe!$A$15*F154","v":0},{"$f":"+Tariffe!$B$15*F154","v":0},{"$f":"+Tariffe!$C$15*F154*$F$7","v":0},null,null,null,null,null,null,0]
[null,null,null,null,null,null,null,null,null,{"$f":"+IF(A139>'Tabella ripartizione'!$L$5,0,Tariffe!$E$12*F143/365)","v":0},{"$f":"+IF(A139>'Tabella ripartizione'!$L$5,0,Tariffe!$F$12*F143/365*F144)","v":0},{"$f":"+IF(A139>'Tabella ripartizione'!$L$5,0,Tariffe!$G$12*F143/365*F145)","v":0},null,null,null,{"$f":"+ROUND((J155+K155+L155),2)","v":0}]
[null,null,null,null,null,null,null,null,null,null,null,null,{"$f":"+(Tariffe!$I$3+Tariffe!$J$3+Tariffe!$K$3+Tariffe!$L$3+Tariffe!$M$3)*F146","v":0},{"$f":"+(Tariffe!$I$3+Tariffe!$J$3+Tariffe!$K$3+Tariffe!$L$3+Tariffe!$M$3)*F144*F146","v":0},{"$f":"+(Tariffe!$I$3+Tariffe!$J$3+Tariffe!$K$3+Tariffe!$L$3+Tariffe!$M$3)*F145*F146","v":0},{"$f":"+ROUND(M156+N156+O156,2)","v":0}]
[null,null,null,null,null,null,null,null,null,null,null,null,null,null,null,{"$f":"SUM(P151:P156)","v":0},"Imponibile"]
[null,null,null,null,null,null,null,null,null,null,null,null,null,null,null,{"$f":"+ROUND(P157*0.1,2)","v":0},"IVA (10%)"]
[null,null,null,null,null,null,null,null,null,null,null,null,null,null,null,{"$f":"+P158+P157","v":0},"Totale corrispettivi"]
[]
[]
[{"$f":"+A139+1","v":8},null,null,null,null,null,"Impoto"]
[{"$f":"CONCATENATE(\"Unità commerciale #\",A162)","v":"Unità commerciale #8"},null,null,null,null,null,{"$f":"+P182","v":0}]
["Data inizio periodo consumo",null,null,null,null,{"$f":"+'Tabella ripartizione'!$C$3","v":"00:00:00"}]
["Data fine periodo consumo",null,null,null,null,{"$f":"+'Tabella ripartizione'!$C$4","v":"00:00:00"}]
["Giorni di consumo",null,null,null,null,{"$f":"+F165-F164+1","v":1}]
["Fognatura",null,null,null,null,{"$f":"+'Tabella ripartizione'!$C$6","v":1},"(0 = esente, 1=assoggettato)"]
["Depurazione",null,null,null,null,{"$f":"+'Tabella ripartizione'!$C$7","v":1},"(0 = esente, 1=assoggettato)"]
["Consumo misurato",null,null,null,null,{"$f":"SUMIF('Tabella ripartizione'!$Q:$Q,A163,'Tabella ripartizione'!$R:$R)","v":0}]
[]
["Tariffe TICSI",null,null,null,null,null,null,null,null,2022]
["Commerciale artigianale","Fasce anno (m3)",null,"Fasce pro-die (m3)",null,"mc riarticolati","Importi servizio",null,null,"Importi Quota fissa",null,null,"Importi perequazione"]
[null,"da","a","da","a",{"$f":"++F177+F175+F176+F174","v":0},"Acqua","Fogna","Depurazione","Acqua","Fogna","Depurazione","Acqua","Fogna","Depurazione","Totali"]
[null,0,120,0,{"$f":"+ROUND(C174/365*F166,0)","v":0},{"$f":"+IF(F169>=E174,E174,F169)","v":0},{"$f":"+Tariffe!$A$12*F174","v":0},{"$f":"+Tariffe!$B$12*F174","v":0},{"$f":"+Tariffe!$C$12*F174*$F$7","v":0},null,null,null,null,null,null,{"$f":"+ROUND((G174+H174+I174),2)","v":0}]
[null,{"$f":"+C174+1","v":121},180,{"$f":"+E174","v":0},{"$f":"+ROUND(C175/365*F166,0)","v":0},{"$f":"+IF(F169>=E175,E175-E174,IF(F169>=E174,F169-E174,IF(F169<E174,0)))","v":0},{"$f":"+Tariffe!$A$13*F175","v":0},{"$f":"+Tariffe!$B$13*F175","v":0},{"$f":"+Tariffe!$C$13*F175*$F$7","v":0},null,null,null,null,null,null,0]
[null,181,240,0,{"$f":"+ROUND(C176/365*F166,0)","v":1},{"$f":"+IF(F169>=E176,E176-E175,IF(F169>=E175,F169-E175,IF(F169<E175,0)))","v":0},{"$f":"+Tariffe!$A$14*F176","v":0},{"$f":"+Tariffe!$B$14*F176","v":0},{"$f":"+Tariffe!$C$14*F176*$F$7","v":0},null,null,null,null,null,null,0]
[null,241,999999,1,{"$f":"+ROUND(C177/365*F166,0)","v":2740},{"$f":"+IF(F169>=E177,E177-E176,IF(F169>=E176,F169-E176,IF(F169<E176,0)))","v":0},{"$f":"+Tariffe!$A$15*F177","v":0},{"$f":"+Tariffe!$B$15*F177","v":0},{"$f":"+Tariffe!$C$15*F177*$F$7","v":0},null,null,null,null,null,null,0]
[null,null,null,null,null,null,null,null,null,{"$f":"+IF(A162>'Tabella ripartizione'!$L$5,0,Tariffe!$E$12*F166/365)","v":0},{"$f":"+IF(A162>'Tabella ripartizione'!$L$5,0,Tariffe!$F$12*F166/365*F167)","v":0},{"$f":"+IF(A162>'Tabella ripartizione'!$L$5,0,Tariffe!$G$12*F166/365*F168)","v":0},null,null,null,{"$f":"+ROUND((J178+K178+L178),2)","v":0}]
[null,null,null,null,null,null,null,null,null,null,null,null,{"$f":"+(Tariffe!$I$3+Tariffe!$J$3+Tariffe!$K$3+Tariffe!$L$3+Tariffe!$M$3)*F169","v":0},{"$f":"+(Tariffe!$I$3+Tariffe!$J$3+Tariffe!$K$3+Tariffe!$L$3+Tariffe!$M$3)*F167*F169","v":0},{"$f":"+(Tariffe!$I$3+Tariffe!$J$3+Tariffe!$K$3+Tariffe!$L$3+Tariffe!$M$3)*F168*F169","v":0},{"$f":"+ROUND(M179+N179+O179,2)","v":0}]
[null,null,null,null,null,null,null,null,null,null,null,null,null,null,null,{"$f":"SUM(P174:P179)","v":0},"Imponibile"]
[null,null,null,null,null,null,null,null,null,null,null,null,null,null,null,{"$f":"+ROUND(P180*0.1,2)","v":0},"IVA (10%)"]
[null,null,null,null,null,null,null,null,null,null,null,null,null,null,null,{"$f":"+P181+P180","v":0},"Totale corrispettivi"]
[]
[]
[{"$f":"+A162+1","v":9},null,null,null,null,null,"Impoto"]
[{"$f":"CONCATENATE(\"Unità commerciale #\",A185)","v":"Unità commerciale #9"},null,null,null,null,null,{"$f":"+P205","v":0}]
["Data inizio periodo consumo",null,null,null,null,{"$f":"+'Tabella ripartizione'!$C$3","v":"00:00:00"}]
["Data fine periodo consumo",null,null,null,null,{"$f":"+'Tabella ripartizione'!$C$4","v":"00:00:00"}]
["Giorni di consumo",null,null,null,null,{"$f":"+F188-F187+1","v":1}]
["Fognatura",null,null,null,null,{"$f":"+'Tabella ripartizione'!$C$6","v":1},"(0 = esente, 1=assoggettato)"]
["Depurazione",null,null,null,null,{"$f":"+'Tabella ripartizione'!$C$7","v":1},"(0 = esente, 1=assoggettato)"]
["Consumo misurato",null,null,null,null,{"$f":"SUMIF('Tabella ripartizione'!$Q:$Q,A186,'Tabella ripartizione'!$R:$R)","v":0}]
[]
["Tariffe TICSI",null,null,null,null,null,null,null,null,2022]
["Commerciale artigianale","Fasce anno (m3)",null,"Fasce pro-die (m3)",null,"mc riarticolati","Importi servizio",null,null,"Importi Quota fissa",null,null,"Importi perequazione"]
[null,"da","a","da","a",{"$f":"++F200+F198+F199+F197","v":0},"Acqua","Fogna","Depurazione","Acqua","Fogna","Depurazione","Acqua","Fogna","Depurazione","Totali"]
[null,0,120,0,{"$f":"+ROUND(C197/365*F189,0)","v":0},{"$f":"+IF(F192>=E197,E197,F192)","v":0},{"$f":"+Tariffe!$A$12*F197","v":0},{"$f":"+Tariffe!$B$12*F197","v":0},{"$f":"+Tariffe!$C$12*F197*$F$7","v":0},null,null,null,null,null,null,{"$f":"+ROUND((G197+H197+I197),2)","v":0}]
[null,{"$f":"+C197+1","v":121},180,{"$f":"+E197","v":0},{"$f":"+ROUND(C198/365*F189,0)","v":0},{"$f":"+IF(F192>=E198,E198-E197,IF(F192>=E197,F192-E197,IF(F192<E197,0)))","v":0},{"$f":"+Tariffe!$A$13*F198","v":0},{"$f":"+Tariffe!$B$13*F198","v":0},{"$f":"+Tariffe!$C$13*F198*$F$7","v":0},null,null,null,null,null,null,0]
[null,181,240,0,{"$f":"+ROUND(C199/365*F189,0)","v":1},{"$f":"+IF(F192>=E199,E199-E198,IF(F192>=E198,F192-E198,IF(F192<E198,0)))","v":0},{"$f":"+Tariffe!$A$14*F199","v":0},{"$f":"+Tariffe!$B$14*F199","v":0},{"$f":"+Tariffe!$C$14*F199*$F$7","v":0},null,null,null,null,null,null,0]
[null,241,999999,1,{"$f":"+ROUND(C200/365*F189,0)","v":2740},{"$f":"+IF(F192>=E200,E200-E199,IF(F192>=E199,F192-E199,IF(F192<E199,0)))","v":0},{"$f":"+Tariffe!$A$15*F200","v":0},{"$f":"+Tariffe!$B$15*F200","v":0},{"$f":"+Tariffe!$C$15*F200*$F$7","v":0},null,null,null,null,null,null,0]
[null,null,null,null,null,null,null,null,null,{"$f":"+IF(A185>'Tabella ripartizione'!$L$5,0,Tariffe!$E$12*F189/365)","v":0},{"$f":"+IF(A185>'Tabella ripartizione'!$L$5,0,Tariffe!$F$12*F189/365*F190)","v":0},{"$f":"+IF(A185>'Tabella ripartizione'!$L$5,0,Tariffe!$G$12*F189/365*F191)","v":0},null,null,null,{"$f":"+ROUND((J201+K201+L201),2)","v":0}]
[null,null,null,null,null,null,null,null,null,null,null,null,{"$f":"+(Tariffe!$I$3+Tariffe!$J$3+Tariffe!$K$3+Tariffe!$L$3+Tariffe!$M$3)*F192","v":0},{"$f":"+(Tariffe!$I$3+Tariffe!$J$3+Tariffe!$K$3+Tariffe!$L$3+Tariffe!$M$3)*F190*F192","v":0},{"$f":"+(Tariffe!$I$3+Tariffe!$J$3+Tariffe!$K$3+Tariffe!$L$3+Tariffe!$M$3)*F191*F192","v":0},{"$f":"+ROUND(M202+N202+O202,2)","v":0}]
[null,null,null,null,null,null,null,null,null,null,null,null,null,null,null,{"$f":"SUM(P197:P202)","v":0},"Imponibile"]
[null,null,null,null,null,null,null,null,null,null,null,null,null,null,null,{"$f":"+ROUND(P203*0.1,2)","v":0},"IVA (10%)"]
[null,null,null,null,null,null,null,null,null,null,null,null,null,null,null,{"$f":"+P204+P203","v":0},"Totale corrispettivi"]
[]
[]
[{"$f":"+A185+1","v":10},null,null,null,null,null,"Impoto"]
[{"$f":"CONCATENATE(\"Unità commerciale #\",A208)","v":"Unità commerciale #10"},null,null,null,null,null,{"$f":"+P228","v":0}]
["Data inizio periodo consumo",null,null,null,null,{"$f":"+'Tabella ripartizione'!$C$3","v":"00:00:00"}]
["Data fine periodo consumo",null,null,null,null,{"$f":"+'Tabella ripartizione'!$C$4","v":"00:00:00"}]
["Giorni di consumo",null,null,null,null,{"$f":"+F211-F210+1","v":1}]
["Fognatura",null,null,null,null,{"$f":"+'Tabella ripartizione'!$C$6","v":1},"(0 = esente, 1=assoggettato)"]
["Depurazione",null,null,null,null,{"$f":"+'Tabella ripartizione'!$C$7","v":1},"(0 = esente, 1=assoggettato)"]
["Consumo misurato",null,null,null,null,{"$f":"SUMIF('Tabella ripartizione'!$Q:$Q,A209,'Tabella ripartizione'!$R:$R)","v":0}]
[]
["Tariffe TICSI",null,null,null,null,null,null,null,null,2022]
["Commerciale artigianale","Fasce anno (m3)",null,"Fasce pro-die (m3)",null,"mc riarticolati","Importi servizio",null,null,"Importi Quota fissa",null,null,"Importi perequazione"]
[null,"da","a","da","a",{"$f":"++F223+F221+F222+F220","v":0},"Acqua","Fogna","Depurazione","Acqua","Fogna","Depurazione","Acqua","Fogna","Depurazione","Totali"]
[null,0,120,0,{"$f":"+ROUND(C220/365*F212,0)","v":0},{"$f":"+IF(F215>=E220,E220,F215)","v":0},{"$f":"+Tariffe!$A$12*F220","v":0},{"$f":"+Tariffe!$B$12*F220","v":0},{"$f":"+Tariffe!$C$12*F220*$F$7","v":0},null,null,null,null,null,null,{"$f":"+ROUND((G220+H220+I220),2)","v":0}]
[null,{"$f":"+C220+1","v":121},180,{"$f":"+E220","v":0},{"$f":"+ROUND(C221/365*F212,0)","v":0},{"$f":"+IF(F215>=E221,E221-E220,IF(F215>=E220,F215-E220,IF(F215<E220,0)))","v":0},{"$f":"+Tariffe!$A$13*F221","v":0},{"$f":"+Tariffe!$B$13*F221","v":0},{"$f":"+Tariffe!$C$13*F221*$F$7","v":0},null,null,null,null,null,null,0]
[null,181,240,0,{"$f":"+ROUND(C222/365*F212,0)","v":1},{"$f":"+IF(F215>=E222,E222-E221,IF(F215>=E221,F215-E221,IF(F215<E221,0)))","v":0},{"$f":"+Tariffe!$A$14*F222","v":0},{"$f":"+Tariffe!$B$14*F222","v":0},{"$f":"+Tariffe!$C$14*F222*$F$7","v":0},null,null,null,null,null,null,0]
[null,241,999999,1,{"$f":"+ROUND(C223/365*F212,0)","v":2740},{"$f":"+IF(F215>=E223,E223-E222,IF(F215>=E222,F215-E222,IF(F215<E222,0)))","v":0},{"$f":"+Tariffe!$A$15*F223","v":0},{"$f":"+Tariffe!$B$15*F223","v":0},{"$f":"+Tariffe!$C$15*F223*$F$7","v":0},null,null,null,null,null,null,0]
[null,null,null,null,null,null,null,null,null,{"$f":"+IF(A208>'Tabella ripartizione'!$L$5,0,Tariffe!$E$12*F212/365)","v":0},{"$f":"+IF(A208>'Tabella ripartizione'!$L$5,0,Tariffe!$F$12*F212/365*F213)","v":0},{"$f":"+IF(A208>'Tabella ripartizione'!$L$5,0,Tariffe!$G$12*F212/365*F214)","v":0},null,null,null,{"$f":"+ROUND((J224+K224+L224),2)","v":0}]
[null,null,null,null,null,null,null,null,null,null,null,null,{"$f":"+(Tariffe!$I$3+Tariffe!$J$3+Tariffe!$K$3+Tariffe!$L$3+Tariffe!$M$3)*F215","v":0},{"$f":"+(Tariffe!$I$3+Tariffe!$J$3+Tariffe!$K$3+Tariffe!$L$3+Tariffe!$M$3)*F213*F215","v":0},{"$f":"+(Tariffe!$I$3+Tariffe!$J$3+Tariffe!$K$3+Tariffe!$L$3+Tariffe!$M$3)*F214*F215","v":0},{"$f":"+ROUND(M225+N225+O225,2)","v":0}]
[null,null,null,null,null,null,null,null,null,null,null,null,null,null,null,{"$f":"SUM(P220:P225)","v":0},"Imponibile"]
[null,null,null,null,null,null,null,null,null,null,null,null,null,null,null,{"$f":"+ROUND(P226*0.1,2)","v":0},"IVA (10%)"]
[null,null,null,null,null,null,null,null,null,null,null,null,null,null,null,{"$f":"+P227+P226","v":0},"Totale corrispettivi"]
[]
[]
[{"$f":"+A208+1","v":11},null,null,null,null,null,"Impoto"]
[{"$f":"CONCATENATE(\"Unità commerciale #\",A231)","v":"Unità commerciale #11"},null,null,null,null,null,{"$f":"+P251","v":0}]
["Data inizio periodo consumo",null,null,null,null,{"$f":"+'Tabella ripartizione'!$C$3","v":"00:00:00"}]
["Data fine periodo consumo",null,null,null,null,{"$f":"+'Tabella ripartizione'!$C$4","v":"00:00:00"}]
["Giorni di consumo",null,null,null,null,{"$f":"+F234-F233+1","v":1}]
["Fognatura",null,null,null,null,{"$f":"+'Tabella ripartizione'!$C$6","v":1},"(0 = esente, 1=assoggettato)"]
["Depurazione",null,null,null,null,{"$f":"+'Tabella ripartizione'!$C$7","v":1},"(0 = esente, 1=assoggettato)"]
["Consumo misurato",null,null,null,null,{"$f":"SUMIF('Tabella ripartizione'!$Q:$Q,A232,'Tabella ripartizione'!$R:$R)","v":0}]
[]
["Tariffe TICSI",null,null,null,null,null,null,null,null,2022]
["Commerciale artigianale","Fasce anno (m3)",null,"Fasce pro-die (m3)",null,"mc riarticolati","Importi servizio",null,null,"Importi Quota fissa",null,null,"Importi perequazione"]
[null,"da","a","da","a",{"$f":"++F246+F244+F245+F243","v":0},"Acqua","Fogna","Depurazione","Acqua","Fogna","Depurazione","Acqua","Fogna","Depurazione","Totali"]
[null,0,120,0,{"$f":"+ROUND(C243/365*F235,0)","v":0},{"$f":"+IF(F238>=E243,E243,F238)","v":0},{"$f":"+Tariffe!$A$12*F243","v":0},{"$f":"+Tariffe!$B$12*F243","v":0},{"$f":"+Tariffe!$C$12*F243*$F$7","v":0},null,null,null,null,null,null,{"$f":"+ROUND((G243+H243+I243),2)","v":0}]
[null,{"$f":"+C243+1","v":121},180,{"$f":"+E243","v":0},{"$f":"+ROUND(C244/365*F235,0)","v":0},{"$f":"+IF(F238>=E244,E244-E243,IF(F238>=E243,F238-E243,IF(F238<E243,0)))","v":0},{"$f":"+Tariffe!$A$13*F244","v":0},{"$f":"+Tariffe!$B$13*F244","v":0},{"$f":"+Tariffe!$C$13*F244*$F$7","v":0},null,null,null,null,null,null,0]
[null,181,240,0,{"$f":"+ROUND(C245/365*F235,0)","v":1},{"$f":"+IF(F238>=E245,E245-E244,IF(F238>=E244,F238-E244,IF(F238<E244,0)))","v":0},{"$f":"+Tariffe!$A$14*F245","v":0},{"$f":"+Tariffe!$B$14*F245","v":0},{"$f":"+Tariffe!$C$14*F245*$F$7","v":0},null,null,null,null,null,null,0]
[null,241,999999,1,{"$f":"+ROUND(C246/365*F235,0)","v":2740},{"$f":"+IF(F238>=E246,E246-E245,IF(F238>=E245,F238-E245,IF(F238<E245,0)))","v":0},{"$f":"+Tariffe!$A$15*F246","v":0},{"$f":"+Tariffe!$B$15*F246","v":0},{"$f":"+Tariffe!$C$15*F246*$F$7","v":0},null,null,null,null,null,null,0]
[null,null,null,null,null,null,null,null,null,{"$f":"+IF(A231>'Tabella ripartizione'!$L$5,0,Tariffe!$E$12*F235/365)","v":0},{"$f":"+IF(A231>'Tabella ripartizione'!$L$5,0,Tariffe!$F$12*F235/365*F236)","v":0},{"$f":"+IF(A231>'Tabella ripartizione'!$L$5,0,Tariffe!$G$12*F235/365*F237)","v":0},null,null,null,{"$f":"+ROUND((J247+K247+L247),2)","v":0}]
[null,null,null,null,null,null,null,null,null,null,null,null,{"$f":"+(Tariffe!$I$3+Tariffe!$J$3+Tariffe!$K$3+Tariffe!$L$3+Tariffe!$M$3)*F238","v":0},{"$f":"+(Tariffe!$I$3+Tariffe!$J$3+Tariffe!$K$3+Tariffe!$L$3+Tariffe!$M$3)*F236*F238","v":0},{"$f":"+(Tariffe!$I$3+Tariffe!$J$3+Tariffe!$K$3+Tariffe!$L$3+Tariffe!$M$3)*F237*F238","v":0},{"$f":"+ROUND(M248+N248+O248,2)","v":0}]
[null,null,null,null,null,null,null,null,null,null,null,null,null,null,null,{"$f":"SUM(P243:P248)","v":0},"Imponibile"]
[null,null,null,null,null,null,null,null,null,null,null,null,null,null,null,{"$f":"+ROUND(P249*0.1,2)","v":0},"IVA (10%)"]
[null,null,null,null,null,null,null,null,null,null,null,null,null,null,null,{"$f":"+P250+P249","v":0},"Totale corrispettivi"]
[]
[]
[{"$f":"+A231+1","v":12},null,null,null,null,null,"Impoto"]
[{"$f":"CONCATENATE(\"Unità commerciale #\",A254)","v":"Unità commerciale #12"},null,null,null,null,null,{"$f":"+P274","v":0}]
["Data inizio periodo consumo",null,null,null,null,{"$f":"+'Tabella ripartizione'!$C$3","v":"00:00:00"}]
["Data fine periodo consumo",null,null,null,null,{"$f":"+'Tabella ripartizione'!$C$4","v":"00:00:00"}]
["Giorni di consumo",null,null,null,null,{"$f":"+F257-F256+1","v":1}]
["Fognatura",null,null,null,null,{"$f":"+'Tabella ripartizione'!$C$6","v":1},"(0 = esente, 1=assoggettato)"]
["Depurazione",null,null,null,null,{"$f":"+'Tabella ripartizione'!$C$7","v":1},"(0 = esente, 1=assoggettato)"]
["Consumo misurato",null,null,null,null,{"$f":"SUMIF('Tabella ripartizione'!$Q:$Q,A255,'Tabella ripartizione'!$R:$R)","v":0}]
[]
["Tariffe TICSI",null,null,null,null,null,null,null,null,2022]
["Commerciale artigianale","Fasce anno (m3)",null,"Fasce pro-die (m3)",null,"mc riarticolati","Importi servizio",null,null,"Importi Quota fissa",null,null,"Importi perequazione"]
[null,"da","a","da","a",{"$f":"++F269+F267+F268+F266","v":0},"Acqua","Fogna","Depurazione","Acqua","Fogna","Depurazione","Acqua","Fogna","Depurazione","Totali"]
[null,0,120,0,{"$f":"+ROUND(C266/365*F258,0)","v":0},{"$f":"+IF(F261>=E266,E266,F261)","v":0},{"$f":"+Tariffe!$A$12*F266","v":0},{"$f":"+Tariffe!$B$12*F266","v":0},{"$f":"+Tariffe!$C$12*F266*$F$7","v":0},null,null,null,null,null,null,{"$f":"+ROUND((G266+H266+I266),2)","v":0}]
[null,{"$f":"+C266+1","v":121},180,{"$f":"+E266","v":0},{"$f":"+ROUND(C267/365*F258,0)","v":0},{"$f":"+IF(F261>=E267,E267-E266,IF(F261>=E266,F261-E266,IF(F261<E266,0)))","v":0},{"$f":"+Tariffe!$A$13*F267","v":0},{"$f":"+Tariffe!$B$13*F267","v":0},{"$f":"+Tariffe!$C$13*F267*$F$7","v":0},null,null,null,null,null,null,0]
[null,181,240,0,{"$f":"+ROUND(C268/365*F258,0)","v":1},{"$f":"+IF(F261>=E268,E268-E267,IF(F261>=E267,F261-E267,IF(F261<E267,0)))","v":0},{"$f":"+Tariffe!$A$14*F268","v":0},{"$f":"+Tariffe!$B$14*F268","v":0},{"$f":"+Tariffe!$C$14*F268*$F$7","v":0},null,null,null,null,null,null,0]
[null,241,999999,1,{"$f":"+ROUND(C269/365*F258,0)","v":2740},{"$f":"+IF(F261>=E269,E269-E268,IF(F261>=E268,F261-E268,IF(F261<E268,0)))","v":0},{"$f":"+Tariffe!$A$15*F269","v":0},{"$f":"+Tariffe!$B$15*F269","v":0},{"$f":"+Tariffe!$C$15*F269*$F$7","v":0},null,null,null,null,null,null,0]
[null,null,null,null,null,null,null,null,null,{"$f":"+IF(A254>'Tabella ripartizione'!$L$5,0,Tariffe!$E$12*F258/365)","v":0},{"$f":"+IF(A254>'Tabella ripartizione'!$L$5,0,Tariffe!$F$12*F258/365*F259)","v":0},{"$f":"+IF(A254>'Tabella ripartizione'!$L$5,0,Tariffe!$G$12*F258/365*F260)","v":0},null,null,null,{"$f":"+ROUND((J270+K270+L270),2)","v":0}]
[null,null,null,null,null,null,null,null,null,null,null,null,{"$f":"+(Tariffe!$I$3+Tariffe!$J$3+Tariffe!$K$3+Tariffe!$L$3+Tariffe!$M$3)*F261","v":0},{"$f":"+(Tariffe!$I$3+Tariffe!$J$3+Tariffe!$K$3+Tariffe!$L$3+Tariffe!$M$3)*F259*F261","v":0},{"$f":"+(Tariffe!$I$3+Tariffe!$J$3+Tariffe!$K$3+Tariffe!$L$3+Tariffe!$M$3)*F260*F261","v":0},{"$f":"+ROUND(M271+N271+O271,2)","v":0}]
[null,null,null,null,null,null,null,null,null,null,null,null,null,null,null,{"$f":"SUM(P266:P271)","v":0},"Imponibile"]
[null,null,null,null,null,null,null,null,null,null,null,null,null,null,null,{"$f":"+ROUND(P272*0.1,2)","v":0},"IVA (10%)"]
[null,null,null,null,null,null,null,null,null,null,null,null,null,null,null,{"$f":"+P273+P272","v":0},"Totale corrispettivi"]
[]
[]
[{"$f":"+A254+1","v":13},null,null,null,null,null,"Impoto"]
[{"$f":"CONCATENATE(\"Unità commerciale #\",A277)","v":"Unità commerciale #13"},null,null,null,null,null,{"$f":"+P297","v":0}]
["Data inizio periodo consumo",null,null,null,null,{"$f":"+'Tabella ripartizione'!$C$3","v":"00:00:00"}]
["Data fine periodo consumo",null,null,null,null,{"$f":"+'Tabella ripartizione'!$C$4","v":"00:00:00"}]
["Giorni di consumo",null,null,null,null,{"$f":"+F280-F279+1","v":1}]
["Fognatura",null,null,null,null,{"$f":"+'Tabella ripartizione'!$C$6","v":1},"(0 = esente, 1=assoggettato)"]
["Depurazione",null,null,null,null,{"$f":"+'Tabella ripartizione'!$C$7","v":1},"(0 = esente, 1=assoggettato)"]
["Consumo misurato",null,null,null,null,{"$f":"SUMIF('Tabella ripartizione'!$Q:$Q,A278,'Tabella ripartizione'!$R:$R)","v":0}]
[]
["Tariffe TICSI",null,null,null,null,null,null,null,null,2022]
["Commerciale artigianale","Fasce anno (m3)",null,"Fasce pro-die (m3)",null,"mc riarticolati","Importi servizio",null,null,"Importi Quota fissa",null,null,"Importi perequazione"]
[null,"da","a","da","a",{"$f":"++F292+F290+F291+F289","v":0},"Acqua","Fogna","Depurazione","Acqua","Fogna","Depurazione","Acqua","Fogna","Depurazione","Totali"]
[null,0,120,0,{"$f":"+ROUND(C289/365*F281,0)","v":0},{"$f":"+IF(F284>=E289,E289,F284)","v":0},{"$f":"+Tariffe!$A$12*F289","v":0},{"$f":"+Tariffe!$B$12*F289","v":0},{"$f":"+Tariffe!$C$12*F289*$F$7","v":0},null,null,null,null,null,null,{"$f":"+ROUND((G289+H289+I289),2)","v":0}]
[null,{"$f":"+C289+1","v":121},180,{"$f":"+E289","v":0},{"$f":"+ROUND(C290/365*F281,0)","v":0},{"$f":"+IF(F284>=E290,E290-E289,IF(F284>=E289,F284-E289,IF(F284<E289,0)))","v":0},{"$f":"+Tariffe!$A$13*F290","v":0},{"$f":"+Tariffe!$B$13*F290","v":0},{"$f":"+Tariffe!$C$13*F290*$F$7","v":0},null,null,null,null,null,null,0]
[null,181,240,0,{"$f":"+ROUND(C291/365*F281,0)","v":1},{"$f":"+IF(F284>=E291,E291-E290,IF(F284>=E290,F284-E290,IF(F284<E290,0)))","v":0},{"$f":"+Tariffe!$A$14*F291","v":0},{"$f":"+Tariffe!$B$14*F291","v":0},{"$f":"+Tariffe!$C$14*F291*$F$7","v":0},null,null,null,null,null,null,0]
[null,241,999999,1,{"$f":"+ROUND(C292/365*F281,0)","v":2740},{"$f":"+IF(F284>=E292,E292-E291,IF(F284>=E291,F284-E291,IF(F284<E291,0)))","v":0},{"$f":"+Tariffe!$A$15*F292","v":0},{"$f":"+Tariffe!$B$15*F292","v":0},{"$f":"+Tariffe!$C$15*F292*$F$7","v":0},null,null,null,null,null,null,0]
[null,null,null,null,null,null,null,null,null,{"$f":"+IF(A277>'Tabella ripartizione'!$L$5,0,Tariffe!$E$12*F281/365)","v":0},{"$f":"+IF(A277>'Tabella ripartizione'!$L$5,0,Tariffe!$F$12*F281/365*F282)","v":0},{"$f":"+IF(A277>'Tabella ripartizione'!$L$5,0,Tariffe!$G$12*F281/365*F283)","v":0},null,null,null,{"$f":"+ROUND((J293+K293+L293),2)","v":0}]
[null,null,null,null,null,null,null,null,null,null,null,null,{"$f":"+(Tariffe!$I$3+Tariffe!$J$3+Tariffe!$K$3+Tariffe!$L$3+Tariffe!$M$3)*F284","v":0},{"$f":"+(Tariffe!$I$3+Tariffe!$J$3+Tariffe!$K$3+Tariffe!$L$3+Tariffe!$M$3)*F282*F284","v":0},{"$f":"+(Tariffe!$I$3+Tariffe!$J$3+Tariffe!$K$3+Tariffe!$L$3+Tariffe!$M$3)*F283*F284","v":0},{"$f":"+ROUND(M294+N294+O294,2)","v":0}]
[null,null,null,null,null,null,null,null,null,null,null,null,null,null,null,{"$f":"SUM(P289:P294)","v":0},"Imponibile"]
[null,null,null,null,null,null,null,null,null,null,null,null,null,null,null,{"$f":"+ROUND(P295*0.1,2)","v":0},"IVA (10%)"]
[null,null,null,null,null,null,null,null,null,null,null,null,null,null,null,{"$f":"+P296+P295","v":0},"Totale corrispettivi"]
[]
[]
[{"$f":"+A277+1","v":14},null,null,null,null,null,"Impoto"]
[{"$f":"CONCATENATE(\"Unità commerciale #\",A300)","v":"Unità commerciale #14"},null,null,null,null,null,{"$f":"+P320","v":0}]
["Data inizio periodo consumo",null,null,null,null,{"$f":"+'Tabella ripartizione'!$C$3","v":"00:00:00"}]
["Data fine periodo consumo",null,null,null,null,{"$f":"+'Tabella ripartizione'!$C$4","v":"00:00:00"}]
["Giorni di consumo",null,null,null,null,{"$f":"+F303-F302+1","v":1}]
["Fognatura",null,null,null,null,{"$f":"+'Tabella ripartizione'!$C$6","v":1},"(0 = esente, 1=assoggettato)"]
["Depurazione",null,null,null,null,{"$f":"+'Tabella ripartizione'!$C$7","v":1},"(0 = esente, 1=assoggettato)"]
["Consumo misurato",null,null,null,null,{"$f":"SUMIF('Tabella ripartizione'!$Q:$Q,A301,'Tabella ripartizione'!$R:$R)","v":0}]
[]
["Tariffe TICSI",null,null,null,null,null,null,null,null,2022]
["Commerciale artigianale","Fasce anno (m3)",null,"Fasce pro-die (m3)",null,"mc riarticolati","Importi servizio",null,null,"Importi Quota fissa",null,null,"Importi perequazione"]
[null,"da","a","da","a",{"$f":"++F315+F313+F314+F312","v":0},"Acqua","Fogna","Depurazione","Acqua","Fogna","Depurazione","Acqua","Fogna","Depurazione","Totali"]
[null,0,120,0,{"$f":"+ROUND(C312/365*F304,0)","v":0},{"$f":"+IF(F307>=E312,E312,F307)","v":0},{"$f":"+Tariffe!$A$12*F312","v":0},{"$f":"+Tariffe!$B$12*F312","v":0},{"$f":"+Tariffe!$C$12*F312*$F$7","v":0},null,null,null,null,null,null,{"$f":"+ROUND((G312+H312+I312),2)","v":0}]
[null,{"$f":"+C312+1","v":121},180,{"$f":"+E312","v":0},{"$f":"+ROUND(C313/365*F304,0)","v":0},{"$f":"+IF(F307>=E313,E313-E312,IF(F307>=E312,F307-E312,IF(F307<E312,0)))","v":0},{"$f":"+Tariffe!$A$13*F313","v":0},{"$f":"+Tariffe!$B$13*F313","v":0},{"$f":"+Tariffe!$C$13*F313*$F$7","v":0},null,null,null,null,null,null,0]
[null,181,240,0,{"$f":"+ROUND(C314/365*F304,0)","v":1},{"$f":"+IF(F307>=E314,E314-E313,IF(F307>=E313,F307-E313,IF(F307<E313,0)))","v":0},{"$f":"+Tariffe!$A$14*F314","v":0},{"$f":"+Tariffe!$B$14*F314","v":0},{"$f":"+Tariffe!$C$14*F314*$F$7","v":0},null,null,null,null,null,null,0]
[null,241,999999,1,{"$f":"+ROUND(C315/365*F304,0)","v":2740},{"$f":"+IF(F307>=E315,E315-E314,IF(F307>=E314,F307-E314,IF(F307<E314,0)))","v":0},{"$f":"+Tariffe!$A$15*F315","v":0},{"$f":"+Tariffe!$B$15*F315","v":0},{"$f":"+Tariffe!$C$15*F315*$F$7","v":0},null,null,null,null,null,null,0]
[null,null,null,null,null,null,null,null,null,{"$f":"+IF(A300>'Tabella ripartizione'!$L$5,0,Tariffe!$E$12*F304/365)","v":0},{"$f":"+IF(A300>'Tabella ripartizione'!$L$5,0,Tariffe!$F$12*F304/365*F305)","v":0},{"$f":"+IF(A300>'Tabella ripartizione'!$L$5,0,Tariffe!$G$12*F304/365*F306)","v":0},null,null,null,{"$f":"+ROUND((J316+K316+L316),2)","v":0}]
[null,null,null,null,null,null,null,null,null,null,null,null,{"$f":"+(Tariffe!$I$3+Tariffe!$J$3+Tariffe!$K$3+Tariffe!$L$3+Tariffe!$M$3)*F307","v":0},{"$f":"+(Tariffe!$I$3+Tariffe!$J$3+Tariffe!$K$3+Tariffe!$L$3+Tariffe!$M$3)*F305*F307","v":0},{"$f":"+(Tariffe!$I$3+Tariffe!$J$3+Tariffe!$K$3+Tariffe!$L$3+Tariffe!$M$3)*F306*F307","v":0},{"$f":"+ROUND(M317+N317+O317,2)","v":0}]
[null,null,null,null,null,null,null,null,null,null,null,null,null,null,null,{"$f":"SUM(P312:P317)","v":0},"Imponibile"]
[null,null,null,null,null,null,null,null,null,null,null,null,null,null,null,{"$f":"+ROUND(P318*0.1,2)","v":0},"IVA (10%)"]
[null,null,null,null,null,null,null,null,null,null,null,null,null,null,null,{"$f":"+P319+P318","v":0},"Totale corrispettivi"]
[]
[]
[{"$f":"+A300+1","v":15},null,null,null,null,null,"Impoto"]
[{"$f":"CONCATENATE(\"Unità commerciale #\",A323)","v":"Unità commerciale #15"},null,null,null,null,null,{"$f":"+P343","v":0}]
["Data inizio periodo consumo",null,null,null,null,{"$f":"+'Tabella ripartizione'!$C$3","v":"00:00:00"}]
["Data fine periodo consumo",null,null,null,null,{"$f":"+'Tabella ripartizione'!$C$4","v":"00:00:00"}]
["Giorni di consumo",null,null,null,null,{"$f":"+F326-F325+1","v":1}]
["Fognatura",null,null,null,null,{"$f":"+'Tabella ripartizione'!$C$6","v":1},"(0 = esente, 1=assoggettato)"]
["Depurazione",null,null,null,null,{"$f":"+'Tabella ripartizione'!$C$7","v":1},"(0 = esente, 1=assoggettato)"]
["Consumo misurato",null,null,null,null,{"$f":"SUMIF('Tabella ripartizione'!$Q:$Q,A324,'Tabella ripartizione'!$R:$R)","v":0}]
[]
["Tariffe TICSI",null,null,null,null,null,null,null,null,2022]
["Commerciale artigianale","Fasce anno (m3)",null,"Fasce pro-die (m3)",null,"mc riarticolati","Importi servizio",null,null,"Importi Quota fissa",null,null,"Importi perequazione"]
[null,"da","a","da","a",{"$f":"++F338+F336+F337+F335","v":0},"Acqua","Fogna","Depurazione","Acqua","Fogna","Depurazione","Acqua","Fogna","Depurazione","Totali"]
[null,0,120,0,{"$f":"+ROUND(C335/365*F327,0)","v":0},{"$f":"+IF(F330>=E335,E335,F330)","v":0},{"$f":"+Tariffe!$A$12*F335","v":0},{"$f":"+Tariffe!$B$12*F335","v":0},{"$f":"+Tariffe!$C$12*F335*$F$7","v":0},null,null,null,null,null,null,{"$f":"+ROUND((G335+H335+I335),2)","v":0}]
[null,{"$f":"+C335+1","v":121},180,{"$f":"+E335","v":0},{"$f":"+ROUND(C336/365*F327,0)","v":0},{"$f":"+IF(F330>=E336,E336-E335,IF(F330>=E335,F330-E335,IF(F330<E335,0)))","v":0},{"$f":"+Tariffe!$A$13*F336","v":0},{"$f":"+Tariffe!$B$13*F336","v":0},{"$f":"+Tariffe!$C$13*F336*$F$7","v":0},null,null,null,null,null,null,0]
[null,181,240,0,{"$f":"+ROUND(C337/365*F327,0)","v":1},{"$f":"+IF(F330>=E337,E337-E336,IF(F330>=E336,F330-E336,IF(F330<E336,0)))","v":0},{"$f":"+Tariffe!$A$14*F337","v":0},{"$f":"+Tariffe!$B$14*F337","v":0},{"$f":"+Tariffe!$C$14*F337*$F$7","v":0},null,null,null,null,null,null,0]
[null,241,999999,1,{"$f":"+ROUND(C338/365*F327,0)","v":2740},{"$f":"+IF(F330>=E338,E338-E337,IF(F330>=E337,F330-E337,IF(F330<E337,0)))","v":0},{"$f":"+Tariffe!$A$15*F338","v":0},{"$f":"+Tariffe!$B$15*F338","v":0},{"$f":"+Tariffe!$C$15*F338*$F$7","v":0},null,null,null,null,null,null,0]
[null,null,null,null,null,null,null,null,null,{"$f":"+IF(A323>'Tabella ripartizione'!$L$5,0,Tariffe!$E$12*F327/365)","v":0},{"$f":"+IF(A323>'Tabella ripartizione'!$L$5,0,Tariffe!$F$12*F327/365*F328)","v":0},{"$f":"+IF(A323>'Tabella ripartizione'!$L$5,0,Tariffe!$G$12*F327/365*F329)","v":0},null,null,null,{"$f":"+ROUND((J339+K339+L339),2)","v":0}]
[null,null,null,null,null,null,null,null,null,null,null,null,{"$f":"+(Tariffe!$I$3+Tariffe!$J$3+Tariffe!$K$3+Tariffe!$L$3+Tariffe!$M$3)*F330","v":0},{"$f":"+(Tariffe!$I$3+Tariffe!$J$3+Tariffe!$K$3+Tariffe!$L$3+Tariffe!$M$3)*F328*F330","v":0},{"$f":"+(Tariffe!$I$3+Tariffe!$J$3+Tariffe!$K$3+Tariffe!$L$3+Tariffe!$M$3)*F329*F330","v":0},{"$f":"+ROUND(M340+N340+O340,2)","v":0}]
[null,null,null,null,null,null,null,null,null,null,null,null,null,null,null,{"$f":"SUM(P335:P340)","v":0},"Imponibile"]
[null,null,null,null,null,null,null,null,null,null,null,null,null,null,null,{"$f":"+ROUND(P341*0.1,2)","v":0},"IVA (10%)"]
[null,null,null,null,null,null,null,null,null,null,null,null,null,null,null,{"$f":"+P342+P341","v":0},"Totale corrispettivi"]
[]
[]
[{"$f":"+A323+1","v":16},null,null,null,null,null,"Impoto"]
[{"$f":"CONCATENATE(\"Unità commerciale #\",A346)","v":"Unità commerciale #16"},null,null,null,null,null,{"$f":"+P366","v":0}]
["Data inizio periodo consumo",null,null,null,null,{"$f":"+'Tabella ripartizione'!$C$3","v":"00:00:00"}]
["Data fine periodo consumo",null,null,null,null,{"$f":"+'Tabella ripartizione'!$C$4","v":"00:00:00"}]
["Giorni di consumo",null,null,null,null,{"$f":"+F349-F348+1","v":1}]
["Fognatura",null,null,null,null,{"$f":"+'Tabella ripartizione'!$C$6","v":1},"(0 = esente, 1=assoggettato)"]
["Depurazione",null,null,null,null,{"$f":"+'Tabella ripartizione'!$C$7","v":1},"(0 = esente, 1=assoggettato)"]
["Consumo misurato",null,null,null,null,{"$f":"SUMIF('Tabella ripartizione'!$Q:$Q,A347,'Tabella ripartizione'!$R:$R)","v":0}]
[]
["Tariffe TICSI",null,null,null,null,null,null,null,null,2022]
["Commerciale artigianale","Fasce anno (m3)",null,"Fasce pro-die (m3)",null,"mc riarticolati","Importi servizio",null,null,"Importi Quota fissa",null,null,"Importi perequazione"]
[null,"da","a","da","a",{"$f":"++F361+F359+F360+F358","v":0},"Acqua","Fogna","Depurazione","Acqua","Fogna","Depurazione","Acqua","Fogna","Depurazione","Totali"]
[null,0,120,0,{"$f":"+ROUND(C358/365*F350,0)","v":0},{"$f":"+IF(F353>=E358,E358,F353)","v":0},{"$f":"+Tariffe!$A$12*F358","v":0},{"$f":"+Tariffe!$B$12*F358","v":0},{"$f":"+Tariffe!$C$12*F358*$F$7","v":0},null,null,null,null,null,null,{"$f":"+ROUND((G358+H358+I358),2)","v":0}]
[null,{"$f":"+C358+1","v":121},180,{"$f":"+E358","v":0},{"$f":"+ROUND(C359/365*F350,0)","v":0},{"$f":"+IF(F353>=E359,E359-E358,IF(F353>=E358,F353-E358,IF(F353<E358,0)))","v":0},{"$f":"+Tariffe!$A$13*F359","v":0},{"$f":"+Tariffe!$B$13*F359","v":0},{"$f":"+Tariffe!$C$13*F359*$F$7","v":0},null,null,null,null,null,null,0]
[null,181,240,0,{"$f":"+ROUND(C360/365*F350,0)","v":1},{"$f":"+IF(F353>=E360,E360-E359,IF(F353>=E359,F353-E359,IF(F353<E359,0)))","v":0},{"$f":"+Tariffe!$A$14*F360","v":0},{"$f":"+Tariffe!$B$14*F360","v":0},{"$f":"+Tariffe!$C$14*F360*$F$7","v":0},null,null,null,null,null,null,0]
[null,241,999999,1,{"$f":"+ROUND(C361/365*F350,0)","v":2740},{"$f":"+IF(F353>=E361,E361-E360,IF(F353>=E360,F353-E360,IF(F353<E360,0)))","v":0},{"$f":"+Tariffe!$A$15*F361","v":0},{"$f":"+Tariffe!$B$15*F361","v":0},{"$f":"+Tariffe!$C$15*F361*$F$7","v":0},null,null,null,null,null,null,0]
[null,null,null,null,null,null,null,null,null,{"$f":"+IF(A346>'Tabella ripartizione'!$L$5,0,Tariffe!$E$12*F350/365)","v":0},{"$f":"+IF(A346>'Tabella ripartizione'!$L$5,0,Tariffe!$F$12*F350/365*F351)","v":0},{"$f":"+IF(A346>'Tabella ripartizione'!$L$5,0,Tariffe!$G$12*F350/365*F352)","v":0},null,null,null,{"$f":"+ROUND((J362+K362+L362),2)","v":0}]
[null,null,null,null,null,null,null,null,null,null,null,null,{"$f":"+(Tariffe!$I$3+Tariffe!$J$3+Tariffe!$K$3+Tariffe!$L$3+Tariffe!$M$3)*F353","v":0},{"$f":"+(Tariffe!$I$3+Tariffe!$J$3+Tariffe!$K$3+Tariffe!$L$3+Tariffe!$M$3)*F351*F353","v":0},{"$f":"+(Tariffe!$I$3+Tariffe!$J$3+Tariffe!$K$3+Tariffe!$L$3+Tariffe!$M$3)*F352*F353","v":0},{"$f":"+ROUND(M363+N363+O363,2)","v":0}]
[null,null,null,null,null,null,null,null,null,null,null,null,null,null,null,{"$f":"SUM(P358:P363)","v":0},"Imponibile"]
[null,null,null,null,null,null,null,null,null,null,null,null,null,null,null,{"$f":"+ROUND(P364*0.1,2)","v":0},"IVA (10%)"]
[null,null,null,null,null,null,null,null,null,null,null,null,null,null,null,{"$f":"+P365+P364","v":0},"Totale corrispettivi"]
[]
[]
[{"$f":"+A346+1","v":17},null,null,null,null,null,"Impoto"]
[{"$f":"CONCATENATE(\"Unità commerciale #\",A369)","v":"Unità commerciale #17"},null,null,null,null,null,{"$f":"+P389","v":0}]
["Data inizio periodo consumo",null,null,null,null,{"$f":"+'Tabella ripartizione'!$C$3","v":"00:00:00"}]
["Data fine periodo consumo",null,null,null,null,{"$f":"+'Tabella ripartizione'!$C$4","v":"00:00:00"}]
["Giorni di consumo",null,null,null,null,{"$f":"+F372-F371+1","v":1}]
["Fognatura",null,null,null,null,{"$f":"+'Tabella ripartizione'!$C$6","v":1},"(0 = esente, 1=assoggettato)"]
["Depurazione",null,null,null,null,{"$f":"+'Tabella ripartizione'!$C$7","v":1},"(0 = esente, 1=assoggettato)"]
["Consumo misurato",null,null,null,null,{"$f":"SUMIF('Tabella ripartizione'!$Q:$Q,A370,'Tabella ripartizione'!$R:$R)","v":0}]
[]
["Tariffe TICSI",null,null,null,null,null,null,null,null,2022]
["Commerciale artigianale","Fasce anno (m3)",null,"Fasce pro-die (m3)",null,"mc riarticolati","Importi servizio",null,null,"Importi Quota fissa",null,null,"Importi perequazione"]
[null,"da","a","da","a",{"$f":"++F384+F382+F383+F381","v":0},"Acqua","Fogna","Depurazione","Acqua","Fogna","Depurazione","Acqua","Fogna","Depurazione","Totali"]
[null,0,120,0,{"$f":"+ROUND(C381/365*F373,0)","v":0},{"$f":"+IF(F376>=E381,E381,F376)","v":0},{"$f":"+Tariffe!$A$12*F381","v":0},{"$f":"+Tariffe!$B$12*F381","v":0},{"$f":"+Tariffe!$C$12*F381*$F$7","v":0},null,null,null,null,null,null,{"$f":"+ROUND((G381+H381+I381),2)","v":0}]
[null,{"$f":"+C381+1","v":121},180,{"$f":"+E381","v":0},{"$f":"+ROUND(C382/365*F373,0)","v":0},{"$f":"+IF(F376>=E382,E382-E381,IF(F376>=E381,F376-E381,IF(F376<E381,0)))","v":0},{"$f":"+Tariffe!$A$13*F382","v":0},{"$f":"+Tariffe!$B$13*F382","v":0},{"$f":"+Tariffe!$C$13*F382*$F$7","v":0},null,null,null,null,null,null,0]
[null,181,240,0,{"$f":"+ROUND(C383/365*F373,0)","v":1},{"$f":"+IF(F376>=E383,E383-E382,IF(F376>=E382,F376-E382,IF(F376<E382,0)))","v":0},{"$f":"+Tariffe!$A$14*F383","v":0},{"$f":"+Tariffe!$B$14*F383","v":0},{"$f":"+Tariffe!$C$14*F383*$F$7","v":0},null,null,null,null,null,null,0]
[null,241,999999,1,{"$f":"+ROUND(C384/365*F373,0)","v":2740},{"$f":"+IF(F376>=E384,E384-E383,IF(F376>=E383,F376-E383,IF(F376<E383,0)))","v":0},{"$f":"+Tariffe!$A$15*F384","v":0},{"$f":"+Tariffe!$B$15*F384","v":0},{"$f":"+Tariffe!$C$15*F384*$F$7","v":0},null,null,null,null,null,null,0]
[null,null,null,null,null,null,null,null,null,{"$f":"+IF(A369>'Tabella ripartizione'!$L$5,0,Tariffe!$E$12*F373/365)","v":0},{"$f":"+IF(A369>'Tabella ripartizione'!$L$5,0,Tariffe!$F$12*F373/365*F374)","v":0},{"$f":"+IF(A369>'Tabella ripartizione'!$L$5,0,Tariffe!$G$12*F373/365*F375)","v":0},null,null,null,{"$f":"+ROUND((J385+K385+L385),2)","v":0}]
[null,null,null,null,null,null,null,null,null,null,null,null,{"$f":"+(Tariffe!$I$3+Tariffe!$J$3+Tariffe!$K$3+Tariffe!$L$3+Tariffe!$M$3)*F376","v":0},{"$f":"+(Tariffe!$I$3+Tariffe!$J$3+Tariffe!$K$3+Tariffe!$L$3+Tariffe!$M$3)*F374*F376","v":0},{"$f":"+(Tariffe!$I$3+Tariffe!$J$3+Tariffe!$K$3+Tariffe!$L$3+Tariffe!$M$3)*F375*F376","v":0},{"$f":"+ROUND(M386+N386+O386,2)","v":0}]
[null,null,null,null,null,null,null,null,null,null,null,null,null,null,null,{"$f":"SUM(P381:P386)","v":0},"Imponibile"]
[null,null,null,null,null,null,null,null,null,null,null,null,null,null,null,{"$f":"+ROUND(P387*0.1,2)","v":0},"IVA (10%)"]
[null,null,null,null,null,null,null,null,null,null,null,null,null,null,null,{"$f":"+P388+P387","v":0},"Totale corrispettivi"]
[]
[]
[{"$f":"+A369+1","v":18},null,null,null,null,null,"Impoto"]
[{"$f":"CONCATENATE(\"Unità commerciale #\",A392)","v":"Unità commerciale #18"},null,null,null,null,null,{"$f":"+P412","v":0}]
["Data inizio periodo consumo",null,null,null,null,{"$f":"+'Tabella ripartizione'!$C$3","v":"00:00:00"}]
["Data fine periodo consumo",null,null,null,null,{"$f":"+'Tabella ripartizione'!$C$4","v":"00:00:00"}]
["Giorni di consumo",null,null,null,null,{"$f":"+F395-F394+1","v":1}]
["Fognatura",null,null,null,null,{"$f":"+'Tabella ripartizione'!$C$6","v":1},"(0 = esente, 1=assoggettato)"]
["Depurazione",null,null,null,null,{"$f":"+'Tabella ripartizione'!$C$7","v":1},"(0 = esente, 1=assoggettato)"]
["Consumo misurato",null,null,null,null,{"$f":"SUMIF('Tabella ripartizione'!$Q:$Q,A393,'Tabella ripartizione'!$R:$R)","v":0}]
[]
["Tariffe TICSI",null,null,null,null,null,null,null,null,2022]
["Commerciale artigianale","Fasce anno (m3)",null,"Fasce pro-die (m3)",null,"mc riarticolati","Importi servizio",null,null,"Importi Quota fissa",null,null,"Importi perequazione"]
[null,"da","a","da","a",{"$f":"++F407+F405+F406+F404","v":0},"Acqua","Fogna","Depurazione","Acqua","Fogna","Depurazione","Acqua","Fogna","Depurazione","Totali"]
[null,0,120,0,{"$f":"+ROUND(C404/365*F396,0)","v":0},{"$f":"+IF(F399>=E404,E404,F399)","v":0},{"$f":"+Tariffe!$A$12*F404","v":0},{"$f":"+Tariffe!$B$12*F404","v":0},{"$f":"+Tariffe!$C$12*F404*$F$7","v":0},null,null,null,null,null,null,{"$f":"+ROUND((G404+H404+I404),2)","v":0}]
[null,{"$f":"+C404+1","v":121},180,{"$f":"+E404","v":0},{"$f":"+ROUND(C405/365*F396,0)","v":0},{"$f":"+IF(F399>=E405,E405-E404,IF(F399>=E404,F399-E404,IF(F399<E404,0)))","v":0},{"$f":"+Tariffe!$A$13*F405","v":0},{"$f":"+Tariffe!$B$13*F405","v":0},{"$f":"+Tariffe!$C$13*F405*$F$7","v":0},null,null,null,null,null,null,0]
[null,181,240,0,{"$f":"+ROUND(C406/365*F396,0)","v":1},{"$f":"+IF(F399>=E406,E406-E405,IF(F399>=E405,F399-E405,IF(F399<E405,0)))","v":0},{"$f":"+Tariffe!$A$14*F406","v":0},{"$f":"+Tariffe!$B$14*F406","v":0},{"$f":"+Tariffe!$C$14*F406*$F$7","v":0},null,null,null,null,null,null,0]
[null,241,999999,1,{"$f":"+ROUND(C407/365*F396,0)","v":2740},{"$f":"+IF(F399>=E407,E407-E406,IF(F399>=E406,F399-E406,IF(F399<E406,0)))","v":0},{"$f":"+Tariffe!$A$15*F407","v":0},{"$f":"+Tariffe!$B$15*F407","v":0},{"$f":"+Tariffe!$C$15*F407*$F$7","v":0},null,null,null,null,null,null,0]
[null,null,null,null,null,null,null,null,null,{"$f":"+IF(A392>'Tabella ripartizione'!$L$5,0,Tariffe!$E$12*F396/365)","v":0},{"$f":"+IF(A392>'Tabella ripartizione'!$L$5,0,Tariffe!$F$12*F396/365*F397)","v":0},{"$f":"+IF(A392>'Tabella ripartizione'!$L$5,0,Tariffe!$G$12*F396/365*F398)","v":0},null,null,null,{"$f":"+ROUND((J408+K408+L408),2)","v":0}]
[null,null,null,null,null,null,null,null,null,null,null,null,{"$f":"+(Tariffe!$I$3+Tariffe!$J$3+Tariffe!$K$3+Tariffe!$L$3+Tariffe!$M$3)*F399","v":0},{"$f":"+(Tariffe!$I$3+Tariffe!$J$3+Tariffe!$K$3+Tariffe!$L$3+Tariffe!$M$3)*F397*F399","v":0},{"$f":"+(Tariffe!$I$3+Tariffe!$J$3+Tariffe!$K$3+Tariffe!$L$3+Tariffe!$M$3)*F398*F399","v":0},{"$f":"+ROUND(M409+N409+O409,2)","v":0}]
[null,null,null,null,null,null,null,null,null,null,null,null,null,null,null,{"$f":"SUM(P404:P409)","v":0},"Imponibile"]
[null,null,null,null,null,null,null,null,null,null,null,null,null,null,null,{"$f":"+ROUND(P410*0.1,2)","v":0},"IVA (10%)"]
[null,null,null,null,null,null,null,null,null,null,null,null,null,null,null,{"$f":"+P411+P410","v":0},"Totale corrispettivi"]
[]
[]
[{"$f":"+A392+1","v":19},null,null,null,null,null,"Impoto"]
[{"$f":"CONCATENATE(\"Unità commerciale #\",A415)","v":"Unità commerciale #19"},null,null,null,null,null,{"$f":"+P435","v":0}]
["Data inizio periodo consumo",null,null,null,null,{"$f":"+'Tabella ripartizione'!$C$3","v":"00:00:00"}]
["Data fine periodo consumo",null,null,null,null,{"$f":"+'Tabella ripartizione'!$C$4","v":"00:00:00"}]
["Giorni di consumo",null,null,null,null,{"$f":"+F418-F417+1","v":1}]
["Fognatura",null,null,null,null,{"$f":"+'Tabella ripartizione'!$C$6","v":1},"(0 = esente, 1=assoggettato)"]
["Depurazione",null,null,null,null,{"$f":"+'Tabella ripartizione'!$C$7","v":1},"(0 = esente, 1=assoggettato)"]
["Consumo misurato",null,null,null,null,{"$f":"SUMIF('Tabella ripartizione'!$Q:$Q,A416,'Tabella ripartizione'!$R:$R)","v":0}]
[]
["Tariffe TICSI",null,null,null,null,null,null,null,null,2022]
["Commerciale artigianale","Fasce anno (m3)",null,"Fasce pro-die (m3)",null,"mc riarticolati","Importi servizio",null,null,"Importi Quota fissa",null,null,"Importi perequazione"]
[null,"da","a","da","a",{"$f":"++F430+F428+F429+F427","v":0},"Acqua","Fogna","Depurazione","Acqua","Fogna","Depurazione","Acqua","Fogna","Depurazione","Totali"]
[null,0,120,0,{"$f":"+ROUND(C427/365*F419,0)","v":0},{"$f":"+IF(F422>=E427,E427,F422)","v":0},{"$f":"+Tariffe!$A$12*F427","v":0},{"$f":"+Tariffe!$B$12*F427","v":0},{"$f":"+Tariffe!$C$12*F427*$F$7","v":0},null,null,null,null,null,null,{"$f":"+ROUND((G427+H427+I427),2)","v":0}]
[null,{"$f":"+C427+1","v":121},180,{"$f":"+E427","v":0},{"$f":"+ROUND(C428/365*F419,0)","v":0},{"$f":"+IF(F422>=E428,E428-E427,IF(F422>=E427,F422-E427,IF(F422<E427,0)))","v":0},{"$f":"+Tariffe!$A$13*F428","v":0},{"$f":"+Tariffe!$B$13*F428","v":0},{"$f":"+Tariffe!$C$13*F428*$F$7","v":0},null,null,null,null,null,null,0]
[null,181,240,0,{"$f":"+ROUND(C429/365*F419,0)","v":1},{"$f":"+IF(F422>=E429,E429-E428,IF(F422>=E428,F422-E428,IF(F422<E428,0)))","v":0},{"$f":"+Tariffe!$A$14*F429","v":0},{"$f":"+Tariffe!$B$14*F429","v":0},{"$f":"+Tariffe!$C$14*F429*$F$7","v":0},null,null,null,null,null,null,0]
[null,241,999999,1,{"$f":"+ROUND(C430/365*F419,0)","v":2740},{"$f":"+IF(F422>=E430,E430-E429,IF(F422>=E429,F422-E429,IF(F422<E429,0)))","v":0},{"$f":"+Tariffe!$A$15*F430","v":0},{"$f":"+Tariffe!$B$15*F430","v":0},{"$f":"+Tariffe!$C$15*F430*$F$7","v":0},null,null,null,null,null,null,0]
[null,null,null,null,null,null,null,null,null,{"$f":"+IF(A415>'Tabella ripartizione'!$L$5,0,Tariffe!$E$12*F419/365)","v":0},{"$f":"+IF(A415>'Tabella ripartizione'!$L$5,0,Tariffe!$F$12*F419/365*F420)","v":0},{"$f":"+IF(A415>'Tabella ripartizione'!$L$5,0,Tariffe!$G$12*F419/365*F421)","v":0},null,null,null,{"$f":"+ROUND((J431+K431+L431),2)","v":0}]
[null,null,null,null,null,null,null,null,null,null,null,null,{"$f":"+(Tariffe!$I$3+Tariffe!$J$3+Tariffe!$K$3+Tariffe!$L$3+Tariffe!$M$3)*F422","v":0},{"$f":"+(Tariffe!$I$3+Tariffe!$J$3+Tariffe!$K$3+Tariffe!$L$3+Tariffe!$M$3)*F420*F422","v":0},{"$f":"+(Tariffe!$I$3+Tariffe!$J$3+Tariffe!$K$3+Tariffe!$L$3+Tariffe!$M$3)*F421*F422","v":0},{"$f":"+ROUND(M432+N432+O432,2)","v":0}]
[null,null,null,null,null,null,null,null,null,null,null,null,null,null,null,{"$f":"SUM(P427:P432)","v":0},"Imponibile"]
[null,null,null,null,null,null,null,null,null,null,null,null,null,null,null,{"$f":"+ROUND(P433*0.1,2)","v":0},"IVA (10%)"]
[null,null,null,null,null,null,null,null,null,null,null,null,null,null,null,{"$f":"+P434+P433","v":0},"Totale corrispettivi"]
[]
[]
[{"$f":"+A415+1","v":20},null,null,null,null,null,"Impoto"]
[{"$f":"CONCATENATE(\"Unità commerciale #\",A438)","v":"Unità commerciale #20"},null,null,null,null,null,{"$f":"+P458","v":0}]
["Data inizio periodo consumo",null,null,null,null,{"$f":"+'Tabella ripartizione'!$C$3","v":"00:00:00"}]
["Data fine periodo consumo",null,null,null,null,{"$f":"+'Tabella ripartizione'!$C$4","v":"00:00:00"}]
["Giorni di consumo",null,null,null,null,{"$f":"+F441-F440+1","v":1}]
["Fognatura",null,null,null,null,{"$f":"+'Tabella ripartizione'!$C$6","v":1},"(0 = esente, 1=assoggettato)"]
["Depurazione",null,null,null,null,{"$f":"+'Tabella ripartizione'!$C$7","v":1},"(0 = esente, 1=assoggettato)"]
["Consumo misurato",null,null,null,null,{"$f":"SUMIF('Tabella ripartizione'!$Q:$Q,A439,'Tabella ripartizione'!$R:$R)","v":0}]
[]
["Tariffe TICSI",null,null,null,null,null,null,null,null,2022]
["Commerciale artigianale","Fasce anno (m3)",null,"Fasce pro-die (m3)",null,"mc riarticolati","Importi servizio",null,null,"Importi Quota fissa",null,null,"Importi perequazione"]
[null,"da","a","da","a",{"$f":"++F453+F451+F452+F450","v":0},"Acqua","Fogna","Depurazione","Acqua","Fogna","Depurazione","Acqua","Fogna","Depurazione","Totali"]
[null,0,120,0,{"$f":"+ROUND(C450/365*F442,0)","v":0},{"$f":"+IF(F445>=E450,E450,F445)","v":0},{"$f":"+Tariffe!$A$12*F450","v":0},{"$f":"+Tariffe!$B$12*F450","v":0},{"$f":"+Tariffe!$C$12*F450*$F$7","v":0},null,null,null,null,null,null,{"$f":"+ROUND((G450+H450+I450),2)","v":0}]
[null,{"$f":"+C450+1","v":121},180,{"$f":"+E450","v":0},{"$f":"+ROUND(C451/365*F442,0)","v":0},{"$f":"+IF(F445>=E451,E451-E450,IF(F445>=E450,F445-E450,IF(F445<E450,0)))","v":0},{"$f":"+Tariffe!$A$13*F451","v":0},{"$f":"+Tariffe!$B$13*F451","v":0},{"$f":"+Tariffe!$C$13*F451*$F$7","v":0},null,null,null,null,null,null,0]
[null,181,240,0,{"$f":"+ROUND(C452/365*F442,0)","v":1},{"$f":"+IF(F445>=E452,E452-E451,IF(F445>=E451,F445-E451,IF(F445<E451,0)))","v":0},{"$f":"+Tariffe!$A$14*F452","v":0},{"$f":"+Tariffe!$B$14*F452","v":0},{"$f":"+Tariffe!$C$14*F452*$F$7","v":0},null,null,null,null,null,null,0]
[null,241,999999,1,{"$f":"+ROUND(C453/365*F442,0)","v":2740},{"$f":"+IF(F445>=E453,E453-E452,IF(F445>=E452,F445-E452,IF(F445<E452,0)))","v":0},{"$f":"+Tariffe!$A$15*F453","v":0},{"$f":"+Tariffe!$B$15*F453","v":0},{"$f":"+Tariffe!$C$15*F453*$F$7","v":0},null,null,null,null,null,null,0]
[null,null,null,null,null,null,null,null,null,{"$f":"+IF(A438>'Tabella ripartizione'!$L$5,0,Tariffe!$E$12*F442/365)","v":0},{"$f":"+IF(A438>'Tabella ripartizione'!$L$5,0,Tariffe!$F$12*F442/365*F443)","v":0},{"$f":"+IF(A438>'Tabella ripartizione'!$L$5,0,Tariffe!$G$12*F442/365*F444)","v":0},null,null,null,{"$f":"+ROUND((J454+K454+L454),2)","v":0}]
[null,null,null,null,null,null,null,null,null,null,null,null,{"$f":"+(Tariffe!$I$3+Tariffe!$J$3+Tariffe!$K$3+Tariffe!$L$3+Tariffe!$M$3)*F445","v":0},{"$f":"+(Tariffe!$I$3+Tariffe!$J$3+Tariffe!$K$3+Tariffe!$L$3+Tariffe!$M$3)*F443*F445","v":0},{"$f":"+(Tariffe!$I$3+Tariffe!$J$3+Tariffe!$K$3+Tariffe!$L$3+Tariffe!$M$3)*F444*F445","v":0},{"$f":"+ROUND(M455+N455+O455,2)","v":0}]
[null,null,null,null,null,null,null,null,null,null,null,null,null,null,null,{"$f":"SUM(P450:P455)","v":0},"Imponibile"]
[null,null,null,null,null,null,null,null,null,null,null,null,null,null,null,{"$f":"+ROUND(P456*0.1,2)","v":0},"IVA (10%)"]
[null,null,null,null,null,null,null,null,null,null,null,null,null,null,null,{"$f":"+P457+P456","v":0},"Totale corrispettivi"]
[]
[]
[{"$f":"+A438+1","v":21},null,null,null,null,null,"Impoto"]
[{"$f":"CONCATENATE(\"Unità commerciale #\",A461)","v":"Unità commerciale #21"},null,null,null,null,null,{"$f":"+P481","v":0}]
["Data inizio periodo consumo",null,null,null,null,{"$f":"+'Tabella ripartizione'!$C$3","v":"00:00:00"}]
["Data fine periodo consumo",null,null,null,null,{"$f":"+'Tabella ripartizione'!$C$4","v":"00:00:00"}]
["Giorni di consumo",null,null,null,null,{"$f":"+F464-F463+1","v":1}]
["Fognatura",null,null,null,null,{"$f":"+'Tabella ripartizione'!$C$6","v":1},"(0 = esente, 1=assoggettato)"]
["Depurazione",null,null,null,null,{"$f":"+'Tabella ripartizione'!$C$7","v":1},"(0 = esente, 1=assoggettato)"]
["Consumo misurato",null,null,null,null,{"$f":"SUMIF('Tabella ripartizione'!$Q:$Q,A462,'Tabella ripartizione'!$R:$R)","v":0}]
[]
["Tariffe TICSI",null,null,null,null,null,null,null,null,2022]
["Commerciale artigianale","Fasce anno (m3)",null,"Fasce pro-die (m3)",null,"mc riarticolati","Importi servizio",null,null,"Importi Quota fissa",null,null,"Importi perequazione"]
[null,"da","a","da","a",{"$f":"++F476+F474+F475+F473","v":0},"Acqua","Fogna","Depurazione","Acqua","Fogna","Depurazione","Acqua","Fogna","Depurazione","Totali"]
[null,0,120,0,{"$f":"+ROUND(C473/365*F465,0)","v":0},{"$f":"+IF(F468>=E473,E473,F468)","v":0},{"$f":"+Tariffe!$A$12*F473","v":0},{"$f":"+Tariffe!$B$12*F473","v":0},{"$f":"+Tariffe!$C$12*F473*$F$7","v":0},null,null,null,null,null,null,{"$f":"+ROUND((G473+H473+I473),2)","v":0}]
[null,{"$f":"+C473+1","v":121},180,{"$f":"+E473","v":0},{"$f":"+ROUND(C474/365*F465,0)","v":0},{"$f":"+IF(F468>=E474,E474-E473,IF(F468>=E473,F468-E473,IF(F468<E473,0)))","v":0},{"$f":"+Tariffe!$A$13*F474","v":0},{"$f":"+Tariffe!$B$13*F474","v":0},{"$f":"+Tariffe!$C$13*F474*$F$7","v":0},null,null,null,null,null,null,0]
[null,181,240,0,{"$f":"+ROUND(C475/365*F465,0)","v":1},{"$f":"+IF(F468>=E475,E475-E474,IF(F468>=E474,F468-E474,IF(F468<E474,0)))","v":0},{"$f":"+Tariffe!$A$14*F475","v":0},{"$f":"+Tariffe!$B$14*F475","v":0},{"$f":"+Tariffe!$C$14*F475*$F$7","v":0},null,null,null,null,null,null,0]
[null,241,999999,1,{"$f":"+ROUND(C476/365*F465,0)","v":2740},{"$f":"+IF(F468>=E476,E476-E475,IF(F468>=E475,F468-E475,IF(F468<E475,0)))","v":0},{"$f":"+Tariffe!$A$15*F476","v":0},{"$f":"+Tariffe!$B$15*F476","v":0},{"$f":"+Tariffe!$C$15*F476*$F$7","v":0},null,null,null,null,null,null,0]
[null,null,null,null,null,null,null,null,null,{"$f":"+IF(A461>'Tabella ripartizione'!$L$5,0,Tariffe!$E$12*F465/365)","v":0},{"$f":"+IF(A461>'Tabella ripartizione'!$L$5,0,Tariffe!$F$12*F465/365*F466)","v":0},{"$f":"+IF(A461>'Tabella ripartizione'!$L$5,0,Tariffe!$G$12*F465/365*F467)","v":0},null,null,null,{"$f":"+ROUND((J477+K477+L477),2)","v":0}]
[null,null,null,null,null,null,null,null,null,null,null,null,{"$f":"+(Tariffe!$I$3+Tariffe!$J$3+Tariffe!$K$3+Tariffe!$L$3+Tariffe!$M$3)*F468","v":0},{"$f":"+(Tariffe!$I$3+Tariffe!$J$3+Tariffe!$K$3+Tariffe!$L$3+Tariffe!$M$3)*F466*F468","v":0},{"$f":"+(Tariffe!$I$3+Tariffe!$J$3+Tariffe!$K$3+Tariffe!$L$3+Tariffe!$M$3)*F467*F468","v":0},{"$f":"+ROUND(M478+N478+O478,2)","v":0}]
[null,null,null,null,null,null,null,null,null,null,null,null,null,null,null,{"$f":"SUM(P473:P478)","v":0},"Imponibile"]
[null,null,null,null,null,null,null,null,null,null,null,null,null,null,null,{"$f":"+ROUND(P479*0.1,2)","v":0},"IVA (10%)"]
[null,null,null,null,null,null,null,null,null,null,null,null,null,null,null,{"$f":"+P480+P479","v":0},"Totale corrispettivi"]
[]
[]
[{"$f":"+A461+1","v":22},null,null,null,null,null,"Impoto"]
[{"$f":"CONCATENATE(\"Unità commerciale #\",A484)","v":"Unità commerciale #22"},null,null,null,null,null,{"$f":"+P504","v":0}]
["Data inizio periodo consumo",null,null,null,null,{"$f":"+'Tabella ripartizione'!$C$3","v":"00:00:00"}]
["Data fine periodo consumo",null,null,null,null,{"$f":"+'Tabella ripartizione'!$C$4","v":"00:00:00"}]
["Giorni di consumo",null,null,null,null,{"$f":"+F487-F486+1","v":1}]
["Fognatura",null,null,null,null,{"$f":"+'Tabella ripartizione'!$C$6","v":1},"(0 = esente, 1=assoggettato)"]
["Depurazione",null,null,null,null,{"$f":"+'Tabella ripartizione'!$C$7","v":1},"(0 = esente, 1=assoggettato)"]
["Consumo misurato",null,null,null,null,{"$f":"SUMIF('Tabella ripartizione'!$Q:$Q,A485,'Tabella ripartizione'!$R:$R)","v":0}]
[]
["Tariffe TICSI",null,null,null,null,null,null,null,null,2022]
["Commerciale artigianale","Fasce anno (m3)",null,"Fasce pro-die (m3)",null,"mc riarticolati","Importi servizio",null,null,"Importi Quota fissa",null,null,"Importi perequazione"]
[null,"da","a","da","a",{"$f":"++F499+F497+F498+F496","v":0},"Acqua","Fogna","Depurazione","Acqua","Fogna","Depurazione","Acqua","Fogna","Depurazione","Totali"]
[null,0,120,0,{"$f":"+ROUND(C496/365*F488,0)","v":0},{"$f":"+IF(F491>=E496,E496,F491)","v":0},{"$f":"+Tariffe!$A$12*F496","v":0},{"$f":"+Tariffe!$B$12*F496","v":0},{"$f":"+Tariffe!$C$12*F496*$F$7","v":0},null,null,null,null,null,null,{"$f":"+ROUND((G496+H496+I496),2)","v":0}]
[null,{"$f":"+C496+1","v":121},180,{"$f":"+E496","v":0},{"$f":"+ROUND(C497/365*F488,0)","v":0},{"$f":"+IF(F491>=E497,E497-E496,IF(F491>=E496,F491-E496,IF(F491<E496,0)))","v":0},{"$f":"+Tariffe!$A$13*F497","v":0},{"$f":"+Tariffe!$B$13*F497","v":0},{"$f":"+Tariffe!$C$13*F497*$F$7","v":0},null,null,null,null,null,null,0]
[null,181,240,0,{"$f":"+ROUND(C498/365*F488,0)","v":1},{"$f":"+IF(F491>=E498,E498-E497,IF(F491>=E497,F491-E497,IF(F491<E497,0)))","v":0},{"$f":"+Tariffe!$A$14*F498","v":0},{"$f":"+Tariffe!$B$14*F498","v":0},{"$f":"+Tariffe!$C$14*F498*$F$7","v":0},null,null,null,null,null,null,0]
[null,241,999999,1,{"$f":"+ROUND(C499/365*F488,0)","v":2740},{"$f":"+IF(F491>=E499,E499-E498,IF(F491>=E498,F491-E498,IF(F491<E498,0)))","v":0},{"$f":"+Tariffe!$A$15*F499","v":0},{"$f":"+Tariffe!$B$15*F499","v":0},{"$f":"+Tariffe!$C$15*F499*$F$7","v":0},null,null,null,null,null,null,0]
[null,null,null,null,null,null,null,null,null,{"$f":"+IF(A484>'Tabella ripartizione'!$L$5,0,Tariffe!$E$12*F488/365)","v":0},{"$f":"+IF(A484>'Tabella ripartizione'!$L$5,0,Tariffe!$F$12*F488/365*F489)","v":0},{"$f":"+IF(A484>'Tabella ripartizione'!$L$5,0,Tariffe!$G$12*F488/365*F490)","v":0},null,null,null,{"$f":"+ROUND((J500+K500+L500),2)","v":0}]
[null,null,null,null,null,null,null,null,null,null,null,null,{"$f":"+(Tariffe!$I$3+Tariffe!$J$3+Tariffe!$K$3+Tariffe!$L$3+Tariffe!$M$3)*F491","v":0},{"$f":"+(Tariffe!$I$3+Tariffe!$J$3+Tariffe!$K$3+Tariffe!$L$3+Tariffe!$M$3)*F489*F491","v":0},{"$f":"+(Tariffe!$I$3+Tariffe!$J$3+Tariffe!$K$3+Tariffe!$L$3+Tariffe!$M$3)*F490*F491","v":0},{"$f":"+ROUND(M501+N501+O501,2)","v":0}]
[null,null,null,null,null,null,null,null,null,null,null,null,null,null,null,{"$f":"SUM(P496:P501)","v":0},"Imponibile"]
[null,null,null,null,null,null,null,null,null,null,null,null,null,null,null,{"$f":"+ROUND(P502*0.1,2)","v":0},"IVA (10%)"]
[null,null,null,null,null,null,null,null,null,null,null,null,null,null,null,{"$f":"+P503+P502","v":0},"Totale corrispettivi"]
[]
[]
[{"$f":"+A484+1","v":23},null,null,null,null,null,"Impoto"]
[{"$f":"CONCATENATE(\"Unità commerciale #\",A507)","v":"Unità commerciale #23"},null,null,null,null,null,{"$f":"+P527","v":0}]
["Data inizio periodo consumo",null,null,null,null,{"$f":"+'Tabella ripartizione'!$C$3","v":"00:00:00"}]
["Data fine periodo consumo",null,null,null,null,{"$f":"+'Tabella ripartizione'!$C$4","v":"00:00:00"}]
["Giorni di consumo",null,null,null,null,{"$f":"+F510-F509+1","v":1}]
["Fognatura",null,null,null,null,{"$f":"+'Tabella ripartizione'!$C$6","v":1},"(0 = esente, 1=assoggettato)"]
["Depurazione",null,null,null,null,{"$f":"+'Tabella ripartizione'!$C$7","v":1},"(0 = esente, 1=assoggettato)"]
["Consumo misurato",null,null,null,null,{"$f":"SUMIF('Tabella ripartizione'!$Q:$Q,A508,'Tabella ripartizione'!$R:$R)","v":0}]
[]
["Tariffe TICSI",null,null,null,null,null,null,null,null,2022]
["Commerciale artigianale","Fasce anno (m3)",null,"Fasce pro-die (m3)",null,"mc riarticolati","Importi servizio",null,null,"Importi Quota fissa",null,null,"Importi perequazione"]
[null,"da","a","da","a",{"$f":"++F522+F520+F521+F519","v":0},"Acqua","Fogna","Depurazione","Acqua","Fogna","Depurazione","Acqua","Fogna","Depurazione","Totali"]
[null,0,120,0,{"$f":"+ROUND(C519/365*F511,0)","v":0},{"$f":"+IF(F514>=E519,E519,F514)","v":0},{"$f":"+Tariffe!$A$12*F519","v":0},{"$f":"+Tariffe!$B$12*F519","v":0},{"$f":"+Tariffe!$C$12*F519*$F$7","v":0},null,null,null,null,null,null,{"$f":"+ROUND((G519+H519+I519),2)","v":0}]
[null,{"$f":"+C519+1","v":121},180,{"$f":"+E519","v":0},{"$f":"+ROUND(C520/365*F511,0)","v":0},{"$f":"+IF(F514>=E520,E520-E519,IF(F514>=E519,F514-E519,IF(F514<E519,0)))","v":0},{"$f":"+Tariffe!$A$13*F520","v":0},{"$f":"+Tariffe!$B$13*F520","v":0},{"$f":"+Tariffe!$C$13*F520*$F$7","v":0},null,null,null,null,null,null,0]
[null,181,240,0,{"$f":"+ROUND(C521/365*F511,0)","v":1},{"$f":"+IF(F514>=E521,E521-E520,IF(F514>=E520,F514-E520,IF(F514<E520,0)))","v":0},{"$f":"+Tariffe!$A$14*F521","v":0},{"$f":"+Tariffe!$B$14*F521","v":0},{"$f":"+Tariffe!$C$14*F521*$F$7","v":0},null,null,null,null,null,null,0]
[null,241,999999,1,{"$f":"+ROUND(C522/365*F511,0)","v":2740},{"$f":"+IF(F514>=E522,E522-E521,IF(F514>=E521,F514-E521,IF(F514<E521,0)))","v":0},{"$f":"+Tariffe!$A$15*F522","v":0},{"$f":"+Tariffe!$B$15*F522","v":0},{"$f":"+Tariffe!$C$15*F522*$F$7","v":0},null,null,null,null,null,null,0]
[null,null,null,null,null,null,null,null,null,{"$f":"+IF(A507>'Tabella ripartizione'!$L$5,0,Tariffe!$E$12*F511/365)","v":0},{"$f":"+IF(A507>'Tabella ripartizione'!$L$5,0,Tariffe!$F$12*F511/365*F512)","v":0},{"$f":"+IF(A507>'Tabella ripartizione'!$L$5,0,Tariffe!$G$12*F511/365*F513)","v":0},null,null,null,{"$f":"+ROUND((J523+K523+L523),2)","v":0}]
[null,null,null,null,null,null,null,null,null,null,null,null,{"$f":"+(Tariffe!$I$3+Tariffe!$J$3+Tariffe!$K$3+Tariffe!$L$3+Tariffe!$M$3)*F514","v":0},{"$f":"+(Tariffe!$I$3+Tariffe!$J$3+Tariffe!$K$3+Tariffe!$L$3+Tariffe!$M$3)*F512*F514","v":0},{"$f":"+(Tariffe!$I$3+Tariffe!$J$3+Tariffe!$K$3+Tariffe!$L$3+Tariffe!$M$3)*F513*F514","v":0},{"$f":"+ROUND(M524+N524+O524,2)","v":0}]
[null,null,null,null,null,null,null,null,null,null,null,null,null,null,null,{"$f":"SUM(P519:P524)","v":0},"Imponibile"]
[null,null,null,null,null,null,null,null,null,null,null,null,null,null,null,{"$f":"+ROUND(P525*0.1,2)","v":0},"IVA (10%)"]
[null,null,null,null,null,null,null,null,null,null,null,null,null,null,null,{"$f":"+P526+P525","v":0},"Totale corrispettivi"]
[]
[]
[{"$f":"+A507+1","v":24},null,null,null,null,null,"Impoto"]
[{"$f":"CONCATENATE(\"Unità commerciale #\",A530)","v":"Unità commerciale #24"},null,null,null,null,null,{"$f":"+P550","v":0}]
["Data inizio periodo consumo",null,null,null,null,{"$f":"+'Tabella ripartizione'!$C$3","v":"00:00:00"}]
["Data fine periodo consumo",null,null,null,null,{"$f":"+'Tabella ripartizione'!$C$4","v":"00:00:00"}]
["Giorni di consumo",null,null,null,null,{"$f":"+F533-F532+1","v":1}]
["Fognatura",null,null,null,null,{"$f":"+'Tabella ripartizione'!$C$6","v":1},"(0 = esente, 1=assoggettato)"]
["Depurazione",null,null,null,null,{"$f":"+'Tabella ripartizione'!$C$7","v":1},"(0 = esente, 1=assoggettato)"]
["Consumo misurato",null,null,null,null,{"$f":"SUMIF('Tabella ripartizione'!$Q:$Q,A531,'Tabella ripartizione'!$R:$R)","v":0}]
[]
["Tariffe TICSI",null,null,null,null,null,null,null,null,2022]
["Commerciale artigianale","Fasce anno (m3)",null,"Fasce pro-die (m3)",null,"mc riarticolati","Importi servizio",null,null,"Importi Quota fissa",null,null,"Importi perequazione"]
[null,"da","a","da","a",{"$f":"++F545+F543+F544+F542","v":0},"Acqua","Fogna","Depurazione","Acqua","Fogna","Depurazione","Acqua","Fogna","Depurazione","Totali"]
[null,0,120,0,{"$f":"+ROUND(C542/365*F534,0)","v":0},{"$f":"+IF(F537>=E542,E542,F537)","v":0},{"$f":"+Tariffe!$A$12*F542","v":0},{"$f":"+Tariffe!$B$12*F542","v":0},{"$f":"+Tariffe!$C$12*F542*$F$7","v":0},null,null,null,null,null,null,{"$f":"+ROUND((G542+H542+I542),2)","v":0}]
[null,{"$f":"+C542+1","v":121},180,{"$f":"+E542","v":0},{"$f":"+ROUND(C543/365*F534,0)","v":0},{"$f":"+IF(F537>=E543,E543-E542,IF(F537>=E542,F537-E542,IF(F537<E542,0)))","v":0},{"$f":"+Tariffe!$A$13*F543","v":0},{"$f":"+Tariffe!$B$13*F543","v":0},{"$f":"+Tariffe!$C$13*F543*$F$7","v":0},null,null,null,null,null,null,0]
[null,181,240,0,{"$f":"+ROUND(C544/365*F534,0)","v":1},{"$f":"+IF(F537>=E544,E544-E543,IF(F537>=E543,F537-E543,IF(F537<E543,0)))","v":0},{"$f":"+Tariffe!$A$14*F544","v":0},{"$f":"+Tariffe!$B$14*F544","v":0},{"$f":"+Tariffe!$C$14*F544*$F$7","v":0},null,null,null,null,null,null,0]
[null,241,999999,1,{"$f":"+ROUND(C545/365*F534,0)","v":2740},{"$f":"+IF(F537>=E545,E545-E544,IF(F537>=E544,F537-E544,IF(F537<E544,0)))","v":0},{"$f":"+Tariffe!$A$15*F545","v":0},{"$f":"+Tariffe!$B$15*F545","v":0},{"$f":"+Tariffe!$C$15*F545*$F$7","v":0},null,null,null,null,null,null,0]
[null,null,null,null,null,null,null,null,null,{"$f":"+IF(A530>'Tabella ripartizione'!$L$5,0,Tariffe!$E$12*F534/365)","v":0},{"$f":"+IF(A530>'Tabella ripartizione'!$L$5,0,Tariffe!$F$12*F534/365*F535)","v":0},{"$f":"+IF(A530>'Tabella ripartizione'!$L$5,0,Tariffe!$G$12*F534/365*F536)","v":0},null,null,null,{"$f":"+ROUND((J546+K546+L546),2)","v":0}]
[null,null,null,null,null,null,null,null,null,null,null,null,{"$f":"+(Tariffe!$I$3+Tariffe!$J$3+Tariffe!$K$3+Tariffe!$L$3+Tariffe!$M$3)*F537","v":0},{"$f":"+(Tariffe!$I$3+Tariffe!$J$3+Tariffe!$K$3+Tariffe!$L$3+Tariffe!$M$3)*F535*F537","v":0},{"$f":"+(Tariffe!$I$3+Tariffe!$J$3+Tariffe!$K$3+Tariffe!$L$3+Tariffe!$M$3)*F536*F537","v":0},{"$f":"+ROUND(M547+N547+O547,2)","v":0}]
[null,null,null,null,null,null,null,null,null,null,null,null,null,null,null,{"$f":"SUM(P542:P547)","v":0},"Imponibile"]
[null,null,null,null,null,null,null,null,null,null,null,null,null,null,null,{"$f":"+ROUND(P548*0.1,2)","v":0},"IVA (10%)"]
[null,null,null,null,null,null,null,null,null,null,null,null,null,null,null,{"$f":"+P549+P548","v":0},"Totale corrispettivi"]
[]
[]
[{"$f":"+A530+1","v":25},null,null,null,null,null,"Impoto"]
[{"$f":"CONCATENATE(\"Unità commerciale #\",A553)","v":"Unità commerciale #25"},null,null,null,null,null,{"$f":"+P573","v":0}]
["Data inizio periodo consumo",null,null,null,null,{"$f":"+'Tabella ripartizione'!$C$3","v":"00:00:00"}]
["Data fine periodo consumo",null,null,null,null,{"$f":"+'Tabella ripartizione'!$C$4","v":"00:00:00"}]
["Giorni di consumo",null,null,null,null,{"$f":"+F556-F555+1","v":1}]
["Fognatura",null,null,null,null,{"$f":"+'Tabella ripartizione'!$C$6","v":1},"(0 = esente, 1=assoggettato)"]
["Depurazione",null,null,null,null,{"$f":"+'Tabella ripartizione'!$C$7","v":1},"(0 = esente, 1=assoggettato)"]
["Consumo misurato",null,null,null,null,{"$f":"SUMIF('Tabella ripartizione'!$Q:$Q,A554,'Tabella ripartizione'!$R:$R)","v":0}]
[]
["Tariffe TICSI",null,null,null,null,null,null,null,null,2022]
["Commerciale artigianale","Fasce anno (m3)",null,"Fasce pro-die (m3)",null,"mc riarticolati","Importi servizio",null,null,"Importi Quota fissa",null,null,"Importi perequazione"]
[null,"da","a","da","a",{"$f":"++F568+F566+F567+F565","v":0},"Acqua","Fogna","Depurazione","Acqua","Fogna","Depurazione","Acqua","Fogna","Depurazione","Totali"]
[null,0,120,0,{"$f":"+ROUND(C565/365*F557,0)","v":0},{"$f":"+IF(F560>=E565,E565,F560)","v":0},{"$f":"+Tariffe!$A$12*F565","v":0},{"$f":"+Tariffe!$B$12*F565","v":0},{"$f":"+Tariffe!$C$12*F565*$F$7","v":0},null,null,null,null,null,null,{"$f":"+ROUND((G565+H565+I565),2)","v":0}]
[null,{"$f":"+C565+1","v":121},180,{"$f":"+E565","v":0},{"$f":"+ROUND(C566/365*F557,0)","v":0},{"$f":"+IF(F560>=E566,E566-E565,IF(F560>=E565,F560-E565,IF(F560<E565,0)))","v":0},{"$f":"+Tariffe!$A$13*F566","v":0},{"$f":"+Tariffe!$B$13*F566","v":0},{"$f":"+Tariffe!$C$13*F566*$F$7","v":0},null,null,null,null,null,null,0]
[null,181,240,0,{"$f":"+ROUND(C567/365*F557,0)","v":1},{"$f":"+IF(F560>=E567,E567-E566,IF(F560>=E566,F560-E566,IF(F560<E566,0)))","v":0},{"$f":"+Tariffe!$A$14*F567","v":0},{"$f":"+Tariffe!$B$14*F567","v":0},{"$f":"+Tariffe!$C$14*F567*$F$7","v":0},null,null,null,null,null,null,0]
[null,241,999999,1,{"$f":"+ROUND(C568/365*F557,0)","v":2740},{"$f":"+IF(F560>=E568,E568-E567,IF(F560>=E567,F560-E567,IF(F560<E567,0)))","v":0},{"$f":"+Tariffe!$A$15*F568","v":0},{"$f":"+Tariffe!$B$15*F568","v":0},{"$f":"+Tariffe!$C$15*F568*$F$7","v":0},null,null,null,null,null,null,0]
[null,null,null,null,null,null,null,null,null,{"$f":"+IF(A553>'Tabella ripartizione'!$L$5,0,Tariffe!$E$12*F557/365)","v":0},{"$f":"+IF(A553>'Tabella ripartizione'!$L$5,0,Tariffe!$F$12*F557/365*F558)","v":0},{"$f":"+IF(A553>'Tabella ripartizione'!$L$5,0,Tariffe!$G$12*F557/365*F559)","v":0},null,null,null,{"$f":"+ROUND((J569+K569+L569),2)","v":0}]
[null,null,null,null,null,null,null,null,null,null,null,null,{"$f":"+(Tariffe!$I$3+Tariffe!$J$3+Tariffe!$K$3+Tariffe!$L$3+Tariffe!$M$3)*F560","v":0},{"$f":"+(Tariffe!$I$3+Tariffe!$J$3+Tariffe!$K$3+Tariffe!$L$3+Tariffe!$M$3)*F558*F560","v":0},{"$f":"+(Tariffe!$I$3+Tariffe!$J$3+Tariffe!$K$3+Tariffe!$L$3+Tariffe!$M$3)*F559*F560","v":0},{"$f":"+ROUND(M570+N570+O570,2)","v":0}]
[null,null,null,null,null,null,null,null,null,null,null,null,null,null,null,{"$f":"SUM(P565:P570)","v":0},"Imponibile"]
[null,null,null,null,null,null,null,null,null,null,null,null,null,null,null,{"$f":"+ROUND(P571*0.1,2)","v":0},"IVA (10%)"]
[null,null,null,null,null,null,null,null,null,null,null,null,null,null,null,{"$f":"+P572+P571","v":0},"Totale corrispettivi"]
[]
[]
[{"$f":"+A553+1","v":26},null,null,null,null,null,"Impoto"]
[{"$f":"CONCATENATE(\"Unità commerciale #\",A576)","v":"Unità commerciale #26"},null,null,null,null,null,{"$f":"+P596","v":0}]
["Data inizio periodo consumo",null,null,null,null,{"$f":"+'Tabella ripartizione'!$C$3","v":"00:00:00"}]
["Data fine periodo consumo",null,null,null,null,{"$f":"+'Tabella ripartizione'!$C$4","v":"00:00:00"}]
["Giorni di consumo",null,null,null,null,{"$f":"+F579-F578+1","v":1}]
["Fognatura",null,null,null,null,{"$f":"+'Tabella ripartizione'!$C$6","v":1},"(0 = esente, 1=assoggettato)"]
["Depurazione",null,null,null,null,{"$f":"+'Tabella ripartizione'!$C$7","v":1},"(0 = esente, 1=assoggettato)"]
["Consumo misurato",null,null,null,null,{"$f":"SUMIF('Tabella ripartizione'!$Q:$Q,A577,'Tabella ripartizione'!$R:$R)","v":0}]
[]
["Tariffe TICSI",null,null,null,null,null,null,null,null,2022]
["Commerciale artigianale","Fasce anno (m3)",null,"Fasce pro-die (m3)",null,"mc riarticolati","Importi servizio",null,null,"Importi Quota fissa",null,null,"Importi perequazione"]
[null,"da","a","da","a",{"$f":"++F591+F589+F590+F588","v":0},"Acqua","Fogna","Depurazione","Acqua","Fogna","Depurazione","Acqua","Fogna","Depurazione","Totali"]
[null,0,120,0,{"$f":"+ROUND(C588/365*F580,0)","v":0},{"$f":"+IF(F583>=E588,E588,F583)","v":0},{"$f":"+Tariffe!$A$12*F588","v":0},{"$f":"+Tariffe!$B$12*F588","v":0},{"$f":"+Tariffe!$C$12*F588*$F$7","v":0},null,null,null,null,null,null,{"$f":"+ROUND((G588+H588+I588),2)","v":0}]
[null,{"$f":"+C588+1","v":121},180,{"$f":"+E588","v":0},{"$f":"+ROUND(C589/365*F580,0)","v":0},{"$f":"+IF(F583>=E589,E589-E588,IF(F583>=E588,F583-E588,IF(F583<E588,0)))","v":0},{"$f":"+Tariffe!$A$13*F589","v":0},{"$f":"+Tariffe!$B$13*F589","v":0},{"$f":"+Tariffe!$C$13*F589*$F$7","v":0},null,null,null,null,null,null,0]
[null,181,240,0,{"$f":"+ROUND(C590/365*F580,0)","v":1},{"$f":"+IF(F583>=E590,E590-E589,IF(F583>=E589,F583-E589,IF(F583<E589,0)))","v":0},{"$f":"+Tariffe!$A$14*F590","v":0},{"$f":"+Tariffe!$B$14*F590","v":0},{"$f":"+Tariffe!$C$14*F590*$F$7","v":0},null,null,null,null,null,null,0]
[null,241,999999,1,{"$f":"+ROUND(C591/365*F580,0)","v":2740},{"$f":"+IF(F583>=E591,E591-E590,IF(F583>=E590,F583-E590,IF(F583<E590,0)))","v":0},{"$f":"+Tariffe!$A$15*F591","v":0},{"$f":"+Tariffe!$B$15*F591","v":0},{"$f":"+Tariffe!$C$15*F591*$F$7","v":0},null,null,null,null,null,null,0]
[null,null,null,null,null,null,null,null,null,{"$f":"+IF(A576>'Tabella ripartizione'!$L$5,0,Tariffe!$E$12*F580/365)","v":0},{"$f":"+IF(A576>'Tabella ripartizione'!$L$5,0,Tariffe!$F$12*F580/365*F581)","v":0},{"$f":"+IF(A576>'Tabella ripartizione'!$L$5,0,Tariffe!$G$12*F580/365*F582)","v":0},null,null,null,{"$f":"+ROUND((J592+K592+L592),2)","v":0}]
[null,null,null,null,null,null,null,null,null,null,null,null,{"$f":"+(Tariffe!$I$3+Tariffe!$J$3+Tariffe!$K$3+Tariffe!$L$3+Tariffe!$M$3)*F583","v":0},{"$f":"+(Tariffe!$I$3+Tariffe!$J$3+Tariffe!$K$3+Tariffe!$L$3+Tariffe!$M$3)*F581*F583","v":0},{"$f":"+(Tariffe!$I$3+Tariffe!$J$3+Tariffe!$K$3+Tariffe!$L$3+Tariffe!$M$3)*F582*F583","v":0},{"$f":"+ROUND(M593+N593+O593,2)","v":0}]
[null,null,null,null,null,null,null,null,null,null,null,null,null,null,null,{"$f":"SUM(P588:P593)","v":0},"Imponibile"]
[null,null,null,null,null,null,null,null,null,null,null,null,null,null,null,{"$f":"+ROUND(P594*0.1,2)","v":0},"IVA (10%)"]
[null,null,null,null,null,null,null,null,null,null,null,null,null,null,null,{"$f":"+P595+P594","v":0},"Totale corrispettivi"]
[]
[]
[{"$f":"+A576+1","v":27},null,null,null,null,null,"Impoto"]
[{"$f":"CONCATENATE(\"Unità commerciale #\",A599)","v":"Unità commerciale #27"},null,null,null,null,null,{"$f":"+P619","v":0}]
["Data inizio periodo consumo",null,null,null,null,{"$f":"+'Tabella ripartizione'!$C$3","v":"00:00:00"}]
["Data fine periodo consumo",null,null,null,null,{"$f":"+'Tabella ripartizione'!$C$4","v":"00:00:00"}]
["Giorni di consumo",null,null,null,null,{"$f":"+F602-F601+1","v":1}]
["Fognatura",null,null,null,null,{"$f":"+'Tabella ripartizione'!$C$6","v":1},"(0 = esente, 1=assoggettato)"]
["Depurazione",null,null,null,null,{"$f":"+'Tabella ripartizione'!$C$7","v":1},"(0 = esente, 1=assoggettato)"]
["Consumo misurato",null,null,null,null,{"$f":"SUMIF('Tabella ripartizione'!$Q:$Q,A600,'Tabella ripartizione'!$R:$R)","v":0}]
[]
["Tariffe TICSI",null,null,null,null,null,null,null,null,2022]
["Commerciale artigianale","Fasce anno (m3)",null,"Fasce pro-die (m3)",null,"mc riarticolati","Importi servizio",null,null,"Importi Quota fissa",null,null,"Importi perequazione"]
[null,"da","a","da","a",{"$f":"++F614+F612+F613+F611","v":0},"Acqua","Fogna","Depurazione","Acqua","Fogna","Depurazione","Acqua","Fogna","Depurazione","Totali"]
[null,0,120,0,{"$f":"+ROUND(C611/365*F603,0)","v":0},{"$f":"+IF(F606>=E611,E611,F606)","v":0},{"$f":"+Tariffe!$A$12*F611","v":0},{"$f":"+Tariffe!$B$12*F611","v":0},{"$f":"+Tariffe!$C$12*F611*$F$7","v":0},null,null,null,null,null,null,{"$f":"+ROUND((G611+H611+I611),2)","v":0}]
[null,{"$f":"+C611+1","v":121},180,{"$f":"+E611","v":0},{"$f":"+ROUND(C612/365*F603,0)","v":0},{"$f":"+IF(F606>=E612,E612-E611,IF(F606>=E611,F606-E611,IF(F606<E611,0)))","v":0},{"$f":"+Tariffe!$A$13*F612","v":0},{"$f":"+Tariffe!$B$13*F612","v":0},{"$f":"+Tariffe!$C$13*F612*$F$7","v":0},null,null,null,null,null,null,0]
[null,181,240,0,{"$f":"+ROUND(C613/365*F603,0)","v":1},{"$f":"+IF(F606>=E613,E613-E612,IF(F606>=E612,F606-E612,IF(F606<E612,0)))","v":0},{"$f":"+Tariffe!$A$14*F613","v":0},{"$f":"+Tariffe!$B$14*F613","v":0},{"$f":"+Tariffe!$C$14*F613*$F$7","v":0},null,null,null,null,null,null,0]
[null,241,999999,1,{"$f":"+ROUND(C614/365*F603,0)","v":2740},{"$f":"+IF(F606>=E614,E614-E613,IF(F606>=E613,F606-E613,IF(F606<E613,0)))","v":0},{"$f":"+Tariffe!$A$15*F614","v":0},{"$f":"+Tariffe!$B$15*F614","v":0},{"$f":"+Tariffe!$C$15*F614*$F$7","v":0},null,null,null,null,null,null,0]
[null,null,null,null,null,null,null,null,null,{"$f":"+IF(A599>'Tabella ripartizione'!$L$5,0,Tariffe!$E$12*F603/365)","v":0},{"$f":"+IF(A599>'Tabella ripartizione'!$L$5,0,Tariffe!$F$12*F603/365*F604)","v":0},{"$f":"+IF(A599>'Tabella ripartizione'!$L$5,0,Tariffe!$G$12*F603/365*F605)","v":0},null,null,null,{"$f":"+ROUND((J615+K615+L615),2)","v":0}]
[null,null,null,null,null,null,null,null,null,null,null,null,{"$f":"+(Tariffe!$I$3+Tariffe!$J$3+Tariffe!$K$3+Tariffe!$L$3+Tariffe!$M$3)*F606","v":0},{"$f":"+(Tariffe!$I$3+Tariffe!$J$3+Tariffe!$K$3+Tariffe!$L$3+Tariffe!$M$3)*F604*F606","v":0},{"$f":"+(Tariffe!$I$3+Tariffe!$J$3+Tariffe!$K$3+Tariffe!$L$3+Tariffe!$M$3)*F605*F606","v":0},{"$f":"+ROUND(M616+N616+O616,2)","v":0}]
[null,null,null,null,null,null,null,null,null,null,null,null,null,null,null,{"$f":"SUM(P611:P616)","v":0},"Imponibile"]
[null,null,null,null,null,null,null,null,null,null,null,null,null,null,null,{"$f":"+ROUND(P617*0.1,2)","v":0},"IVA (10%)"]
[null,null,null,null,null,null,null,null,null,null,null,null,null,null,null,{"$f":"+P618+P617","v":0},"Totale corrispettivi"]
[]
[]
[{"$f":"+A599+1","v":28},null,null,null,null,null,"Impoto"]
[{"$f":"CONCATENATE(\"Unità commerciale #\",A622)","v":"Unità commerciale #28"},null,null,null,null,null,{"$f":"+P642","v":0}]
["Data inizio periodo consumo",null,null,null,null,{"$f":"+'Tabella ripartizione'!$C$3","v":"00:00:00"}]
["Data fine periodo consumo",null,null,null,null,{"$f":"+'Tabella ripartizione'!$C$4","v":"00:00:00"}]
["Giorni di consumo",null,null,null,null,{"$f":"+F625-F624+1","v":1}]
["Fognatura",null,null,null,null,{"$f":"+'Tabella ripartizione'!$C$6","v":1},"(0 = esente, 1=assoggettato)"]
["Depurazione",null,null,null,null,{"$f":"+'Tabella ripartizione'!$C$7","v":1},"(0 = esente, 1=assoggettato)"]
["Consumo misurato",null,null,null,null,{"$f":"SUMIF('Tabella ripartizione'!$Q:$Q,A623,'Tabella ripartizione'!$R:$R)","v":0}]
[]
["Tariffe TICSI",null,null,null,null,null,null,null,null,2022]
["Commerciale artigianale","Fasce anno (m3)",null,"Fasce pro-die (m3)",null,"mc riarticolati","Importi servizio",null,null,"Importi Quota fissa",null,null,"Importi perequazione"]
[null,"da","a","da","a",{"$f":"++F637+F635+F636+F634","v":0},"Acqua","Fogna","Depurazione","Acqua","Fogna","Depurazione","Acqua","Fogna","Depurazione","Totali"]
[null,0,120,0,{"$f":"+ROUND(C634/365*F626,0)","v":0},{"$f":"+IF(F629>=E634,E634,F629)","v":0},{"$f":"+Tariffe!$A$12*F634","v":0},{"$f":"+Tariffe!$B$12*F634","v":0},{"$f":"+Tariffe!$C$12*F634*$F$7","v":0},null,null,null,null,null,null,{"$f":"+ROUND((G634+H634+I634),2)","v":0}]
[null,{"$f":"+C634+1","v":121},180,{"$f":"+E634","v":0},{"$f":"+ROUND(C635/365*F626,0)","v":0},{"$f":"+IF(F629>=E635,E635-E634,IF(F629>=E634,F629-E634,IF(F629<E634,0)))","v":0},{"$f":"+Tariffe!$A$13*F635","v":0},{"$f":"+Tariffe!$B$13*F635","v":0},{"$f":"+Tariffe!$C$13*F635*$F$7","v":0},null,null,null,null,null,null,0]
[null,181,240,0,{"$f":"+ROUND(C636/365*F626,0)","v":1},{"$f":"+IF(F629>=E636,E636-E635,IF(F629>=E635,F629-E635,IF(F629<E635,0)))","v":0},{"$f":"+Tariffe!$A$14*F636","v":0},{"$f":"+Tariffe!$B$14*F636","v":0},{"$f":"+Tariffe!$C$14*F636*$F$7","v":0},null,null,null,null,null,null,0]
[null,241,999999,1,{"$f":"+ROUND(C637/365*F626,0)","v":2740},{"$f":"+IF(F629>=E637,E637-E636,IF(F629>=E636,F629-E636,IF(F629<E636,0)))","v":0},{"$f":"+Tariffe!$A$15*F637","v":0},{"$f":"+Tariffe!$B$15*F637","v":0},{"$f":"+Tariffe!$C$15*F637*$F$7","v":0},null,null,null,null,null,null,0]
[null,null,null,null,null,null,null,null,null,{"$f":"+IF(A622>'Tabella ripartizione'!$L$5,0,Tariffe!$E$12*F626/365)","v":0},{"$f":"+IF(A622>'Tabella ripartizione'!$L$5,0,Tariffe!$F$12*F626/365*F627)","v":0},{"$f":"+IF(A622>'Tabella ripartizione'!$L$5,0,Tariffe!$G$12*F626/365*F628)","v":0},null,null,null,{"$f":"+ROUND((J638+K638+L638),2)","v":0}]
[null,null,null,null,null,null,null,null,null,null,null,null,{"$f":"+(Tariffe!$I$3+Tariffe!$J$3+Tariffe!$K$3+Tariffe!$L$3+Tariffe!$M$3)*F629","v":0},{"$f":"+(Tariffe!$I$3+Tariffe!$J$3+Tariffe!$K$3+Tariffe!$L$3+Tariffe!$M$3)*F627*F629","v":0},{"$f":"+(Tariffe!$I$3+Tariffe!$J$3+Tariffe!$K$3+Tariffe!$L$3+Tariffe!$M$3)*F628*F629","v":0},{"$f":"+ROUND(M639+N639+O639,2)","v":0}]
[null,null,null,null,null,null,null,null,null,null,null,null,null,null,null,{"$f":"SUM(P634:P639)","v":0},"Imponibile"]
[null,null,null,null,null,null,null,null,null,null,null,null,null,null,null,{"$f":"+ROUND(P640*0.1,2)","v":0},"IVA (10%)"]
[null,null,null,null,null,null,null,null,null,null,null,null,null,null,null,{"$f":"+P641+P640","v":0},"Totale corrispettivi"]
[]
[]
[{"$f":"+A622+1","v":29},null,null,null,null,null,"Impoto"]
[{"$f":"CONCATENATE(\"Unità commerciale #\",A645)","v":"Unità commerciale #29"},null,null,null,null,null,{"$f":"+P665","v":0}]
["Data inizio periodo consumo",null,null,null,null,{"$f":"+'Tabella ripartizione'!$C$3","v":"00:00:00"}]
["Data fine periodo consumo",null,null,null,null,{"$f":"+'Tabella ripartizione'!$C$4","v":"00:00:00"}]
["Giorni di consumo",null,null,null,null,{"$f":"+F648-F647+1","v":1}]
["Fognatura",null,null,null,null,{"$f":"+'Tabella ripartizione'!$C$6","v":1},"(0 = esente, 1=assoggettato)"]
["Depurazione",null,null,null,null,{"$f":"+'Tabella ripartizione'!$C$7","v":1},"(0 = esente, 1=assoggettato)"]
["Consumo misurato",null,null,null,null,{"$f":"SUMIF('Tabella ripartizione'!$Q:$Q,A646,'Tabella ripartizione'!$R:$R)","v":0}]
[]
["Tariffe TICSI",null,null,null,null,null,null,null,null,2022]
["Commerciale artigianale","Fasce anno (m3)",null,"Fasce pro-die (m3)",null,"mc riarticolati","Importi servizio",null,null,"Importi Quota fissa",null,null,"Importi perequazione"]
[null,"da","a","da","a",{"$f":"++F660+F658+F659+F657","v":0},"Acqua","Fogna","Depurazione","Acqua","Fogna","Depurazione","Acqua","Fogna","Depurazione","Totali"]
[null,0,120,0,{"$f":"+ROUND(C657/365*F649,0)","v":0},{"$f":"+IF(F652>=E657,E657,F652)","v":0},{"$f":"+Tariffe!$A$12*F657","v":0},{"$f":"+Tariffe!$B$12*F657","v":0},{"$f":"+Tariffe!$C$12*F657*$F$7","v":0},null,null,null,null,null,null,{"$f":"+ROUND((G657+H657+I657),2)","v":0}]
[null,{"$f":"+C657+1","v":121},180,{"$f":"+E657","v":0},{"$f":"+ROUND(C658/365*F649,0)","v":0},{"$f":"+IF(F652>=E658,E658-E657,IF(F652>=E657,F652-E657,IF(F652<E657,0)))","v":0},{"$f":"+Tariffe!$A$13*F658","v":0},{"$f":"+Tariffe!$B$13*F658","v":0},{"$f":"+Tariffe!$C$13*F658*$F$7","v":0},null,null,null,null,null,null,0]
[null,181,240,0,{"$f":"+ROUND(C659/365*F649,0)","v":1},{"$f":"+IF(F652>=E659,E659-E658,IF(F652>=E658,F652-E658,IF(F652<E658,0)))","v":0},{"$f":"+Tariffe!$A$14*F659","v":0},{"$f":"+Tariffe!$B$14*F659","v":0},{"$f":"+Tariffe!$C$14*F659*$F$7","v":0},null,null,null,null,null,null,0]
[null,241,999999,1,{"$f":"+ROUND(C660/365*F649,0)","v":2740},{"$f":"+IF(F652>=E660,E660-E659,IF(F652>=E659,F652-E659,IF(F652<E659,0)))","v":0},{"$f":"+Tariffe!$A$15*F660","v":0},{"$f":"+Tariffe!$B$15*F660","v":0},{"$f":"+Tariffe!$C$15*F660*$F$7","v":0},null,null,null,null,null,null,0]
[null,null,null,null,null,null,null,null,null,{"$f":"+IF(A645>'Tabella ripartizione'!$L$5,0,Tariffe!$E$12*F649/365)","v":0},{"$f":"+IF(A645>'Tabella ripartizione'!$L$5,0,Tariffe!$F$12*F649/365*F650)","v":0},{"$f":"+IF(A645>'Tabella ripartizione'!$L$5,0,Tariffe!$G$12*F649/365*F651)","v":0},null,null,null,{"$f":"+ROUND((J661+K661+L661),2)","v":0}]
[null,null,null,null,null,null,null,null,null,null,null,null,{"$f":"+(Tariffe!$I$3+Tariffe!$J$3+Tariffe!$K$3+Tariffe!$L$3+Tariffe!$M$3)*F652","v":0},{"$f":"+(Tariffe!$I$3+Tariffe!$J$3+Tariffe!$K$3+Tariffe!$L$3+Tariffe!$M$3)*F650*F652","v":0},{"$f":"+(Tariffe!$I$3+Tariffe!$J$3+Tariffe!$K$3+Tariffe!$L$3+Tariffe!$M$3)*F651*F652","v":0},{"$f":"+ROUND(M662+N662+O662,2)","v":0}]
[null,null,null,null,null,null,null,null,null,null,null,null,null,null,null,{"$f":"SUM(P657:P662)","v":0},"Imponibile"]
[null,null,null,null,null,null,null,null,null,null,null,null,null,null,null,{"$f":"+ROUND(P663*0.1,2)","v":0},"IVA (10%)"]
[null,null,null,null,null,null,null,null,null,null,null,null,null,null,null,{"$f":"+P664+P663","v":0},"Totale corrispettivi"]
[]
[]
[{"$f":"+A645+1","v":30},null,null,null,null,null,"Impoto"]
[{"$f":"CONCATENATE(\"Unità commerciale #\",A668)","v":"Unità commerciale #30"},null,null,null,null,null,{"$f":"+P688","v":0}]
["Data inizio periodo consumo",null,null,null,null,{"$f":"+'Tabella ripartizione'!$C$3","v":"00:00:00"}]
["Data fine periodo consumo",null,null,null,null,{"$f":"+'Tabella ripartizione'!$C$4","v":"00:00:00"}]
["Giorni di consumo",null,null,null,null,{"$f":"+F671-F670+1","v":1}]
["Fognatura",null,null,null,null,{"$f":"+'Tabella ripartizione'!$C$6","v":1},"(0 = esente, 1=assoggettato)"]
["Depurazione",null,null,null,null,{"$f":"+'Tabella ripartizione'!$C$7","v":1},"(0 = esente, 1=assoggettato)"]
["Consumo misurato",null,null,null,null,{"$f":"SUMIF('Tabella ripartizione'!$Q:$Q,A669,'Tabella ripartizione'!$R:$R)","v":0}]
[]
["Tariffe TICSI",null,null,null,null,null,null,null,null,2022]
["Commerciale artigianale","Fasce anno (m3)",null,"Fasce pro-die (m3)",null,"mc riarticolati","Importi servizio",null,null,"Importi Quota fissa",null,null,"Importi perequazione"]
[null,"da","a","da","a",{"$f":"++F683+F681+F682+F680","v":0},"Acqua","Fogna","Depurazione","Acqua","Fogna","Depurazione","Acqua","Fogna","Depurazione","Totali"]
[null,0,120,0,{"$f":"+ROUND(C680/365*F672,0)","v":0},{"$f":"+IF(F675>=E680,E680,F675)","v":0},{"$f":"+Tariffe!$A$12*F680","v":0},{"$f":"+Tariffe!$B$12*F680","v":0},{"$f":"+Tariffe!$C$12*F680*$F$7","v":0},null,null,null,null,null,null,{"$f":"+ROUND((G680+H680+I680),2)","v":0}]
[null,{"$f":"+C680+1","v":121},180,{"$f":"+E680","v":0},{"$f":"+ROUND(C681/365*F672,0)","v":0},{"$f":"+IF(F675>=E681,E681-E680,IF(F675>=E680,F675-E680,IF(F675<E680,0)))","v":0},{"$f":"+Tariffe!$A$13*F681","v":0},{"$f":"+Tariffe!$B$13*F681","v":0},{"$f":"+Tariffe!$C$13*F681*$F$7","v":0},null,null,null,null,null,null,0]
[null,181,240,0,{"$f":"+ROUND(C682/365*F672,0)","v":1},{"$f":"+IF(F675>=E682,E682-E681,IF(F675>=E681,F675-E681,IF(F675<E681,0)))","v":0},{"$f":"+Tariffe!$A$14*F682","v":0},{"$f":"+Tariffe!$B$14*F682","v":0},{"$f":"+Tariffe!$C$14*F682*$F$7","v":0},null,null,null,null,null,null,0]
[null,241,999999,1,{"$f":"+ROUND(C683/365*F672,0)","v":2740},{"$f":"+IF(F675>=E683,E683-E682,IF(F675>=E682,F675-E682,IF(F675<E682,0)))","v":0},{"$f":"+Tariffe!$A$15*F683","v":0},{"$f":"+Tariffe!$B$15*F683","v":0},{"$f":"+Tariffe!$C$15*F683*$F$7","v":0},null,null,null,null,null,null,0]
[null,null,null,null,null,null,null,null,null,{"$f":"+IF(A668>'Tabella ripartizione'!$L$5,0,Tariffe!$E$12*F672/365)","v":0},{"$f":"+IF(A668>'Tabella ripartizione'!$L$5,0,Tariffe!$F$12*F672/365*F673)","v":0},{"$f":"+IF(A668>'Tabella ripartizione'!$L$5,0,Tariffe!$G$12*F672/365*F674)","v":0},null,null,null,{"$f":"+ROUND((J684+K684+L684),2)","v":0}]
[null,null,null,null,null,null,null,null,null,null,null,null,{"$f":"+(Tariffe!$I$3+Tariffe!$J$3+Tariffe!$K$3+Tariffe!$L$3+Tariffe!$M$3)*F675","v":0},{"$f":"+(Tariffe!$I$3+Tariffe!$J$3+Tariffe!$K$3+Tariffe!$L$3+Tariffe!$M$3)*F673*F675","v":0},{"$f":"+(Tariffe!$I$3+Tariffe!$J$3+Tariffe!$K$3+Tariffe!$L$3+Tariffe!$M$3)*F674*F675","v":0},{"$f":"+ROUND(M685+N685+O685,2)","v":0}]
[null,null,null,null,null,null,null,null,null,null,null,null,null,null,null,{"$f":"SUM(P680:P685)","v":0},"Imponibile"]
[null,null,null,null,null,null,null,null,null,null,null,null,null,null,null,{"$f":"+ROUND(P686*0.1,2)","v":0},"IVA (10%)"]
[null,null,null,null,null,null,null,null,null,null,null,null,null,null,null,{"$f":"+P687+P686","v":0},"Totale corrispettivi"]

{"sheet":"Tariffe","index":4,"n_rows":22,"n_cols":12,"rows_kept":22,"cut":false,"hidden":true,"merged":[[0,8,0,11],[16,0,16,2],[16,4,16,6],[0,0,0,2],[0,4,0,6],[9,0,9,2],[9,4,9,6]]}
["Importi consumo uso domestico",null,null,null,"Importi Quota Fissa uso dom",null,null,null,"Importi perequazione"]
["Acqua","Fogna","Depurazione",null,"Acqua","Fogna","Depurazione",null,"UI1","UI2","UI3","UI4"]
[0.29307795019999999,0.1348429656,0.39659622280000001,null,13.366868,2.4984799999999998,4.9969599999999996,null,4.0000000000000001E-3,8.9999999999999993E-3,1.7899999999999999E-2,4.0000000000000001E-3]
[0.83736557199999995,0.1348429656,{"$f":"+C3","v":0.39659622280000001}]
[1.1304016539213999,0.1348429656,{"$f":"+C4","v":0.39659622280000001}]
[1.4234796041214,0.1348429656,0.39659622280000001]
[1.6091444855731001,0.1348429656,0.39659622280000001]
[]
[]
["Importi consumo uso COMMERCIALE",null,null,null,"Importi Quota Fissa uso NON domestico"]
["Acqua","Fogna","Depurazione",null,"Acqua","Fogna","Depurazione"]
[0.83736557199999995,0.1348429656,0.39659622280000001,null,13.366868,2.4984799999999998,4.9969599999999996]
[1.1304016539213999,0.1348429656,{"$f":"+C12","v":0.39659622280000001}]
[1.4234796041214,0.1348429656,{"$f":"+C13","v":0.39659622280000001}]
[1.6091444855731001,0.1348429656,0.39659622280000001]
[]
["Importi consumo uso dom NR",null,null,null,"Importi Quota Fissa dom NR"]
["Acqua","Fogna","Depurazione",null,"Acqua","Fogna","Depurazione"]
[0.83736557199999995,0.1348429656,0.39659622280000001,null,13.366868,2.4984799999999998,4.9969599999999996]
[1.1304016539213999,0.1348429656,{"$f":"+C19","v":0.39659622280000001}]
[1.4234796041214,0.1348429656,0.39659622280000001]
[1.6091444855731001,0.1348429656,{"$f":"+C21","v":0.39659622280000001}]

{"sheet":"Fasce","index":5,"n_rows":16,"n_cols":6,"rows_kept":16,"cut":false,"hidden":true,"merged":[]}
["Componenti","Fascia_1","Fasscia_2","Fascia_3","Fascia_4","Fascia_5"]
[1,19,29,39,49,99999]
[2,38,58,78,98,99999]
[3,57,87,117,147,99999]
[4,76,116,156,196,99999]
[5,95,145,195,245,99999]
[6,114,174,234,294,99999]
[7,133,203,273,343,99999]
[8,152,232,312,392,99999]
[9,171,261,351,441,99999]
[10,190,290,390,490,99999]
[11,209,319,429,539,99999]
[12,228,348,468,588,99999]
[13,247,377,507,637,99999]
[14,266,406,546,686,99999]
[15,285,435,585,735,99999]